Workbook

Sheet 💉 Calendrier Vaccinal
A1: 💉 SUIVI VACCINATIONS CRÈCHE — Calendrier ONE FWB 2025-2026 — Alertes Automatiques
A3: 🔴 URGENT — Vaccin dû ou dépassé | E3: 🟠 RAPPEL — Échéance dans moins de 30 jours | I3: 🟢 OK — Vaccin administré | M3: ⚪ À planifier — Date non encore atteinte | Q3: 🔵 Contre-indication médicale
A5: N° | B5: Nom | C5: Prénom | D5: Date de naissance | E5: Section | F5: Hexavalent D1 🔴 OBLIGATOIRE (2 mois) | I5: Hexavalent D2 🔴 OBLIGATOIRE (3 mois) | L5: Hexavalent D3 🔴 OBLIGATOIRE (4 mois) | O5: Hexavalent Rappel 🔴 OBLIGATOIRE (15 mois) | R5: Pneumo D1 🔴 OBLIGATOIRE (2 mois) | U5: Pneumo D2 🔴 OBLIGATOIRE (4 mois) | X5: Pneumo Rappel 🔴 OBLIGATOIRE (12 mois) | AA5: Méningo ACWY 🔴 OBLIGATOIRE (15 mois) | AD5: RRO D1 🔴 OBLIGATOIRE (12 mois) | AG5: RRO D2 🔴 OBLIGATOIRE (15 mois) | AJ5: VRS Beyfortus® 🔵 RECOMMANDÉ (Saison hivernale) | AM5: Rotavirus D1 🔵 RECOMMANDÉ (2 mois) | AP5: Rotavirus D2 🔵 RECOMMANDÉ (3 mois) | AS5: Observations / Contre-indications
F6: 📅 Date prévue (auto) | G6: ✅ Date réelle admin. | H6: ⚡ Alerte automatique | I6: 📅 Date prévue (auto) | J6: ✅ Date réelle admin. | K6: ⚡ Alerte automatique | L6: 📅 Date prévue (auto) | M6: ✅ Date réelle admin. | N6: ⚡ Alerte automatique | O6: 📅 Date prévue (auto) | P6: ✅ Date réelle admin. | Q6: ⚡ Alerte automatique | R6: 📅 Date prévue (auto) | S6: ✅ Date réelle admin. | T6: ⚡ Alerte automatique | U6: 📅 Date prévue (auto) | V6: ✅ Date réelle admin. | W6: ⚡ Alerte automatique | X6: 📅 Date prévue (auto) | Y6: ✅ Date réelle admin. | Z6: ⚡ Alerte automatique | AA6: 📅 Date prévue (auto) | AB6: ✅ Date réelle admin. | AC6: ⚡ Alerte automatique | AD6: 📅 Date prévue (auto) | AE6: ✅ Date réelle admin. | AF6: ⚡ Alerte automatique | AG6: 📅 Date prévue (auto) | AH6: ✅ Date réelle admin. | AI6: ⚡ Alerte automatique | AJ6: 📅 Date prévue (auto) | AK6: ✅ Date réelle admin. | AL6: ⚡ Alerte automatique | AM6: 📅 Date prévue (auto) | AN6: ✅ Date réelle admin. | AO6: ⚡ Alerte automatique | AP6: 📅 Date prévue (auto) | AQ6: ✅ Date réelle admin. | AR6: ⚡ Alerte automatique | AS6: Notes
A7: 1 | F7: =IF(D7="","",EDATE(D7,2)) | H7: =IF(G7<>"","✅ Administré le "&TEXT(G7,"DD/MM/YY"),IF(F7="","⚪ Saisir date naissance",IF(TODAY()>F7,"🔴 URGENT — Dû depuis "&TEXT(TODAY()-F7,"0")&" j",IF(TODAY()>=F7-30,"🟠 RAPPEL — Dans "&TEXT(F7-TODAY(),"0")&" j","⚪ Prévu le "&TEXT(F7,"DD/MM/YY"))))) -> ⚪ Saisir date naissance | I7: =IF(D7="","",EDATE(D7,3)) | K7: =IF(J7<>"","✅ Administré le "&TEXT(J7,"DD/MM/YY"),IF(I7="","⚪ Saisir date naissance",IF(TODAY()>I7,"🔴 URGENT — Dû depuis "&TEXT(TODAY()-I7,"0")&" j",IF(TODAY()>=I7-30,"🟠 RAPPEL — Dans "&TEXT(I7-TODAY(),"0")&" j","⚪ Prévu le "&TEXT(I7,"DD/MM/YY"))))) -> ⚪ Saisir date naissance | L7: =IF(D7="","",EDATE(D7,4)) | N7: =IF(M7<>"","✅ Administré le "&TEXT(M7,"DD/MM/YY"),IF(L7="","⚪ Saisir date naissance",IF(TODAY()>L7,"🔴 URGENT — Dû depuis "&TEXT(TODAY()-L7,"0")&" j",IF(TODAY()>=L7-30,"🟠 RAPPEL — Dans "&TEXT(L7-TODAY(),"0")&" j","⚪ Prévu le "&TEXT(L7,"DD/MM/YY"))))) -> ⚪ Saisir date naissance | O7: =IF(D7="","",EDATE(D7,15)) | Q7: =IF(P7<>"","✅ Administré le "&TEXT(P7,"DD/MM/YY"),IF(O7="","⚪ Saisir date naissance",IF(TODAY()>O7,"🔴 URGENT — Dû depuis "&TEXT(TODAY()-O7,"0")&" j",IF(TODAY()>=O7-30,"🟠 RAPPEL — Dans "&TEXT(O7-TODAY(),"0")&" j","⚪ Prévu le "&TEXT(O7,"DD/MM/YY"))))) -> ⚪ Saisir date naissance | R7: =IF(D7="","",EDATE(D7,2)) | T7: =IF(S7<>"","✅ Administré le "&TEXT(S7,"DD/MM/YY"),IF(R7="","⚪ Saisir date naissance",IF(TODAY()>R7,"🔴 URGENT — Dû depuis "&TEXT(TODAY()-R7,"0")&" j",IF(TODAY()>=R7-30,"🟠 RAPPEL — Dans "&TEXT(R7-TODAY(),"0")&" j","⚪ Prévu le "&TEXT(R7,"DD/MM/YY"))))) -> ⚪ Saisir date naissance | U7: =IF(D7="","",EDATE(D7,4)) | V7: 46011 | W7: =IF(V7<>"","✅ Administré le "&TEXT(V7,"DD/MM/YY"),IF(U7="","⚪ Saisir date naissance",IF(TODAY()>U7,"🔴 URGENT — Dû depuis "&TEXT(TODAY()-U7,"0")&" j",IF(TODAY()>=U7-30,"🟠 RAPPEL — Dans "&TEXT(U7-TODAY(),"0")&" j","⚪ Prévu le "&TEXT(U7,"DD/MM/YY"))))) -> #VALUE! | Z7: =IF(Y7<>"","✅ Administré le "&TEXT(Y7,"DD/MM/YY"),IF(X7="","⚪ Saisir date naissance",IF(TODAY()>X7,"🔴 URGENT — Dû depuis "&TEXT(TODAY()-X7,"0")&" j",IF(TODAY()>=X7-30,"🟠 RAPPEL — Dans "&TEXT(X7-TODAY(),"0")&" j","⚪ Prévu le "&TEXT(X7,"DD/MM/YY"))))) -> ⚪ Saisir date naissance | AC7: =IF(AB7<>"","✅ Administré le "&TEXT(AB7,"DD/MM/YY"),IF(AA7="","⚪ Saisir date naissance",IF(TODAY()>AA7,"🔴 URGENT — Dû depuis "&TEXT(TODAY()-AA7,"0")&" j",IF(TODAY()>=AA7-30,"🟠 RAPPEL — Dans "&TEXT(AA7-TODAY(),"0")&" j","⚪ Prévu le "&TEXT(AA7,"DD/MM/YY"))))) -> ⚪ Saisir date naissance | AF7: =IF(AE7<>"","✅ Administré le "&TEXT(AE7,"DD/MM/YY"),IF(AD7="","⚪ Saisir date naissance",IF(TODAY()>AD7,"🔴 URGENT — Dû depuis "&TEXT(TODAY()-AD7,"0")&" j",IF(TODAY()>=AD7-30,"🟠 RAPPEL — Dans "&TEXT(AD7-TODAY(),"0")&" j","⚪ Prévu le "&TEXT(AD7,"DD/MM/YY"))))) -> ⚪ Saisir date naissance | AI7: =IF(AH7<>"","✅ Administré le "&TEXT(AH7,"DD/MM/YY"),IF(AG7="","⚪ Saisir date naissance",IF(TODAY()>AG7,"🔴 URGENT — Dû depuis "&TEXT(TODAY()-AG7,"0")&" j",IF(TODAY()>=AG7-30,"🟠 RAPPEL — Dans "&TEXT(AG7-TODAY(),"0")&" j","⚪ Prévu le "&TEXT(AG7,"DD/MM/YY"))))) -> ⚪ Saisir date naissance | AJ7: Saison hivernale | AL7: =IF(AK7<>"","✅ Administré","📋 À planifier") -> 📋 À planifier | AO7: =IF(AN7<>"","✅ Administré le "&TEXT(AN7,"DD/MM/YY"),IF(AM7="","⚪ Saisir date naissance",IF(TODAY()>AM7,"🔴 URGENT — Dû depuis "&TEXT(TODAY()-AM7,"0")&" j",IF(TODAY()>=AM7-30,"🟠 RAPPEL — Dans "&TEXT(AM7-TODAY(),"0")&" j","⚪ Prévu le "&TEXT(AM7,"DD/MM/YY"))))) -> ⚪ Saisir date naissance | AR7: =IF(AQ7<>"","✅ Administré le "&TEXT(AQ7,"DD/MM/YY"),IF(AP7="","⚪ Saisir date naissance",IF(TODAY()>AP7,"🔴 URGENT — Dû depuis "&TEXT(TODAY()-AP7,"0")&" j",IF(TODAY()>=AP7-30,"🟠 RAPPEL — Dans "&TEXT(AP7-TODAY(),"0")&" j","⚪ Prévu le "&TEXT(AP7,"DD/MM/YY"))))) -> ⚪ Saisir date naissance
A8: 2 | F8: =IF(D8="","",EDATE(D8,2)) | H8: =IF(G8<>"","✅ Administré le "&TEXT(G8,"DD/MM/YY"),IF(F8="","⚪ Saisir date naissance",IF(TODAY()>F8,"🔴 URGENT — Dû depuis "&TEXT(TODAY()-F8,"0")&" j",IF(TODAY()>=F8-30,"🟠 RAPPEL — Dans "&TEXT(F8-TODAY(),"0")&" j","⚪ Prévu le "&TEXT(F8,"DD/MM/YY"))))) -> ⚪ Saisir date naissance | I8: =IF(D8="","",EDATE(D8,3)) | K8: =IF(J8<>"","✅ Administré le "&TEXT(J8,"DD/MM/YY"),IF(I8="","⚪ Saisir date naissance",IF(TODAY()>I8,"🔴 URGENT — Dû depuis "&TEXT(TODAY()-I8,"0")&" j",IF(TODAY()>=I8-30,"🟠 RAPPEL — Dans "&TEXT(I8-TODAY(),"0")&" j","⚪ Prévu le "&TEXT(I8,"DD/MM/YY"))))) -> ⚪ Saisir date naissance | L8: =IF(D8="","",EDATE(D8,4)) | N8: =IF(M8<>"","✅ Administré le "&TEXT(M8,"DD/MM/YY"),IF(L8="","⚪ Saisir date naissance",IF(TODAY()>L8,"🔴 URGENT — Dû depuis "&TEXT(TODAY()-L8,"0")&" j",IF(TODAY()>=L8-30,"🟠 RAPPEL — Dans "&TEXT(L8-TODAY(),"0")&" j","⚪ Prévu le "&TEXT(L8,"DD/MM/YY"))))) -> ⚪ Saisir date naissance | O8: =IF(D8="","",EDATE(D8,15)) | Q8: =IF(P8<>"","✅ Administré le "&TEXT(P8,"DD/MM/YY"),IF(O8="","⚪ Saisir date naissance",IF(TODAY()>O8,"🔴 URGENT — Dû depuis "&TEXT(TODAY()-O8,"0")&" j",IF(TODAY()>=O8-30,"🟠 RAPPEL — Dans "&TEXT(O8-TODAY(),"0")&" j","⚪ Prévu le "&TEXT(O8,"DD/MM/YY"))))) -> ⚪ Saisir date naissance | R8: =IF(D8="","",EDATE(D8,2)) | T8: =IF(S8<>"","✅ Administré le "&TEXT(S8,"DD/MM/YY"),IF(R8="","⚪ Saisir date naissance",IF(TODAY()>R8,"🔴 URGENT — Dû depuis "&TEXT(TODAY()-R8,"0")&" j",IF(TODAY()>=R8-30,"🟠 RAPPEL — Dans "&TEXT(R8-TODAY(),"0")&" j","⚪ Prévu le "&TEXT(R8,"DD/MM/YY"))))) -> ⚪ Saisir date naissance | U8: =IF(D8="","",EDATE(D8,4)) | W8: =IF(V8<>"","✅ Administré le "&TEXT(V8,"DD/MM/YY"),IF(U8="","⚪ Saisir date naissance",IF(TODAY()>U8,"🔴 URGENT — Dû depuis "&TEXT(TODAY()-U8,"0")&" j",IF(TODAY()>=U8-30,"🟠 RAPPEL — Dans "&TEXT(U8-TODAY(),"0")&" j","⚪ Prévu le "&TEXT(U8,"DD/MM/YY"))))) -> ⚪ Saisir date naissance | X8: =IF(D8="","",EDATE(D8,12)) | Z8: =IF(Y8<>"","✅ Administré le "&TEXT(Y8,"DD/MM/YY"),IF(X8="","⚪ Saisir date naissance",IF(TODAY()>X8,"🔴 URGENT — Dû depuis "&TEXT(TODAY()-X8,"0")&" j",IF(TODAY()>=X8-30,"🟠 RAPPEL — Dans "&TEXT(X8-TODAY(),"0")&" j","⚪ Prévu le "&TEXT(X8,"DD/MM/YY"))))) -> ⚪ Saisir date naissance | AA8: =IF(D8="","",EDATE(D8,15)) | AC8: =IF(AB8<>"","✅ Administré le "&TEXT(AB8,"DD/MM/YY"),IF(AA8="","⚪ Saisir date naissance",IF(TODAY()>AA8,"🔴 URGENT — Dû depuis "&TEXT(TODAY()-AA8,"0")&" j",IF(TODAY()>=AA8-30,"🟠 RAPPEL — Dans "&TEXT(AA8-TODAY(),"0")&" j","⚪ Prévu le "&TEXT(AA8,"DD/MM/YY"))))) -> ⚪ Saisir date naissance | AD8: =IF(D8="","",EDATE(D8,12)) | AF8: =IF(AE8<>"","✅ Administré le "&TEXT(AE8,"DD/MM/YY"),IF(AD8="","⚪ Saisir date naissance",IF(TODAY()>AD8,"🔴 URGENT — Dû depuis "&TEXT(TODAY()-AD8,"0")&" j",IF(TODAY()>=AD8-30,"🟠 RAPPEL — Dans "&TEXT(AD8-TODAY(),"0")&" j","⚪ Prévu le "&TEXT(AD8,"DD/MM/YY"))))) -> ⚪ Saisir date naissance | AG8: =IF(D8="","",EDATE(D8,15)) | AI8: =IF(AH8<>"","✅ Administré le "&TEXT(AH8,"DD/MM/YY"),IF(AG8="","⚪ Saisir date naissance",IF(TODAY()>AG8,"🔴 URGENT — Dû depuis "&TEXT(TODAY()-AG8,"0")&" j",IF(TODAY()>=AG8-30,"🟠 RAPPEL — Dans "&TEXT(AG8-TODAY(),"0")&" j","⚪ Prévu le "&TEXT(AG8,"DD/MM/YY"))))) -> ⚪ Saisir date naissance | AJ8: Saison hivernale | AL8: =IF(AK8<>"","✅ Administré","📋 À planifier") -> 📋 À planifier | AM8: =IF(D8="","",EDATE(D8,2)) | AO8: =IF(AN8<>"","✅ Administré le "&TEXT(AN8,"DD/MM/YY"),IF(AM8="","⚪ Saisir date naissance",IF(TODAY()>AM8,"🔴 URGENT — Dû depuis "&TEXT(TODAY()-AM8,"0")&" j",IF(TODAY()>=AM8-30,"🟠 RAPPEL — Dans "&TEXT(AM8-TODAY(),"0")&" j","⚪ Prévu le "&TEXT(AM8,"DD/MM/YY"))))) -> ⚪ Saisir date naissance | AP8: =IF(D8="","",EDATE(D8,3)) | AR8: =IF(AQ8<>"","✅ Administré le "&TEXT(AQ8,"DD/MM/YY"),IF(AP8="","⚪ Saisir date naissance",IF(TODAY()>AP8,"🔴 URGENT — Dû depuis "&TEXT(TODAY()-AP8,"0")&" j",IF(TODAY()>=AP8-30,"🟠 RAPPEL — Dans "&TEXT(AP8-TODAY(),"0")&" j","⚪ Prévu le "&TEXT(AP8,"DD/MM/YY"))))) -> ⚪ Saisir date naissance
A9: 3 | F9: =IF(D9="","",EDATE(D9,2)) | H9: =IF(G9<>"","✅ Administré le "&TEXT(G9,"DD/MM/YY"),IF(F9="","⚪ Saisir date naissance",IF(TODAY()>F9,"🔴 URGENT — Dû depuis "&TEXT(TODAY()-F9,"0")&" j",IF(TODAY()>=F9-30,"🟠 RAPPEL — Dans "&TEXT(F9-TODAY(),"0")&" j","⚪ Prévu le "&TEXT(F9,"DD/MM/YY"))))) -> ⚪ Saisir date naissance | I9: =IF(D9="","",EDATE(D9,3)) | K9: =IF(J9<>"","✅ Administré le "&TEXT(J9,"DD/MM/YY"),IF(I9="","⚪ Saisir date naissance",IF(TODAY()>I9,"🔴 URGENT — Dû depuis "&TEXT(TODAY()-I9,"0")&" j",IF(TODAY()>=I9-30,"🟠 RAPPEL — Dans "&TEXT(I9-TODAY(),"0")&" j","⚪ Prévu le "&TEXT(I9,"DD/MM/YY"))))) -> ⚪ Saisir date naissance | L9: =IF(D9="","",EDATE(D9,4)) | N9: =IF(M9<>"","✅ Administré le "&TEXT(M9,"DD/MM/YY"),IF(L9="","⚪ Saisir date naissance",IF(TODAY()>L9,"🔴 URGENT — Dû depuis "&TEXT(TODAY()-L9,"0")&" j",IF(TODAY()>=L9-30,"🟠 RAPPEL — Dans "&TEXT(L9-TODAY(),"0")&" j","⚪ Prévu le "&TEXT(L9,"DD/MM/YY"))))) -> ⚪ Saisir date naissance | O9: =IF(D9="","",EDATE(D9,15)) | Q9: =IF(P9<>"","✅ Administré le "&TEXT(P9,"DD/MM/YY"),IF(O9="","⚪ Saisir date naissance",IF(TODAY()>O9,"🔴 URGENT — Dû depuis "&TEXT(TODAY()-O9,"0")&" j",IF(TODAY()>=O9-30,"🟠 RAPPEL — Dans "&TEXT(O9-TODAY(),"0")&" j","⚪ Prévu le "&TEXT(O9,"DD/MM/YY"))))) -> ⚪ Saisir date naissance | R9: =IF(D9="","",EDATE(D9,2)) | T9: =IF(S9<>"","✅ Administré le "&TEXT(S9,"DD/MM/YY"),IF(R9="","⚪ Saisir date naissance",IF(TODAY()>R9,"🔴 URGENT — Dû depuis "&TEXT(TODAY()-R9,"0")&" j",IF(TODAY()>=R9-30,"🟠 RAPPEL — Dans "&TEXT(R9-TODAY(),"0")&" j","⚪ Prévu le "&TEXT(R9,"DD/MM/YY"))))) -> ⚪ Saisir date naissance | U9: =IF(D9="","",EDATE(D9,4)) | W9: =IF(V9<>"","✅ Administré le "&TEXT(V9,"DD/MM/YY"),IF(U9="","⚪ Saisir date naissance",IF(TODAY()>U9,"🔴 URGENT — Dû depuis "&TEXT(TODAY()-U9,"0")&" j",IF(TODAY()>=U9-30,"🟠 RAPPEL — Dans "&TEXT(U9-TODAY(),"0")&" j","⚪ Prévu le "&TEXT(U9,"DD/MM/YY"))))) -> ⚪ Saisir date naissance | X9: =IF(D9="","",EDATE(D9,12)) | Z9: =IF(Y9<>"","✅ Administré le "&TEXT(Y9,"DD/MM/YY"),IF(X9="","⚪ Saisir date naissance",IF(TODAY()>X9,"🔴 URGENT — Dû depuis "&TEXT(TODAY()-X9,"0")&" j",IF(TODAY()>=X9-30,"🟠 RAPPEL — Dans "&TEXT(X9-TODAY(),"0")&" j","⚪ Prévu le "&TEXT(X9,"DD/MM/YY"))))) -> ⚪ Saisir date naissance | AA9: =IF(D9="","",EDATE(D9,15)) | AC9: =IF(AB9<>"","✅ Administré le "&TEXT(AB9,"DD/MM/YY"),IF(AA9="","⚪ Saisir date naissance",IF(TODAY()>AA9,"🔴 URGENT — Dû depuis "&TEXT(TODAY()-AA9,"0")&" j",IF(TODAY()>=AA9-30,"🟠 RAPPEL — Dans "&TEXT(AA9-TODAY(),"0")&" j","⚪ Prévu le "&TEXT(AA9,"DD/MM/YY"))))) -> ⚪ Saisir date naissance | AD9: =IF(D9="","",EDATE(D9,12)) | AF9: =IF(AE9<>"","✅ Administré le "&TEXT(AE9,"DD/MM/YY"),IF(AD9="","⚪ Saisir date naissance",IF(TODAY()>AD9,"🔴 URGENT — Dû depuis "&TEXT(TODAY()-AD9,"0")&" j",IF(TODAY()>=AD9-30,"🟠 RAPPEL — Dans "&TEXT(AD9-TODAY(),"0")&" j","⚪ Prévu le "&TEXT(AD9,"DD/MM/YY"))))) -> ⚪ Saisir date naissance | AG9: =IF(D9="","",EDATE(D9,15)) | AI9: =IF(AH9<>"","✅ Administré le "&TEXT(AH9,"DD/MM/YY"),IF(AG9="","⚪ Saisir date naissance",IF(TODAY()>AG9,"🔴 URGENT — Dû depuis "&TEXT(TODAY()-AG9,"0")&" j",IF(TODAY()>=AG9-30,"🟠 RAPPEL — Dans "&TEXT(AG9-TODAY(),"0")&" j","⚪ Prévu le "&TEXT(AG9,"DD/MM/YY"))))) -> ⚪ Saisir date naissance | AJ9: Saison hivernale | AL9: =IF(AK9<>"","✅ Administré","📋 À planifier") -> 📋 À planifier | AM9: =IF(D9="","",EDATE(D9,2)) | AO9: =IF(AN9<>"","✅ Administré le "&TEXT(AN9,"DD/MM/YY"),IF(AM9="","⚪ Saisir date naissance",IF(TODAY()>AM9,"🔴 URGENT — Dû depuis "&TEXT(TODAY()-AM9,"0")&" j",IF(TODAY()>=AM9-30,"🟠 RAPPEL — Dans "&TEXT(AM9-TODAY(),"0")&" j","⚪ Prévu le "&TEXT(AM9,"DD/MM/YY"))))) -> ⚪ Saisir date naissance | AP9: =IF(D9="","",EDATE(D9,3)) | AR9: =IF(AQ9<>"","✅ Administré le "&TEXT(AQ9,"DD/MM/YY"),IF(AP9="","⚪ Saisir date naissance",IF(TODAY()>AP9,"🔴 URGENT — Dû depuis "&TEXT(TODAY()-AP9,"0")&" j",IF(TODAY()>=AP9-30,"🟠 RAPPEL — Dans "&TEXT(AP9-TODAY(),"0")&" j","⚪ Prévu le "&TEXT(AP9,"DD/MM/YY"))))) -> ⚪ Saisir date naissance
A10: 4 | F10: =IF(D10="","",EDATE(D10,2)) | H10: =IF(G10<>"","✅ Administré le "&TEXT(G10,"DD/MM/YY"),IF(F10="","⚪ Saisir date naissance",IF(TODAY()>F10,"🔴 URGENT — Dû depuis "&TEXT(TODAY()-F10,"0")&" j",IF(TODAY()>=F10-30,"🟠 RAPPEL — Dans "&TEXT(F10-TODAY(),"0")&" j","⚪ Prévu le "&TEXT(F10,"DD/MM/YY"))))) -> ⚪ Saisir date naissance | I10: =IF(D10="","",EDATE(D10,3)) | K10: =IF(J10<>"","✅ Administré le "&TEXT(J10,"DD/MM/YY"),IF(I10="","⚪ Saisir date naissance",IF(TODAY()>I10,"🔴 URGENT — Dû depuis "&TEXT(TODAY()-I10,"0")&" j",IF(TODAY()>=I10-30,"🟠 RAPPEL — Dans "&TEXT(I10-TODAY(),"0")&" j","⚪ Prévu le "&TEXT(I10,"DD/MM/YY"))))) -> ⚪ Saisir date naissance | L10: =IF(D10="","",EDATE(D10,4)) | N10: =IF(M10<>"","✅ Administré le "&TEXT(M10,"DD/MM/YY"),IF(L10="","⚪ Saisir date naissance",IF(TODAY()>L10,"🔴 URGENT — Dû depuis "&TEXT(TODAY()-L10,"0")&" j",IF(TODAY()>=L10-30,"🟠 RAPPEL — Dans "&TEXT(L10-TODAY(),"0")&" j","⚪ Prévu le "&TEXT(L10,"DD/MM/YY"))))) -> ⚪ Saisir date naissance | O10: =IF(D10="","",EDATE(D10,15)) | Q10: =IF(P10<>"","✅ Administré le "&TEXT(P10,"DD/MM/YY"),IF(O10="","⚪ Saisir date naissance",IF(TODAY()>O10,"🔴 URGENT — Dû depuis "&TEXT(TODAY()-O10,"0")&" j",IF(TODAY()>=O10-30,"🟠 RAPPEL — Dans "&TEXT(O10-TODAY(),"0")&" j","⚪ Prévu le "&TEXT(O10,"DD/MM/YY"))))) -> ⚪ Saisir date naissance | R10: =IF(D10="","",EDATE(D10,2)) | T10: =IF(S10<>"","✅ Administré le "&TEXT(S10,"DD/MM/YY"),IF(R10="","⚪ Saisir date naissance",IF(TODAY()>R10,"🔴 URGENT — Dû depuis "&TEXT(TODAY()-R10,"0")&" j",IF(TODAY()>=R10-30,"🟠 RAPPEL — Dans "&TEXT(R10-TODAY(),"0")&" j","⚪ Prévu le "&TEXT(R10,"DD/MM/YY"))))) -> ⚪ Saisir date naissance | U10: =IF(D10="","",EDATE(D10,4)) | W10: =IF(V10<>"","✅ Administré le "&TEXT(V10,"DD/MM/YY"),IF(U10="","⚪ Saisir date naissance",IF(TODAY()>U10,"🔴 URGENT — Dû depuis "&TEXT(TODAY()-U10,"0")&" j",IF(TODAY()>=U10-30,"🟠 RAPPEL — Dans "&TEXT(U10-TODAY(),"0")&" j","⚪ Prévu le "&TEXT(U10,"DD/MM/YY"))))) -> ⚪ Saisir date naissance | X10: =IF(D10="","",EDATE(D10,12)) | Z10: =IF(Y10<>"","✅ Administré le "&TEXT(Y10,"DD/MM/YY"),IF(X10="","⚪ Saisir date naissance",IF(TODAY()>X10,"🔴 URGENT — Dû depuis "&TEXT(TODAY()-X10,"0")&" j",IF(TODAY()>=X10-30,"🟠 RAPPEL — Dans "&TEXT(X10-TODAY(),"0")&" j","⚪ Prévu le "&TEXT(X10,"DD/MM/YY"))))) -> ⚪ Saisir date naissance | AA10: =IF(D10="","",EDATE(D10,15)) | AC10: =IF(AB10<>"","✅ Administré le "&TEXT(AB10,"DD/MM/YY"),IF(AA10="","⚪ Saisir date naissance",IF(TODAY()>AA10,"🔴 URGENT — Dû depuis "&TEXT(TODAY()-AA10,"0")&" j",IF(TODAY()>=AA10-30,"🟠 RAPPEL — Dans "&TEXT(AA10-TODAY(),"0")&" j","⚪ Prévu le "&TEXT(AA10,"DD/MM/YY"))))) -> ⚪ Saisir date naissance | AD10: =IF(D10="","",EDATE(D10,12)) | AF10: =IF(AE10<>"","✅ Administré le "&TEXT(AE10,"DD/MM/YY"),IF(AD10="","⚪ Saisir date naissance",IF(TODAY()>AD10,"🔴 URGENT — Dû depuis "&TEXT(TODAY()-AD10,"0")&" j",IF(TODAY()>=AD10-30,"🟠 RAPPEL — Dans "&TEXT(AD10-TODAY(),"0")&" j","⚪ Prévu le "&TEXT(AD10,"DD/MM/YY"))))) -> ⚪ Saisir date naissance | AG10: =IF(D10="","",EDATE(D10,15)) | AI10: =IF(AH10<>"","✅ Administré le "&TEXT(AH10,"DD/MM/YY"),IF(AG10="","⚪ Saisir date naissance",IF(TODAY()>AG10,"🔴 URGENT — Dû depuis "&TEXT(TODAY()-AG10,"0")&" j",IF(TODAY()>=AG10-30,"🟠 RAPPEL — Dans "&TEXT(AG10-TODAY(),"0")&" j","⚪ Prévu le "&TEXT(AG10,"DD/MM/YY"))))) -> ⚪ Saisir date naissance | AJ10: Saison hivernale | AL10: =IF(AK10<>"","✅ Administré","📋 À planifier") -> 📋 À planifier | AM10: =IF(D10="","",EDATE(D10,2)) | AO10: =IF(AN10<>"","✅ Administré le "&TEXT(AN10,"DD/MM/YY"),IF(AM10="","⚪ Saisir date naissance",IF(TODAY()>AM10,"🔴 URGENT — Dû depuis "&TEXT(TODAY()-AM10,"0")&" j",IF(TODAY()>=AM10-30,"🟠 RAPPEL — Dans "&TEXT(AM10-TODAY(),"0")&" j","⚪ Prévu le "&TEXT(AM10,"DD/MM/YY"))))) -> ⚪ Saisir date naissance | AP10: =IF(D10="","",EDATE(D10,3)) | AR10: =IF(AQ10<>"","✅ Administré le "&TEXT(AQ10,"DD/MM/YY"),IF(AP10="","⚪ Saisir date naissance",IF(TODAY()>AP10,"🔴 URGENT — Dû depuis "&TEXT(TODAY()-AP10,"0")&" j",IF(TODAY()>=AP10-30,"🟠 RAPPEL — Dans "&TEXT(AP10-TODAY(),"0")&" j","⚪ Prévu le "&TEXT(AP10,"DD/MM/YY"))))) -> ⚪ Saisir date naissance
A11: 5 | F11: =IF(D11="","",EDATE(D11,2)) | H11: =IF(G11<>"","✅ Administré le "&TEXT(G11,"DD/MM/YY"),IF(F11="","⚪ Saisir date naissance",IF(TODAY()>F11,"🔴 URGENT — Dû depuis "&TEXT(TODAY()-F11,"0")&" j",IF(TODAY()>=F11-30,"🟠 RAPPEL — Dans "&TEXT(F11-TODAY(),"0")&" j","⚪ Prévu le "&TEXT(F11,"DD/MM/YY"))))) -> ⚪ Saisir date naissance | I11: =IF(D11="","",EDATE(D11,3)) | K11: =IF(J11<>"","✅ Administré le "&TEXT(J11,"DD/MM/YY"),IF(I11="","⚪ Saisir date naissance",IF(TODAY()>I11,"🔴 URGENT — Dû depuis "&TEXT(TODAY()-I11,"0")&" j",IF(TODAY()>=I11-30,"🟠 RAPPEL — Dans "&TEXT(I11-TODAY(),"0")&" j","⚪ Prévu le "&TEXT(I11,"DD/MM/YY"))))) -> ⚪ Saisir date naissance | L11: =IF(D11="","",EDATE(D11,4)) | N11: =IF(M11<>"","✅ Administré le "&TEXT(M11,"DD/MM/YY"),IF(L11="","⚪ Saisir date naissance",IF(TODAY()>L11,"🔴 URGENT — Dû depuis "&TEXT(TODAY()-L11,"0")&" j",IF(TODAY()>=L11-30,"🟠 RAPPEL — Dans "&TEXT(L11-TODAY(),"0")&" j","⚪ Prévu le "&TEXT(L11,"DD/MM/YY"))))) -> ⚪ Saisir date naissance | O11: =IF(D11="","",EDATE(D11,15)) | Q11: =IF(P11<>"","✅ Administré le "&TEXT(P11,"DD/MM/YY"),IF(O11="","⚪ Saisir date naissance",IF(TODAY()>O11,"🔴 URGENT — Dû depuis "&TEXT(TODAY()-O11,"0")&" j",IF(TODAY()>=O11-30,"🟠 RAPPEL — Dans "&TEXT(O11-TODAY(),"0")&" j","⚪ Prévu le "&TEXT(O11,"DD/MM/YY"))))) -> ⚪ Saisir date naissance | R11: =IF(D11="","",EDATE(D11,2)) | T11: =IF(S11<>"","✅ Administré le "&TEXT(S11,"DD/MM/YY"),IF(R11="","⚪ Saisir date naissance",IF(TODAY()>R11,"🔴 URGENT — Dû depuis "&TEXT(TODAY()-R11,"0")&" j",IF(TODAY()>=R11-30,"🟠 RAPPEL — Dans "&TEXT(R11-TODAY(),"0")&" j","⚪ Prévu le "&TEXT(R11,"DD/MM/YY"))))) -> ⚪ Saisir date naissance | U11: =IF(D11="","",EDATE(D11,4)) | W11: =IF(V11<>"","✅ Administré le "&TEXT(V11,"DD/MM/YY"),IF(U11="","⚪ Saisir date naissance",IF(TODAY()>U11,"🔴 URGENT — Dû depuis "&TEXT(TODAY()-U11,"0")&" j",IF(TODAY()>=U11-30,"🟠 RAPPEL — Dans "&TEXT(U11-TODAY(),"0")&" j","⚪ Prévu le "&TEXT(U11,"DD/MM/YY"))))) -> ⚪ Saisir date naissance | X11: =IF(D11="","",EDATE(D11,12)) | Z11: =IF(Y11<>"","✅ Administré le "&TEXT(Y11,"DD/MM/YY"),IF(X11="","⚪ Saisir date naissance",IF(TODAY()>X11,"🔴 URGENT — Dû depuis "&TEXT(TODAY()-X11,"0")&" j",IF(TODAY()>=X11-30,"🟠 RAPPEL — Dans "&TEXT(X11-TODAY(),"0")&" j","⚪ Prévu le "&TEXT(X11,"DD/MM/YY"))))) -> ⚪ Saisir date naissance | AA11: =IF(D11="","",EDATE(D11,15)) | AC11: =IF(AB11<>"","✅ Administré le "&TEXT(AB11,"DD/MM/YY"),IF(AA11="","⚪ Saisir date naissance",IF(TODAY()>AA11,"🔴 URGENT — Dû depuis "&TEXT(TODAY()-AA11,"0")&" j",IF(TODAY()>=AA11-30,"🟠 RAPPEL — Dans "&TEXT(AA11-TODAY(),"0")&" j","⚪ Prévu le "&TEXT(AA11,"DD/MM/YY"))))) -> ⚪ Saisir date naissance | AD11: =IF(D11="","",EDATE(D11,12)) | AF11: =IF(AE11<>"","✅ Administré le "&TEXT(AE11,"DD/MM/YY"),IF(AD11="","⚪ Saisir date naissance",IF(TODAY()>AD11,"🔴 URGENT — Dû depuis "&TEXT(TODAY()-AD11,"0")&" j",IF(TODAY()>=AD11-30,"🟠 RAPPEL — Dans "&TEXT(AD11-TODAY(),"0")&" j","⚪ Prévu le "&TEXT(AD11,"DD/MM/YY"))))) -> ⚪ Saisir date naissance | AG11: =IF(D11="","",EDATE(D11,15)) | AI11: =IF(AH11<>"","✅ Administré le "&TEXT(AH11,"DD/MM/YY"),IF(AG11="","⚪ Saisir date naissance",IF(TODAY()>AG11,"🔴 URGENT — Dû depuis "&TEXT(TODAY()-AG11,"0")&" j",IF(TODAY()>=AG11-30,"🟠 RAPPEL — Dans "&TEXT(AG11-TODAY(),"0")&" j","⚪ Prévu le "&TEXT(AG11,"DD/MM/YY"))))) -> ⚪ Saisir date naissance | AJ11: Saison hivernale | AL11: =IF(AK11<>"","✅ Administré","📋 À planifier") -> 📋 À planifier | AM11: =IF(D11="","",EDATE(D11,2)) | AO11: =IF(AN11<>"","✅ Administré le "&TEXT(AN11,"DD/MM/YY"),IF(AM11="","⚪ Saisir date naissance",IF(TODAY()>AM11,"🔴 URGENT — Dû depuis "&TEXT(TODAY()-AM11,"0")&" j",IF(TODAY()>=AM11-30,"🟠 RAPPEL — Dans "&TEXT(AM11-TODAY(),"0")&" j","⚪ Prévu le "&TEXT(AM11,"DD/MM/YY"))))) -> ⚪ Saisir date naissance | AP11: =IF(D11="","",EDATE(D11,3)) | AR11: =IF(AQ11<>"","✅ Administré le "&TEXT(AQ11,"DD/MM/YY"),IF(AP11="","⚪ Saisir date naissance",IF(TODAY()>AP11,"🔴 URGENT — Dû depuis "&TEXT(TODAY()-AP11,"0")&" j",IF(TODAY()>=AP11-30,"🟠 RAPPEL — Dans "&TEXT(AP11-TODAY(),"0")&" j","⚪ Prévu le "&TEXT(AP11,"DD/MM/YY"))))) -> ⚪ Saisir date naissance
A12: 6 | F12: =IF(D12="","",EDATE(D12,2)) | H12: =IF(G12<>"","✅ Administré le "&TEXT(G12,"DD/MM/YY"),IF(F12="","⚪ Saisir date naissance",IF(TODAY()>F12,"🔴 URGENT — Dû depuis "&TEXT(TODAY()-F12,"0")&" j",IF(TODAY()>=F12-30,"🟠 RAPPEL — Dans "&TEXT(F12-TODAY(),"0")&" j","⚪ Prévu le "&TEXT(F12,"DD/MM/YY"))))) -> ⚪ Saisir date naissance | I12: =IF(D12="","",EDATE(D12,3)) | K12: =IF(J12<>"","✅ Administré le "&TEXT(J12,"DD/MM/YY"),IF(I12="","⚪ Saisir date naissance",IF(TODAY()>I12,"🔴 URGENT — Dû depuis "&TEXT(TODAY()-I12,"0")&" j",IF(TODAY()>=I12-30,"🟠 RAPPEL — Dans "&TEXT(I12-TODAY(),"0")&" j","⚪ Prévu le "&TEXT(I12,"DD/MM/YY"))))) -> ⚪ Saisir date naissance | L12: =IF(D12="","",EDATE(D12,4)) | N12: =IF(M12<>"","✅ Administré le "&TEXT(M12,"DD/MM/YY"),IF(L12="","⚪ Saisir date naissance",IF(TODAY()>L12,"🔴 URGENT — Dû depuis "&TEXT(TODAY()-L12,"0")&" j",IF(TODAY()>=L12-30,"🟠 RAPPEL — Dans "&TEXT(L12-TODAY(),"0")&" j","⚪ Prévu le "&TEXT(L12,"DD/MM/YY"))))) -> ⚪ Saisir date naissance | O12: =IF(D12="","",EDATE(D12,15)) | Q12: =IF(P12<>"","✅ Administré le "&TEXT(P12,"DD/MM/YY"),IF(O12="","⚪ Saisir date naissance",IF(TODAY()>O12,"🔴 URGENT — Dû depuis "&TEXT(TODAY()-O12,"0")&" j",IF(TODAY()>=O12-30,"🟠 RAPPEL — Dans "&TEXT(O12-TODAY(),"0")&" j","⚪ Prévu le "&TEXT(O12,"DD/MM/YY"))))) -> ⚪ Saisir date naissance | R12: =IF(D12="","",EDATE(D12,2)) | T12: =IF(S12<>"","✅ Administré le "&TEXT(S12,"DD/MM/YY"),IF(R12="","⚪ Saisir date naissance",IF(TODAY()>R12,"🔴 URGENT — Dû depuis "&TEXT(TODAY()-R12,"0")&" j",IF(TODAY()>=R12-30,"🟠 RAPPEL — Dans "&TEXT(R12-TODAY(),"0")&" j","⚪ Prévu le "&TEXT(R12,"DD/MM/YY"))))) -> ⚪ Saisir date naissance | U12: =IF(D12="","",EDATE(D12,4)) | W12: =IF(V12<>"","✅ Administré le "&TEXT(V12,"DD/MM/YY"),IF(U12="","⚪ Saisir date naissance",IF(TODAY()>U12,"🔴 URGENT — Dû depuis "&TEXT(TODAY()-U12,"0")&" j",IF(TODAY()>=U12-30,"🟠 RAPPEL — Dans "&TEXT(U12-TODAY(),"0")&" j","⚪ Prévu le "&TEXT(U12,"DD/MM/YY"))))) -> ⚪ Saisir date naissance | X12: =IF(D12="","",EDATE(D12,12)) | Z12: =IF(Y12<>"","✅ Administré le "&TEXT(Y12,"DD/MM/YY"),IF(X12="","⚪ Saisir date naissance",IF(TODAY()>X12,"🔴 URGENT — Dû depuis "&TEXT(TODAY()-X12,"0")&" j",IF(TODAY()>=X12-30,"🟠 RAPPEL — Dans "&TEXT(X12-TODAY(),"0")&" j","⚪ Prévu le "&TEXT(X12,"DD/MM/YY"))))) -> ⚪ Saisir date naissance | AA12: =IF(D12="","",EDATE(D12,15)) | AC12: =IF(AB12<>"","✅ Administré le "&TEXT(AB12,"DD/MM/YY"),IF(AA12="","⚪ Saisir date naissance",IF(TODAY()>AA12,"🔴 URGENT — Dû depuis "&TEXT(TODAY()-AA12,"0")&" j",IF(TODAY()>=AA12-30,"🟠 RAPPEL — Dans "&TEXT(AA12-TODAY(),"0")&" j","⚪ Prévu le "&TEXT(AA12,"DD/MM/YY"))))) -> ⚪ Saisir date naissance | AD12: =IF(D12="","",EDATE(D12,12)) | AF12: =IF(AE12<>"","✅ Administré le "&TEXT(AE12,"DD/MM/YY"),IF(AD12="","⚪ Saisir date naissance",IF(TODAY()>AD12,"🔴 URGENT — Dû depuis "&TEXT(TODAY()-AD12,"0")&" j",IF(TODAY()>=AD12-30,"🟠 RAPPEL — Dans "&TEXT(AD12-TODAY(),"0")&" j","⚪ Prévu le "&TEXT(AD12,"DD/MM/YY"))))) -> ⚪ Saisir date naissance | AG12: =IF(D12="","",EDATE(D12,15)) | AI12: =IF(AH12<>"","✅ Administré le "&TEXT(AH12,"DD/MM/YY"),IF(AG12="","⚪ Saisir date naissance",IF(TODAY()>AG12,"🔴 URGENT — Dû depuis "&TEXT(TODAY()-AG12,"0")&" j",IF(TODAY()>=AG12-30,"🟠 RAPPEL — Dans "&TEXT(AG12-TODAY(),"0")&" j","⚪ Prévu le "&TEXT(AG12,"DD/MM/YY"))))) -> ⚪ Saisir date naissance | AJ12: Saison hivernale | AL12: =IF(AK12<>"","✅ Administré","📋 À planifier") -> 📋 À planifier | AM12: =IF(D12="","",EDATE(D12,2)) | AO12: =IF(AN12<>"","✅ Administré le "&TEXT(AN12,"DD/MM/YY"),IF(AM12="","⚪ Saisir date naissance",IF(TODAY()>AM12,"🔴 URGENT — Dû depuis "&TEXT(TODAY()-AM12,"0")&" j",IF(TODAY()>=AM12-30,"🟠 RAPPEL — Dans "&TEXT(AM12-TODAY(),"0")&" j","⚪ Prévu le "&TEXT(AM12,"DD/MM/YY"))))) -> ⚪ Saisir date naissance | AP12: =IF(D12="","",EDATE(D12,3)) | AR12: =IF(AQ12<>"","✅ Administré le "&TEXT(AQ12,"DD/MM/YY"),IF(AP12="","⚪ Saisir date naissance",IF(TODAY()>AP12,"🔴 URGENT — Dû depuis "&TEXT(TODAY()-AP12,"0")&" j",IF(TODAY()>=AP12-30,"🟠 RAPPEL — Dans "&TEXT(AP12-TODAY(),"0")&" j","⚪ Prévu le "&TEXT(AP12,"DD/MM/YY"))))) -> ⚪ Saisir date naissance
A13: 7 | F13: =IF(D13="","",EDATE(D13,2)) | H13: =IF(G13<>"","✅ Administré le "&TEXT(G13,"DD/MM/YY"),IF(F13="","⚪ Saisir date naissance",IF(TODAY()>F13,"🔴 URGENT — Dû depuis "&TEXT(TODAY()-F13,"0")&" j",IF(TODAY()>=F13-30,"🟠 RAPPEL — Dans "&TEXT(F13-TODAY(),"0")&" j","⚪ Prévu le "&TEXT(F13,"DD/MM/YY"))))) -> ⚪ Saisir date naissance | I13: =IF(D13="","",EDATE(D13,3)) | K13: =IF(J13<>"","✅ Administré le "&TEXT(J13,"DD/MM/YY"),IF(I13="","⚪ Saisir date naissance",IF(TODAY()>I13,"🔴 URGENT — Dû depuis "&TEXT(TODAY()-I13,"0")&" j",IF(TODAY()>=I13-30,"🟠 RAPPEL — Dans "&TEXT(I13-TODAY(),"0")&" j","⚪ Prévu le "&TEXT(I13,"DD/MM/YY"))))) -> ⚪ Saisir date naissance | L13: =IF(D13="","",EDATE(D13,4)) | N13: =IF(M13<>"","✅ Administré le "&TEXT(M13,"DD/MM/YY"),IF(L13="","⚪ Saisir date naissance",IF(TODAY()>L13,"🔴 URGENT — Dû depuis "&TEXT(TODAY()-L13,"0")&" j",IF(TODAY()>=L13-30,"🟠 RAPPEL — Dans "&TEXT(L13-TODAY(),"0")&" j","⚪ Prévu le "&TEXT(L13,"DD/MM/YY"))))) -> ⚪ Saisir date naissance | O13: =IF(D13="","",EDATE(D13,15)) | Q13: =IF(P13<>"","✅ Administré le "&TEXT(P13,"DD/MM/YY"),IF(O13="","⚪ Saisir date naissance",IF(TODAY()>O13,"🔴 URGENT — Dû depuis "&TEXT(TODAY()-O13,"0")&" j",IF(TODAY()>=O13-30,"🟠 RAPPEL — Dans "&TEXT(O13-TODAY(),"0")&" j","⚪ Prévu le "&TEXT(O13,"DD/MM/YY"))))) -> ⚪ Saisir date naissance | R13: =IF(D13="","",EDATE(D13,2)) | T13: =IF(S13<>"","✅ Administré le "&TEXT(S13,"DD/MM/YY"),IF(R13="","⚪ Saisir date naissance",IF(TODAY()>R13,"🔴 URGENT — Dû depuis "&TEXT(TODAY()-R13,"0")&" j",IF(TODAY()>=R13-30,"🟠 RAPPEL — Dans "&TEXT(R13-TODAY(),"0")&" j","⚪ Prévu le "&TEXT(R13,"DD/MM/YY"))))) -> ⚪ Saisir date naissance | U13: =IF(D13="","",EDATE(D13,4)) | W13: =IF(V13<>"","✅ Administré le "&TEXT(V13,"DD/MM/YY"),IF(U13="","⚪ Saisir date naissance",IF(TODAY()>U13,"🔴 URGENT — Dû depuis "&TEXT(TODAY()-U13,"0")&" j",IF(TODAY()>=U13-30,"🟠 RAPPEL — Dans "&TEXT(U13-TODAY(),"0")&" j","⚪ Prévu le "&TEXT(U13,"DD/MM/YY"))))) -> ⚪ Saisir date naissance | X13: =IF(D13="","",EDATE(D13,12)) | Z13: =IF(Y13<>"","✅ Administré le "&TEXT(Y13,"DD/MM/YY"),IF(X13="","⚪ Saisir date naissance",IF(TODAY()>X13,"🔴 URGENT — Dû depuis "&TEXT(TODAY()-X13,"0")&" j",IF(TODAY()>=X13-30,"🟠 RAPPEL — Dans "&TEXT(X13-TODAY(),"0")&" j","⚪ Prévu le "&TEXT(X13,"DD/MM/YY"))))) -> ⚪ Saisir date naissance | AA13: =IF(D13="","",EDATE(D13,15)) | AC13: =IF(AB13<>"","✅ Administré le "&TEXT(AB13,"DD/MM/YY"),IF(AA13="","⚪ Saisir date naissance",IF(TODAY()>AA13,"🔴 URGENT — Dû depuis "&TEXT(TODAY()-AA13,"0")&" j",IF(TODAY()>=AA13-30,"🟠 RAPPEL — Dans "&TEXT(AA13-TODAY(),"0")&" j","⚪ Prévu le "&TEXT(AA13,"DD/MM/YY"))))) -> ⚪ Saisir date naissance | AD13: =IF(D13="","",EDATE(D13,12)) | AF13: =IF(AE13<>"","✅ Administré le "&TEXT(AE13,"DD/MM/YY"),IF(AD13="","⚪ Saisir date naissance",IF(TODAY()>AD13,"🔴 URGENT — Dû depuis "&TEXT(TODAY()-AD13,"0")&" j",IF(TODAY()>=AD13-30,"🟠 RAPPEL — Dans "&TEXT(AD13-TODAY(),"0")&" j","⚪ Prévu le "&TEXT(AD13,"DD/MM/YY"))))) -> ⚪ Saisir date naissance | AG13: =IF(D13="","",EDATE(D13,15)) | AI13: =IF(AH13<>"","✅ Administré le "&TEXT(AH13,"DD/MM/YY"),IF(AG13="","⚪ Saisir date naissance",IF(TODAY()>AG13,"🔴 URGENT — Dû depuis "&TEXT(TODAY()-AG13,"0")&" j",IF(TODAY()>=AG13-30,"🟠 RAPPEL — Dans "&TEXT(AG13-TODAY(),"0")&" j","⚪ Prévu le "&TEXT(AG13,"DD/MM/YY"))))) -> ⚪ Saisir date naissance | AJ13: Saison hivernale | AL13: =IF(AK13<>"","✅ Administré","📋 À planifier") -> 📋 À planifier | AM13: =IF(D13="","",EDATE(D13,2)) | AO13: =IF(AN13<>"","✅ Administré le "&TEXT(AN13,"DD/MM/YY"),IF(AM13="","⚪ Saisir date naissance",IF(TODAY()>AM13,"🔴 URGENT — Dû depuis "&TEXT(TODAY()-AM13,"0")&" j",IF(TODAY()>=AM13-30,"🟠 RAPPEL — Dans "&TEXT(AM13-TODAY(),"0")&" j","⚪ Prévu le "&TEXT(AM13,"DD/MM/YY"))))) -> ⚪ Saisir date naissance | AP13: =IF(D13="","",EDATE(D13,3)) | AR13: =IF(AQ13<>"","✅ Administré le "&TEXT(AQ13,"DD/MM/YY"),IF(AP13="","⚪ Saisir date naissance",IF(TODAY()>AP13,"🔴 URGENT — Dû depuis "&TEXT(TODAY()-AP13,"0")&" j",IF(TODAY()>=AP13-30,"🟠 RAPPEL — Dans "&TEXT(AP13-TODAY(),"0")&" j","⚪ Prévu le "&TEXT(AP13,"DD/MM/YY"))))) -> ⚪ Saisir date naissance
A14: 8 | F14: =IF(D14="","",EDATE(D14,2)) | H14: =IF(G14<>"","✅ Administré le "&TEXT(G14,"DD/MM/YY"),IF(F14="","⚪ Saisir date naissance",IF(TODAY()>F14,"🔴 URGENT — Dû depuis "&TEXT(TODAY()-F14,"0")&" j",IF(TODAY()>=F14-30,"🟠 RAPPEL — Dans "&TEXT(F14-TODAY(),"0")&" j","⚪ Prévu le "&TEXT(F14,"DD/MM/YY"))))) -> ⚪ Saisir date naissance | I14: =IF(D14="","",EDATE(D14,3)) | K14: =IF(J14<>"","✅ Administré le "&TEXT(J14,"DD/MM/YY"),IF(I14="","⚪ Saisir date naissance",IF(TODAY()>I14,"🔴 URGENT — Dû depuis "&TEXT(TODAY()-I14,"0")&" j",IF(TODAY()>=I14-30,"🟠 RAPPEL — Dans "&TEXT(I14-TODAY(),"0")&" j","⚪ Prévu le "&TEXT(I14,"DD/MM/YY"))))) -> ⚪ Saisir date naissance | L14: =IF(D14="","",EDATE(D14,4)) | N14: =IF(M14<>"","✅ Administré le "&TEXT(M14,"DD/MM/YY"),IF(L14="","⚪ Saisir date naissance",IF(TODAY()>L14,"🔴 URGENT — Dû depuis "&TEXT(TODAY()-L14,"0")&" j",IF(TODAY()>=L14-30,"🟠 RAPPEL — Dans "&TEXT(L14-TODAY(),"0")&" j","⚪ Prévu le "&TEXT(L14,"DD/MM/YY"))))) -> ⚪ Saisir date naissance | O14: =IF(D14="","",EDATE(D14,15)) | Q14: =IF(P14<>"","✅ Administré le "&TEXT(P14,"DD/MM/YY"),IF(O14="","⚪ Saisir date naissance",IF(TODAY()>O14,"🔴 URGENT — Dû depuis "&TEXT(TODAY()-O14,"0")&" j",IF(TODAY()>=O14-30,"🟠 RAPPEL — Dans "&TEXT(O14-TODAY(),"0")&" j","⚪ Prévu le "&TEXT(O14,"DD/MM/YY"))))) -> ⚪ Saisir date naissance | R14: =IF(D14="","",EDATE(D14,2)) | T14: =IF(S14<>"","✅ Administré le "&TEXT(S14,"DD/MM/YY"),IF(R14="","⚪ Saisir date naissance",IF(TODAY()>R14,"🔴 URGENT — Dû depuis "&TEXT(TODAY()-R14,"0")&" j",IF(TODAY()>=R14-30,"🟠 RAPPEL — Dans "&TEXT(R14-TODAY(),"0")&" j","⚪ Prévu le "&TEXT(R14,"DD/MM/YY"))))) -> ⚪ Saisir date naissance | U14: =IF(D14="","",EDATE(D14,4)) | W14: =IF(V14<>"","✅ Administré le "&TEXT(V14,"DD/MM/YY"),IF(U14="","⚪ Saisir date naissance",IF(TODAY()>U14,"🔴 URGENT — Dû depuis "&TEXT(TODAY()-U14,"0")&" j",IF(TODAY()>=U14-30,"🟠 RAPPEL — Dans "&TEXT(U14-TODAY(),"0")&" j","⚪ Prévu le "&TEXT(U14,"DD/MM/YY"))))) -> ⚪ Saisir date naissance | X14: =IF(D14="","",EDATE(D14,12)) | Z14: =IF(Y14<>"","✅ Administré le "&TEXT(Y14,"DD/MM/YY"),IF(X14="","⚪ Saisir date naissance",IF(TODAY()>X14,"🔴 URGENT — Dû depuis "&TEXT(TODAY()-X14,"0")&" j",IF(TODAY()>=X14-30,"🟠 RAPPEL — Dans "&TEXT(X14-TODAY(),"0")&" j","⚪ Prévu le "&TEXT(X14,"DD/MM/YY"))))) -> ⚪ Saisir date naissance | AA14: =IF(D14="","",EDATE(D14,15)) | AC14: =IF(AB14<>"","✅ Administré le "&TEXT(AB14,"DD/MM/YY"),IF(AA14="","⚪ Saisir date naissance",IF(TODAY()>AA14,"🔴 URGENT — Dû depuis "&TEXT(TODAY()-AA14,"0")&" j",IF(TODAY()>=AA14-30,"🟠 RAPPEL — Dans "&TEXT(AA14-TODAY(),"0")&" j","⚪ Prévu le "&TEXT(AA14,"DD/MM/YY"))))) -> ⚪ Saisir date naissance | AD14: =IF(D14="","",EDATE(D14,12)) | AF14: =IF(AE14<>"","✅ Administré le "&TEXT(AE14,"DD/MM/YY"),IF(AD14="","⚪ Saisir date naissance",IF(TODAY()>AD14,"🔴 URGENT — Dû depuis "&TEXT(TODAY()-AD14,"0")&" j",IF(TODAY()>=AD14-30,"🟠 RAPPEL — Dans "&TEXT(AD14-TODAY(),"0")&" j","⚪ Prévu le "&TEXT(AD14,"DD/MM/YY"))))) -> ⚪ Saisir date naissance | AG14: =IF(D14="","",EDATE(D14,15)) | AI14: =IF(AH14<>"","✅ Administré le "&TEXT(AH14,"DD/MM/YY"),IF(AG14="","⚪ Saisir date naissance",IF(TODAY()>AG14,"🔴 URGENT — Dû depuis "&TEXT(TODAY()-AG14,"0")&" j",IF(TODAY()>=AG14-30,"🟠 RAPPEL — Dans "&TEXT(AG14-TODAY(),"0")&" j","⚪ Prévu le "&TEXT(AG14,"DD/MM/YY"))))) -> ⚪ Saisir date naissance | AJ14: Saison hivernale | AL14: =IF(AK14<>"","✅ Administré","📋 À planifier") -> 📋 À planifier | AM14: =IF(D14="","",EDATE(D14,2)) | AO14: =IF(AN14<>"","✅ Administré le "&TEXT(AN14,"DD/MM/YY"),IF(AM14="","⚪ Saisir date naissance",IF(TODAY()>AM14,"🔴 URGENT — Dû depuis "&TEXT(TODAY()-AM14,"0")&" j",IF(TODAY()>=AM14-30,"🟠 RAPPEL — Dans "&TEXT(AM14-TODAY(),"0")&" j","⚪ Prévu le "&TEXT(AM14,"DD/MM/YY"))))) -> ⚪ Saisir date naissance | AP14: =IF(D14="","",EDATE(D14,3)) | AR14: =IF(AQ14<>"","✅ Administré le "&TEXT(AQ14,"DD/MM/YY"),IF(AP14="","⚪ Saisir date naissance",IF(TODAY()>AP14,"🔴 URGENT — Dû depuis "&TEXT(TODAY()-AP14,"0")&" j",IF(TODAY()>=AP14-30,"🟠 RAPPEL — Dans "&TEXT(AP14-TODAY(),"0")&" j","⚪ Prévu le "&TEXT(AP14,"DD/MM/YY"))))) -> ⚪ Saisir date naissance
A15: 9 | F15: =IF(D15="","",EDATE(D15,2)) | H15: =IF(G15<>"","✅ Administré le "&TEXT(G15,"DD/MM/YY"),IF(F15="","⚪ Saisir date naissance",IF(TODAY()>F15,"🔴 URGENT — Dû depuis "&TEXT(TODAY()-F15,"0")&" j",IF(TODAY()>=F15-30,"🟠 RAPPEL — Dans "&TEXT(F15-TODAY(),"0")&" j","⚪ Prévu le "&TEXT(F15,"DD/MM/YY"))))) -> ⚪ Saisir date naissance | I15: =IF(D15="","",EDATE(D15,3)) | K15: =IF(J15<>"","✅ Administré le "&TEXT(J15,"DD/MM/YY"),IF(I15="","⚪ Saisir date naissance",IF(TODAY()>I15,"🔴 URGENT — Dû depuis "&TEXT(TODAY()-I15,"0")&" j",IF(TODAY()>=I15-30,"🟠 RAPPEL — Dans "&TEXT(I15-TODAY(),"0")&" j","⚪ Prévu le "&TEXT(I15,"DD/MM/YY"))))) -> ⚪ Saisir date naissance | L15: =IF(D15="","",EDATE(D15,4)) | N15: =IF(M15<>"","✅ Administré le "&TEXT(M15,"DD/MM/YY"),IF(L15="","⚪ Saisir date naissance",IF(TODAY()>L15,"🔴 URGENT — Dû depuis "&TEXT(TODAY()-L15,"0")&" j",IF(TODAY()>=L15-30,"🟠 RAPPEL — Dans "&TEXT(L15-TODAY(),"0")&" j","⚪ Prévu le "&TEXT(L15,"DD/MM/YY"))))) -> ⚪ Saisir date naissance | O15: =IF(D15="","",EDATE(D15,15)) | Q15: =IF(P15<>"","✅ Administré le "&TEXT(P15,"DD/MM/YY"),IF(O15="","⚪ Saisir date naissance",IF(TODAY()>O15,"🔴 URGENT — Dû depuis "&TEXT(TODAY()-O15,"0")&" j",IF(TODAY()>=O15-30,"🟠 RAPPEL — Dans "&TEXT(O15-TODAY(),"0")&" j","⚪ Prévu le "&TEXT(O15,"DD/MM/YY"))))) -> ⚪ Saisir date naissance | R15: =IF(D15="","",EDATE(D15,2)) | T15: =IF(S15<>"","✅ Administré le "&TEXT(S15,"DD/MM/YY"),IF(R15="","⚪ Saisir date naissance",IF(TODAY()>R15,"🔴 URGENT — Dû depuis "&TEXT(TODAY()-R15,"0")&" j",IF(TODAY()>=R15-30,"🟠 RAPPEL — Dans "&TEXT(R15-TODAY(),"0")&" j","⚪ Prévu le "&TEXT(R15,"DD/MM/YY"))))) -> ⚪ Saisir date naissance | U15: =IF(D15="","",EDATE(D15,4)) | W15: =IF(V15<>"","✅ Administré le "&TEXT(V15,"DD/MM/YY"),IF(U15="","⚪ Saisir date naissance",IF(TODAY()>U15,"🔴 URGENT — Dû depuis "&TEXT(TODAY()-U15,"0")&" j",IF(TODAY()>=U15-30,"🟠 RAPPEL — Dans "&TEXT(U15-TODAY(),"0")&" j","⚪ Prévu le "&TEXT(U15,"DD/MM/YY"))))) -> ⚪ Saisir date naissance | X15: =IF(D15="","",EDATE(D15,12)) | Z15: =IF(Y15<>"","✅ Administré le "&TEXT(Y15,"DD/MM/YY"),IF(X15="","⚪ Saisir date naissance",IF(TODAY()>X15,"🔴 URGENT — Dû depuis "&TEXT(TODAY()-X15,"0")&" j",IF(TODAY()>=X15-30,"🟠 RAPPEL — Dans "&TEXT(X15-TODAY(),"0")&" j","⚪ Prévu le "&TEXT(X15,"DD/MM/YY"))))) -> ⚪ Saisir date naissance | AA15: =IF(D15="","",EDATE(D15,15)) | AC15: =IF(AB15<>"","✅ Administré le "&TEXT(AB15,"DD/MM/YY"),IF(AA15="","⚪ Saisir date naissance",IF(TODAY()>AA15,"🔴 URGENT — Dû depuis "&TEXT(TODAY()-AA15,"0")&" j",IF(TODAY()>=AA15-30,"🟠 RAPPEL — Dans "&TEXT(AA15-TODAY(),"0")&" j","⚪ Prévu le "&TEXT(AA15,"DD/MM/YY"))))) -> ⚪ Saisir date naissance | AD15: =IF(D15="","",EDATE(D15,12)) | AF15: =IF(AE15<>"","✅ Administré le "&TEXT(AE15,"DD/MM/YY"),IF(AD15="","⚪ Saisir date naissance",IF(TODAY()>AD15,"🔴 URGENT — Dû depuis "&TEXT(TODAY()-AD15,"0")&" j",IF(TODAY()>=AD15-30,"🟠 RAPPEL — Dans "&TEXT(AD15-TODAY(),"0")&" j","⚪ Prévu le "&TEXT(AD15,"DD/MM/YY"))))) -> ⚪ Saisir date naissance | AG15: =IF(D15="","",EDATE(D15,15)) | AI15: =IF(AH15<>"","✅ Administré le "&TEXT(AH15,"DD/MM/YY"),IF(AG15="","⚪ Saisir date naissance",IF(TODAY()>AG15,"🔴 URGENT — Dû depuis "&TEXT(TODAY()-AG15,"0")&" j",IF(TODAY()>=AG15-30,"🟠 RAPPEL — Dans "&TEXT(AG15-TODAY(),"0")&" j","⚪ Prévu le "&TEXT(AG15,"DD/MM/YY"))))) -> ⚪ Saisir date naissance | AJ15: Saison hivernale | AL15: =IF(AK15<>"","✅ Administré","📋 À planifier") -> 📋 À planifier | AM15: =IF(D15="","",EDATE(D15,2)) | AO15: =IF(AN15<>"","✅ Administré le "&TEXT(AN15,"DD/MM/YY"),IF(AM15="","⚪ Saisir date naissance",IF(TODAY()>AM15,"🔴 URGENT — Dû depuis "&TEXT(TODAY()-AM15,"0")&" j",IF(TODAY()>=AM15-30,"🟠 RAPPEL — Dans "&TEXT(AM15-TODAY(),"0")&" j","⚪ Prévu le "&TEXT(AM15,"DD/MM/YY"))))) -> ⚪ Saisir date naissance | AP15: =IF(D15="","",EDATE(D15,3)) | AR15: =IF(AQ15<>"","✅ Administré le "&TEXT(AQ15,"DD/MM/YY"),IF(AP15="","⚪ Saisir date naissance",IF(TODAY()>AP15,"🔴 URGENT — Dû depuis "&TEXT(TODAY()-AP15,"0")&" j",IF(TODAY()>=AP15-30,"🟠 RAPPEL — Dans "&TEXT(AP15-TODAY(),"0")&" j","⚪ Prévu le "&TEXT(AP15,"DD/MM/YY"))))) -> ⚪ Saisir date naissance
A16: 10 | F16: =IF(D16="","",EDATE(D16,2)) | H16: =IF(G16<>"","✅ Administré le "&TEXT(G16,"DD/MM/YY"),IF(F16="","⚪ Saisir date naissance",IF(TODAY()>F16,"🔴 URGENT — Dû depuis "&TEXT(TODAY()-F16,"0")&" j",IF(TODAY()>=F16-30,"🟠 RAPPEL — Dans "&TEXT(F16-TODAY(),"0")&" j","⚪ Prévu le "&TEXT(F16,"DD/MM/YY"))))) -> ⚪ Saisir date naissance | I16: =IF(D16="","",EDATE(D16,3)) | K16: =IF(J16<>"","✅ Administré le "&TEXT(J16,"DD/MM/YY"),IF(I16="","⚪ Saisir date naissance",IF(TODAY()>I16,"🔴 URGENT — Dû depuis "&TEXT(TODAY()-I16,"0")&" j",IF(TODAY()>=I16-30,"🟠 RAPPEL — Dans "&TEXT(I16-TODAY(),"0")&" j","⚪ Prévu le "&TEXT(I16,"DD/MM/YY"))))) -> ⚪ Saisir date naissance | L16: =IF(D16="","",EDATE(D16,4)) | N16: =IF(M16<>"","✅ Administré le "&TEXT(M16,"DD/MM/YY"),IF(L16="","⚪ Saisir date naissance",IF(TODAY()>L16,"🔴 URGENT — Dû depuis "&TEXT(TODAY()-L16,"0")&" j",IF(TODAY()>=L16-30,"🟠 RAPPEL — Dans "&TEXT(L16-TODAY(),"0")&" j","⚪ Prévu le "&TEXT(L16,"DD/MM/YY"))))) -> ⚪ Saisir date naissance | O16: =IF(D16="","",EDATE(D16,15)) | Q16: =IF(P16<>"","✅ Administré le "&TEXT(P16,"DD/MM/YY"),IF(O16="","⚪ Saisir date naissance",IF(TODAY()>O16,"🔴 URGENT — Dû depuis "&TEXT(TODAY()-O16,"0")&" j",IF(TODAY()>=O16-30,"🟠 RAPPEL — Dans "&TEXT(O16-TODAY(),"0")&" j","⚪ Prévu le "&TEXT(O16,"DD/MM/YY"))))) -> ⚪ Saisir date naissance | R16: =IF(D16="","",EDATE(D16,2)) | T16: =IF(S16<>"","✅ Administré le "&TEXT(S16,"DD/MM/YY"),IF(R16="","⚪ Saisir date naissance",IF(TODAY()>R16,"🔴 URGENT — Dû depuis "&TEXT(TODAY()-R16,"0")&" j",IF(TODAY()>=R16-30,"🟠 RAPPEL — Dans "&TEXT(R16-TODAY(),"0")&" j","⚪ Prévu le "&TEXT(R16,"DD/MM/YY"))))) -> ⚪ Saisir date naissance | U16: =IF(D16="","",EDATE(D16,4)) | W16: =IF(V16<>"","✅ Administré le "&TEXT(V16,"DD/MM/YY"),IF(U16="","⚪ Saisir date naissance",IF(TODAY()>U16,"🔴 URGENT — Dû depuis "&TEXT(TODAY()-U16,"0")&" j",IF(TODAY()>=U16-30,"🟠 RAPPEL — Dans "&TEXT(U16-TODAY(),"0")&" j","⚪ Prévu le "&TEXT(U16,"DD/MM/YY"))))) -> ⚪ Saisir date naissance | X16: =IF(D16="","",EDATE(D16,12)) | Z16: =IF(Y16<>"","✅ Administré le "&TEXT(Y16,"DD/MM/YY"),IF(X16="","⚪ Saisir date naissance",IF(TODAY()>X16,"🔴 URGENT — Dû depuis "&TEXT(TODAY()-X16,"0")&" j",IF(TODAY()>=X16-30,"🟠 RAPPEL — Dans "&TEXT(X16-TODAY(),"0")&" j","⚪ Prévu le "&TEXT(X16,"DD/MM/YY"))))) -> ⚪ Saisir date naissance | AA16: =IF(D16="","",EDATE(D16,15)) | AC16: =IF(AB16<>"","✅ Administré le "&TEXT(AB16,"DD/MM/YY"),IF(AA16="","⚪ Saisir date naissance",IF(TODAY()>AA16,"🔴 URGENT — Dû depuis "&TEXT(TODAY()-AA16,"0")&" j",IF(TODAY()>=AA16-30,"🟠 RAPPEL — Dans "&TEXT(AA16-TODAY(),"0")&" j","⚪ Prévu le "&TEXT(AA16,"DD/MM/YY"))))) -> ⚪ Saisir date naissance | AD16: =IF(D16="","",EDATE(D16,12)) | AF16: =IF(AE16<>"","✅ Administré le "&TEXT(AE16,"DD/MM/YY"),IF(AD16="","⚪ Saisir date naissance",IF(TODAY()>AD16,"🔴 URGENT — Dû depuis "&TEXT(TODAY()-AD16,"0")&" j",IF(TODAY()>=AD16-30,"🟠 RAPPEL — Dans "&TEXT(AD16-TODAY(),"0")&" j","⚪ Prévu le "&TEXT(AD16,"DD/MM/YY"))))) -> ⚪ Saisir date naissance | AG16: =IF(D16="","",EDATE(D16,15)) | AI16: =IF(AH16<>"","✅ Administré le "&TEXT(AH16,"DD/MM/YY"),IF(AG16="","⚪ Saisir date naissance",IF(TODAY()>AG16,"🔴 URGENT — Dû depuis "&TEXT(TODAY()-AG16,"0")&" j",IF(TODAY()>=AG16-30,"🟠 RAPPEL — Dans "&TEXT(AG16-TODAY(),"0")&" j","⚪ Prévu le "&TEXT(AG16,"DD/MM/YY"))))) -> ⚪ Saisir date naissance | AJ16: Saison hivernale | AL16: =IF(AK16<>"","✅ Administré","📋 À planifier") -> 📋 À planifier | AM16: =IF(D16="","",EDATE(D16,2)) | AO16: =IF(AN16<>"","✅ Administré le "&TEXT(AN16,"DD/MM/YY"),IF(AM16="","⚪ Saisir date naissance",IF(TODAY()>AM16,"🔴 URGENT — Dû depuis "&TEXT(TODAY()-AM16,"0")&" j",IF(TODAY()>=AM16-30,"🟠 RAPPEL — Dans "&TEXT(AM16-TODAY(),"0")&" j","⚪ Prévu le "&TEXT(AM16,"DD/MM/YY"))))) -> ⚪ Saisir date naissance | AP16: =IF(D16="","",EDATE(D16,3)) | AR16: =IF(AQ16<>"","✅ Administré le "&TEXT(AQ16,"DD/MM/YY"),IF(AP16="","⚪ Saisir date naissance",IF(TODAY()>AP16,"🔴 URGENT — Dû depuis "&TEXT(TODAY()-AP16,"0")&" j",IF(TODAY()>=AP16-30,"🟠 RAPPEL — Dans "&TEXT(AP16-TODAY(),"0")&" j","⚪ Prévu le "&TEXT(AP16,"DD/MM/YY"))))) -> ⚪ Saisir date naissance
A17: 11 | F17: =IF(D17="","",EDATE(D17,2)) | H17: =IF(G17<>"","✅ Administré le "&TEXT(G17,"DD/MM/YY"),IF(F17="","⚪ Saisir date naissance",IF(TODAY()>F17,"🔴 URGENT — Dû depuis "&TEXT(TODAY()-F17,"0")&" j",IF(TODAY()>=F17-30,"🟠 RAPPEL — Dans "&TEXT(F17-TODAY(),"0")&" j","⚪ Prévu le "&TEXT(F17,"DD/MM/YY"))))) -> ⚪ Saisir date naissance | I17: =IF(D17="","",EDATE(D17,3)) | K17: =IF(J17<>"","✅ Administré le "&TEXT(J17,"DD/MM/YY"),IF(I17="","⚪ Saisir date naissance",IF(TODAY()>I17,"🔴 URGENT — Dû depuis "&TEXT(TODAY()-I17,"0")&" j",IF(TODAY()>=I17-30,"🟠 RAPPEL — Dans "&TEXT(I17-TODAY(),"0")&" j","⚪ Prévu le "&TEXT(I17,"DD/MM/YY"))))) -> ⚪ Saisir date naissance | L17: =IF(D17="","",EDATE(D17,4)) | N17: =IF(M17<>"","✅ Administré le "&TEXT(M17,"DD/MM/YY"),IF(L17="","⚪ Saisir date naissance",IF(TODAY()>L17,"🔴 URGENT — Dû depuis "&TEXT(TODAY()-L17,"0")&" j",IF(TODAY()>=L17-30,"🟠 RAPPEL — Dans "&TEXT(L17-TODAY(),"0")&" j","⚪ Prévu le "&TEXT(L17,"DD/MM/YY"))))) -> ⚪ Saisir date naissance | O17: =IF(D17="","",EDATE(D17,15)) | Q17: =IF(P17<>"","✅ Administré le "&TEXT(P17,"DD/MM/YY"),IF(O17="","⚪ Saisir date naissance",IF(TODAY()>O17,"🔴 URGENT — Dû depuis "&TEXT(TODAY()-O17,"0")&" j",IF(TODAY()>=O17-30,"🟠 RAPPEL — Dans "&TEXT(O17-TODAY(),"0")&" j","⚪ Prévu le "&TEXT(O17,"DD/MM/YY"))))) -> ⚪ Saisir date naissance | R17: =IF(D17="","",EDATE(D17,2)) | T17: =IF(S17<>"","✅ Administré le "&TEXT(S17,"DD/MM/YY"),IF(R17="","⚪ Saisir date naissance",IF(TODAY()>R17,"🔴 URGENT — Dû depuis "&TEXT(TODAY()-R17,"0")&" j",IF(TODAY()>=R17-30,"🟠 RAPPEL — Dans "&TEXT(R17-TODAY(),"0")&" j","⚪ Prévu le "&TEXT(R17,"DD/MM/YY"))))) -> ⚪ Saisir date naissance | U17: =IF(D17="","",EDATE(D17,4)) | W17: =IF(V17<>"","✅ Administré le "&TEXT(V17,"DD/MM/YY"),IF(U17="","⚪ Saisir date naissance",IF(TODAY()>U17,"🔴 URGENT — Dû depuis "&TEXT(TODAY()-U17,"0")&" j",IF(TODAY()>=U17-30,"🟠 RAPPEL — Dans "&TEXT(U17-TODAY(),"0")&" j","⚪ Prévu le "&TEXT(U17,"DD/MM/YY"))))) -> ⚪ Saisir date naissance | X17: =IF(D17="","",EDATE(D17,12)) | Z17: =IF(Y17<>"","✅ Administré le "&TEXT(Y17,"DD/MM/YY"),IF(X17="","⚪ Saisir date naissance",IF(TODAY()>X17,"🔴 URGENT — Dû depuis "&TEXT(TODAY()-X17,"0")&" j",IF(TODAY()>=X17-30,"🟠 RAPPEL — Dans "&TEXT(X17-TODAY(),"0")&" j","⚪ Prévu le "&TEXT(X17,"DD/MM/YY"))))) -> ⚪ Saisir date naissance | AA17: =IF(D17="","",EDATE(D17,15)) | AC17: =IF(AB17<>"","✅ Administré le "&TEXT(AB17,"DD/MM/YY"),IF(AA17="","⚪ Saisir date naissance",IF(TODAY()>AA17,"🔴 URGENT — Dû depuis "&TEXT(TODAY()-AA17,"0")&" j",IF(TODAY()>=AA17-30,"🟠 RAPPEL — Dans "&TEXT(AA17-TODAY(),"0")&" j","⚪ Prévu le "&TEXT(AA17,"DD/MM/YY"))))) -> ⚪ Saisir date naissance | AD17: =IF(D17="","",EDATE(D17,12)) | AF17: =IF(AE17<>"","✅ Administré le "&TEXT(AE17,"DD/MM/YY"),IF(AD17="","⚪ Saisir date naissance",IF(TODAY()>AD17,"🔴 URGENT — Dû depuis "&TEXT(TODAY()-AD17,"0")&" j",IF(TODAY()>=AD17-30,"🟠 RAPPEL — Dans "&TEXT(AD17-TODAY(),"0")&" j","⚪ Prévu le "&TEXT(AD17,"DD/MM/YY"))))) -> ⚪ Saisir date naissance | AG17: =IF(D17="","",EDATE(D17,15)) | AI17: =IF(AH17<>"","✅ Administré le "&TEXT(AH17,"DD/MM/YY"),IF(AG17="","⚪ Saisir date naissance",IF(TODAY()>AG17,"🔴 URGENT — Dû depuis "&TEXT(TODAY()-AG17,"0")&" j",IF(TODAY()>=AG17-30,"🟠 RAPPEL — Dans "&TEXT(AG17-TODAY(),"0")&" j","⚪ Prévu le "&TEXT(AG17,"DD/MM/YY"))))) -> ⚪ Saisir date naissance | AJ17: Saison hivernale | AL17: =IF(AK17<>"","✅ Administré","📋 À planifier") -> 📋 À planifier | AM17: =IF(D17="","",EDATE(D17,2)) | AO17: =IF(AN17<>"","✅ Administré le "&TEXT(AN17,"DD/MM/YY"),IF(AM17="","⚪ Saisir date naissance",IF(TODAY()>AM17,"🔴 URGENT — Dû depuis "&TEXT(TODAY()-AM17,"0")&" j",IF(TODAY()>=AM17-30,"🟠 RAPPEL — Dans "&TEXT(AM17-TODAY(),"0")&" j","⚪ Prévu le "&TEXT(AM17,"DD/MM/YY"))))) -> ⚪ Saisir date naissance | AP17: =IF(D17="","",EDATE(D17,3)) | AR17: =IF(AQ17<>"","✅ Administré le "&TEXT(AQ17,"DD/MM/YY"),IF(AP17="","⚪ Saisir date naissance",IF(TODAY()>AP17,"🔴 URGENT — Dû depuis "&TEXT(TODAY()-AP17,"0")&" j",IF(TODAY()>=AP17-30,"🟠 RAPPEL — Dans "&TEXT(AP17-TODAY(),"0")&" j","⚪ Prévu le "&TEXT(AP17,"DD/MM/YY"))))) -> ⚪ Saisir date naissance
A18: 12 | F18: =IF(D18="","",EDATE(D18,2)) | H18: =IF(G18<>"","✅ Administré le "&TEXT(G18,"DD/MM/YY"),IF(F18="","⚪ Saisir date naissance",IF(TODAY()>F18,"🔴 URGENT — Dû depuis "&TEXT(TODAY()-F18,"0")&" j",IF(TODAY()>=F18-30,"🟠 RAPPEL — Dans "&TEXT(F18-TODAY(),"0")&" j","⚪ Prévu le "&TEXT(F18,"DD/MM/YY"))))) -> ⚪ Saisir date naissance | I18: =IF(D18="","",EDATE(D18,3)) | K18: =IF(J18<>"","✅ Administré le "&TEXT(J18,"DD/MM/YY"),IF(I18="","⚪ Saisir date naissance",IF(TODAY()>I18,"🔴 URGENT — Dû depuis "&TEXT(TODAY()-I18,"0")&" j",IF(TODAY()>=I18-30,"🟠 RAPPEL — Dans "&TEXT(I18-TODAY(),"0")&" j","⚪ Prévu le "&TEXT(I18,"DD/MM/YY"))))) -> ⚪ Saisir date naissance | L18: =IF(D18="","",EDATE(D18,4)) | N18: =IF(M18<>"","✅ Administré le "&TEXT(M18,"DD/MM/YY"),IF(L18="","⚪ Saisir date naissance",IF(TODAY()>L18,"🔴 URGENT — Dû depuis "&TEXT(TODAY()-L18,"0")&" j",IF(TODAY()>=L18-30,"🟠 RAPPEL — Dans "&TEXT(L18-TODAY(),"0")&" j","⚪ Prévu le "&TEXT(L18,"DD/MM/YY"))))) -> ⚪ Saisir date naissance | O18: =IF(D18="","",EDATE(D18,15)) | Q18: =IF(P18<>"","✅ Administré le "&TEXT(P18,"DD/MM/YY"),IF(O18="","⚪ Saisir date naissance",IF(TODAY()>O18,"🔴 URGENT — Dû depuis "&TEXT(TODAY()-O18,"0")&" j",IF(TODAY()>=O18-30,"🟠 RAPPEL — Dans "&TEXT(O18-TODAY(),"0")&" j","⚪ Prévu le "&TEXT(O18,"DD/MM/YY"))))) -> ⚪ Saisir date naissance | R18: =IF(D18="","",EDATE(D18,2)) | T18: =IF(S18<>"","✅ Administré le "&TEXT(S18,"DD/MM/YY"),IF(R18="","⚪ Saisir date naissance",IF(TODAY()>R18,"🔴 URGENT — Dû depuis "&TEXT(TODAY()-R18,"0")&" j",IF(TODAY()>=R18-30,"🟠 RAPPEL — Dans "&TEXT(R18-TODAY(),"0")&" j","⚪ Prévu le "&TEXT(R18,"DD/MM/YY"))))) -> ⚪ Saisir date naissance | U18: =IF(D18="","",EDATE(D18,4)) | W18: =IF(V18<>"","✅ Administré le "&TEXT(V18,"DD/MM/YY"),IF(U18="","⚪ Saisir date naissance",IF(TODAY()>U18,"🔴 URGENT — Dû depuis "&TEXT(TODAY()-U18,"0")&" j",IF(TODAY()>=U18-30,"🟠 RAPPEL — Dans "&TEXT(U18-TODAY(),"0")&" j","⚪ Prévu le "&TEXT(U18,"DD/MM/YY"))))) -> ⚪ Saisir date naissance | X18: =IF(D18="","",EDATE(D18,12)) | Z18: =IF(Y18<>"","✅ Administré le "&TEXT(Y18,"DD/MM/YY"),IF(X18="","⚪ Saisir date naissance",IF(TODAY()>X18,"🔴 URGENT — Dû depuis "&TEXT(TODAY()-X18,"0")&" j",IF(TODAY()>=X18-30,"🟠 RAPPEL — Dans "&TEXT(X18-TODAY(),"0")&" j","⚪ Prévu le "&TEXT(X18,"DD/MM/YY"))))) -> ⚪ Saisir date naissance | AA18: =IF(D18="","",EDATE(D18,15)) | AC18: =IF(AB18<>"","✅ Administré le "&TEXT(AB18,"DD/MM/YY"),IF(AA18="","⚪ Saisir date naissance",IF(TODAY()>AA18,"🔴 URGENT — Dû depuis "&TEXT(TODAY()-AA18,"0")&" j",IF(TODAY()>=AA18-30,"🟠 RAPPEL — Dans "&TEXT(AA18-TODAY(),"0")&" j","⚪ Prévu le "&TEXT(AA18,"DD/MM/YY"))))) -> ⚪ Saisir date naissance | AD18: =IF(D18="","",EDATE(D18,12)) | AF18: =IF(AE18<>"","✅ Administré le "&TEXT(AE18,"DD/MM/YY"),IF(AD18="","⚪ Saisir date naissance",IF(TODAY()>AD18,"🔴 URGENT — Dû depuis "&TEXT(TODAY()-AD18,"0")&" j",IF(TODAY()>=AD18-30,"🟠 RAPPEL — Dans "&TEXT(AD18-TODAY(),"0")&" j","⚪ Prévu le "&TEXT(AD18,"DD/MM/YY"))))) -> ⚪ Saisir date naissance | AG18: =IF(D18="","",EDATE(D18,15)) | AI18: =IF(AH18<>"","✅ Administré le "&TEXT(AH18,"DD/MM/YY"),IF(AG18="","⚪ Saisir date naissance",IF(TODAY()>AG18,"🔴 URGENT — Dû depuis "&TEXT(TODAY()-AG18,"0")&" j",IF(TODAY()>=AG18-30,"🟠 RAPPEL — Dans "&TEXT(AG18-TODAY(),"0")&" j","⚪ Prévu le "&TEXT(AG18,"DD/MM/YY"))))) -> ⚪ Saisir date naissance | AJ18: Saison hivernale | AL18: =IF(AK18<>"","✅ Administré","📋 À planifier") -> 📋 À planifier | AM18: =IF(D18="","",EDATE(D18,2)) | AO18: =IF(AN18<>"","✅ Administré le "&TEXT(AN18,"DD/MM/YY"),IF(AM18="","⚪ Saisir date naissance",IF(TODAY()>AM18,"🔴 URGENT — Dû depuis "&TEXT(TODAY()-AM18,"0")&" j",IF(TODAY()>=AM18-30,"🟠 RAPPEL — Dans "&TEXT(AM18-TODAY(),"0")&" j","⚪ Prévu le "&TEXT(AM18,"DD/MM/YY"))))) -> ⚪ Saisir date naissance | AP18: =IF(D18="","",EDATE(D18,3)) | AR18: =IF(AQ18<>"","✅ Administré le "&TEXT(AQ18,"DD/MM/YY"),IF(AP18="","⚪ Saisir date naissance",IF(TODAY()>AP18,"🔴 URGENT — Dû depuis "&TEXT(TODAY()-AP18,"0")&" j",IF(TODAY()>=AP18-30,"🟠 RAPPEL — Dans "&TEXT(AP18-TODAY(),"0")&" j","⚪ Prévu le "&TEXT(AP18,"DD/MM/YY"))))) -> ⚪ Saisir date naissance
A19: 13 | F19: =IF(D19="","",EDATE(D19,2)) | H19: =IF(G19<>"","✅ Administré le "&TEXT(G19,"DD/MM/YY"),IF(F19="","⚪ Saisir date naissance",IF(TODAY()>F19,"🔴 URGENT — Dû depuis "&TEXT(TODAY()-F19,"0")&" j",IF(TODAY()>=F19-30,"🟠 RAPPEL — Dans "&TEXT(F19-TODAY(),"0")&" j","⚪ Prévu le "&TEXT(F19,"DD/MM/YY"))))) -> ⚪ Saisir date naissance | I19: =IF(D19="","",EDATE(D19,3)) | K19: =IF(J19<>"","✅ Administré le "&TEXT(J19,"DD/MM/YY"),IF(I19="","⚪ Saisir date naissance",IF(TODAY()>I19,"🔴 URGENT — Dû depuis "&TEXT(TODAY()-I19,"0")&" j",IF(TODAY()>=I19-30,"🟠 RAPPEL — Dans "&TEXT(I19-TODAY(),"0")&" j","⚪ Prévu le "&TEXT(I19,"DD/MM/YY"))))) -> ⚪ Saisir date naissance | L19: =IF(D19="","",EDATE(D19,4)) | N19: =IF(M19<>"","✅ Administré le "&TEXT(M19,"DD/MM/YY"),IF(L19="","⚪ Saisir date naissance",IF(TODAY()>L19,"🔴 URGENT — Dû depuis "&TEXT(TODAY()-L19,"0")&" j",IF(TODAY()>=L19-30,"🟠 RAPPEL — Dans "&TEXT(L19-TODAY(),"0")&" j","⚪ Prévu le "&TEXT(L19,"DD/MM/YY"))))) -> ⚪ Saisir date naissance | O19: =IF(D19="","",EDATE(D19,15)) | Q19: =IF(P19<>"","✅ Administré le "&TEXT(P19,"DD/MM/YY"),IF(O19="","⚪ Saisir date naissance",IF(TODAY()>O19,"🔴 URGENT — Dû depuis "&TEXT(TODAY()-O19,"0")&" j",IF(TODAY()>=O19-30,"🟠 RAPPEL — Dans "&TEXT(O19-TODAY(),"0")&" j","⚪ Prévu le "&TEXT(O19,"DD/MM/YY"))))) -> ⚪ Saisir date naissance | R19: =IF(D19="","",EDATE(D19,2)) | T19: =IF(S19<>"","✅ Administré le "&TEXT(S19,"DD/MM/YY"),IF(R19="","⚪ Saisir date naissance",IF(TODAY()>R19,"🔴 URGENT — Dû depuis "&TEXT(TODAY()-R19,"0")&" j",IF(TODAY()>=R19-30,"🟠 RAPPEL — Dans "&TEXT(R19-TODAY(),"0")&" j","⚪ Prévu le "&TEXT(R19,"DD/MM/YY"))))) -> ⚪ Saisir date naissance | U19: =IF(D19="","",EDATE(D19,4)) | W19: =IF(V19<>"","✅ Administré le "&TEXT(V19,"DD/MM/YY"),IF(U19="","⚪ Saisir date naissance",IF(TODAY()>U19,"🔴 URGENT — Dû depuis "&TEXT(TODAY()-U19,"0")&" j",IF(TODAY()>=U19-30,"🟠 RAPPEL — Dans "&TEXT(U19-TODAY(),"0")&" j","⚪ Prévu le "&TEXT(U19,"DD/MM/YY"))))) -> ⚪ Saisir date naissance | X19: =IF(D19="","",EDATE(D19,12)) | Z19: =IF(Y19<>"","✅ Administré le "&TEXT(Y19,"DD/MM/YY"),IF(X19="","⚪ Saisir date naissance",IF(TODAY()>X19,"🔴 URGENT — Dû depuis "&TEXT(TODAY()-X19,"0")&" j",IF(TODAY()>=X19-30,"🟠 RAPPEL — Dans "&TEXT(X19-TODAY(),"0")&" j","⚪ Prévu le "&TEXT(X19,"DD/MM/YY"))))) -> ⚪ Saisir date naissance | AA19: =IF(D19="","",EDATE(D19,15)) | AC19: =IF(AB19<>"","✅ Administré le "&TEXT(AB19,"DD/MM/YY"),IF(AA19="","⚪ Saisir date naissance",IF(TODAY()>AA19,"🔴 URGENT — Dû depuis "&TEXT(TODAY()-AA19,"0")&" j",IF(TODAY()>=AA19-30,"🟠 RAPPEL — Dans "&TEXT(AA19-TODAY(),"0")&" j","⚪ Prévu le "&TEXT(AA19,"DD/MM/YY"))))) -> ⚪ Saisir date naissance | AD19: =IF(D19="","",EDATE(D19,12)) | AF19: =IF(AE19<>"","✅ Administré le "&TEXT(AE19,"DD/MM/YY"),IF(AD19="","⚪ Saisir date naissance",IF(TODAY()>AD19,"🔴 URGENT — Dû depuis "&TEXT(TODAY()-AD19,"0")&" j",IF(TODAY()>=AD19-30,"🟠 RAPPEL — Dans "&TEXT(AD19-TODAY(),"0")&" j","⚪ Prévu le "&TEXT(AD19,"DD/MM/YY"))))) -> ⚪ Saisir date naissance | AG19: =IF(D19="","",EDATE(D19,15)) | AI19: =IF(AH19<>"","✅ Administré le "&TEXT(AH19,"DD/MM/YY"),IF(AG19="","⚪ Saisir date naissance",IF(TODAY()>AG19,"🔴 URGENT — Dû depuis "&TEXT(TODAY()-AG19,"0")&" j",IF(TODAY()>=AG19-30,"🟠 RAPPEL — Dans "&TEXT(AG19-TODAY(),"0")&" j","⚪ Prévu le "&TEXT(AG19,"DD/MM/YY"))))) -> ⚪ Saisir date naissance | AJ19: Saison hivernale | AL19: =IF(AK19<>"","✅ Administré","📋 À planifier") -> 📋 À planifier | AM19: =IF(D19="","",EDATE(D19,2)) | AO19: =IF(AN19<>"","✅ Administré le "&TEXT(AN19,"DD/MM/YY"),IF(AM19="","⚪ Saisir date naissance",IF(TODAY()>AM19,"🔴 URGENT — Dû depuis "&TEXT(TODAY()-AM19,"0")&" j",IF(TODAY()>=AM19-30,"🟠 RAPPEL — Dans "&TEXT(AM19-TODAY(),"0")&" j","⚪ Prévu le "&TEXT(AM19,"DD/MM/YY"))))) -> ⚪ Saisir date naissance | AP19: =IF(D19="","",EDATE(D19,3)) | AR19: =IF(AQ19<>"","✅ Administré le "&TEXT(AQ19,"DD/MM/YY"),IF(AP19="","⚪ Saisir date naissance",IF(TODAY()>AP19,"🔴 URGENT — Dû depuis "&TEXT(TODAY()-AP19,"0")&" j",IF(TODAY()>=AP19-30,"🟠 RAPPEL — Dans "&TEXT(AP19-TODAY(),"0")&" j","⚪ Prévu le "&TEXT(AP19,"DD/MM/YY"))))) -> ⚪ Saisir date naissance
... A21: 15 | F21: =IF(D21="","",EDATE(D21,2)) | H21: =IF(G21<>"","✅ Administré le "&TEXT(G21,"DD/MM/YY"),IF(F21="","⚪ Saisir date naissance",IF(TODAY()>F21,"🔴 URGENT — Dû depuis "&TEXT(TODAY()-F21,"0")&" j",IF(TODAY()>=F21-30,"🟠 RAPPEL — Dans "&TEXT(F21-TODAY(),"0")&" j","⚪ Prévu le "&TEXT(F21,"DD/MM/YY"))))) -> ⚪ Saisir date naissance | I21: =IF(D21="","",EDATE(D21,3)) | K21: =IF(J21<>"","✅ Administré le "&TEXT(J21,"DD/MM/YY"),IF(I21="","⚪ Saisir date naissance",IF(TODAY()>I21,"🔴 URGENT — Dû depuis "&TEXT(TODAY()-I21,"0")&" j",IF(TODAY()>=I21-30,"🟠 RAPPEL — Dans "&TEXT(I21-TODAY(),"0")&" j","⚪ Prévu le "&TEXT(I21,"DD/MM/YY"))))) -> ⚪ Saisir date naissance | L21: =IF(D21="","",EDATE(D21,4)) | N21: =IF(M21<>"","✅ Administré le "&TEXT(M21,"DD/MM/YY"),IF(L21="","⚪ Saisir date naissance",IF(TODAY()>L21,"🔴 URGENT — Dû depuis "&TEXT(TODAY()-L21,"0")&" j",IF(TODAY()>=L21-30,"🟠 RAPPEL — Dans "&TEXT(L21-TODAY(),"0")&" j","⚪ Prévu le "&TEXT(L21,"DD/MM/YY"))))) -> ⚪ Saisir date naissance | O21: =IF(D21="","",EDATE(D21,15)) | Q21: =IF(P21<>"","✅ Administré le "&TEXT(P21,"DD/MM/YY"),IF(O21="","⚪ Saisir date naissance",IF(TODAY()>O21,"🔴 URGENT — Dû depuis "&TEXT(TODAY()-O21,"0")&" j",IF(TODAY()>=O21-30,"🟠 RAPPEL — Dans "&TEXT(O21-TODAY(),"0")&" j","⚪ Prévu le "&TEXT(O21,"DD/MM/YY"))))) -> ⚪ Saisir date naissance | R21: =IF(D21="","",EDATE(D21,2)) | T21: =IF(S21<>"","✅ Administré le "&TEXT(S21,"DD/MM/YY"),IF(R21="","⚪ Saisir date naissance",IF(TODAY()>R21,"🔴 URGENT — Dû depuis "&TEXT(TODAY()-R21,"0")&" j",IF(TODAY()>=R21-30,"🟠 RAPPEL — Dans "&TEXT(R21-TODAY(),"0")&" j","⚪ Prévu le "&TEXT(R21,"DD/MM/YY"))))) -> ⚪ Saisir date naissance | U21: =IF(D21="","",EDATE(D21,4)) | W21: =IF(V21<>"","✅ Administré le "&TEXT(V21,"DD/MM/YY"),IF(U21="","⚪ Saisir date naissance",IF(TODAY()>U21,"🔴 URGENT — Dû depuis "&TEXT(TODAY()-U21,"0")&" j",IF(TODAY()>=U21-30,"🟠 RAPPEL — Dans "&TEXT(U21-TODAY(),"0")&" j","⚪ Prévu le "&TEXT(U21,"DD/MM/YY"))))) -> ⚪ Saisir date naissance | X21: =IF(D21="","",EDATE(D21,12)) | Z21: =IF(Y21<>"","✅ Administré le "&TEXT(Y21,"DD/MM/YY"),IF(X21="","⚪ Saisir date naissance",IF(TODAY()>X21,"🔴 URGENT — Dû depuis "&TEXT(TODAY()-X21,"0")&" j",IF(TODAY()>=X21-30,"🟠 RAPPEL — Dans "&TEXT(X21-TODAY(),"0")&" j","⚪ Prévu le "&TEXT(X21,"DD/MM/YY"))))) -> ⚪ Saisir date naissance | AA21: =IF(D21="","",EDATE(D21,15)) | AC21: =IF(AB21<>"","✅ Administré le "&TEXT(AB21,"DD/MM/YY"),IF(AA21="","⚪ Saisir date naissance",IF(TODAY()>AA21,"🔴 URGENT — Dû depuis "&TEXT(TODAY()-AA21,"0")&" j",IF(TODAY()>=AA21-30,"🟠 RAPPEL — Dans "&TEXT(AA21-TODAY(),"0")&" j","⚪ Prévu le "&TEXT(AA21,"DD/MM/YY"))))) -> ⚪ Saisir date naissance | AD21: =IF(D21="","",EDATE(D21,12)) | AF21: =IF(AE21<>"","✅ Administré le "&TEXT(AE21,"DD/MM/YY"),IF(AD21="","⚪ Saisir date naissance",IF(TODAY()>AD21,"🔴 URGENT — Dû depuis "&TEXT(TODAY()-AD21,"0")&" j",IF(TODAY()>=AD21-30,"🟠 RAPPEL — Dans "&TEXT(AD21-TODAY(),"0")&" j","⚪ Prévu le "&TEXT(AD21,"DD/MM/YY"))))) -> ⚪ Saisir date naissance | AG21: =IF(D21="","",EDATE(D21,15)) | AI21: =IF(AH21<>"","✅ Administré le "&TEXT(AH21,"DD/MM/YY"),IF(AG21="","⚪ Saisir date naissance",IF(TODAY()>AG21,"🔴 URGENT — Dû depuis "&TEXT(TODAY()-AG21,"0")&" j",IF(TODAY()>=AG21-30,"🟠 RAPPEL — Dans "&TEXT(AG21-TODAY(),"0")&" j","⚪ Prévu le "&TEXT(AG21,"DD/MM/YY"))))) -> ⚪ Saisir date naissance | AJ21: Saison hivernale | AL21: =IF(AK21<>"","✅ Administré","📋 À planifier") -> 📋 À planifier | AM21: =IF(D21="","",EDATE(D21,2)) | AO21: =IF(AN21<>"","✅ Administré le "&TEXT(AN21,"DD/MM/YY"),IF(AM21="","⚪ Saisir date naissance",IF(TODAY()>AM21,"🔴 URGENT — Dû depuis "&TEXT(TODAY()-AM21,"0")&" j",IF(TODAY()>=AM21-30,"🟠 RAPPEL — Dans "&TEXT(AM21-TODAY(),"0")&" j","⚪ Prévu le "&TEXT(AM21,"DD/MM/YY"))))) -> ⚪ Saisir date naissance | AP21: =IF(D21="","",EDATE(D21,3)) | AR21: =IF(AQ21<>"","✅ Administré le "&TEXT(AQ21,"DD/MM/YY"),IF(AP21="","⚪ Saisir date naissance",IF(TODAY()>AP21,"🔴 URGENT — Dû depuis "&TEXT(TODAY()-AP21,"0")&" j",IF(TODAY()>=AP21-30,"🟠 RAPPEL — Dans "&TEXT(AP21-TODAY(),"0")&" j","⚪ Prévu le "&TEXT(AP21,"DD/MM/YY"))))) -> ⚪ Saisir date naissance
