Workbook

Sheet 💉 Calendrier Vaccinal
A1: 💉 SUIVI VACCINATIONS CRÈCHE — Calendrier ONE FWB 2025-2026 — Alertes Automatiques
A3: 🔴 URGENT — Vaccin dû ou dépassé | E3: 🟠 RAPPEL — Échéance dans moins de 30 jours | I3: 🟢 OK — Vaccin administré | M3: ⚪ À planifier — Date non encore atteinte | Q3: 🔵 Contre-indication médicale
A5: N° | B5: Nom | C5: Prénom | D5: Date de naissance | E5: Section | F5: Hexavalent D1 🔴 OBLIGATOIRE (2 mois) | I5: Hexavalent D2 🔴 OBLIGATOIRE (3 mois) | L5: Hexavalent D3 🔴 OBLIGATOIRE (4 mois) | O5: Hexavalent Rappel 🔴 OBLIGATOIRE (15 mois) | R5: Pneumo D1 🔴 OBLIGATOIRE (2 mois) | U5: Pneumo D2 🔴 OBLIGATOIRE (4 mois) | X5: Pneumo Rappel 🔴 OBLIGATOIRE (12 mois) | AA5: Méningo ACWY 🔴 OBLIGATOIRE (15 mois) | AD5: RRO D1 🔴 OBLIGATOIRE (12 mois) | AG5: RRO D2 🔴 OBLIGATOIRE (15 mois) | AJ5: VRS Beyfortus® 🔵 RECOMMANDÉ (Saison hivernale) | AM5: Rotavirus D1 🔵 RECOMMANDÉ (2 mois) | AP5: Rotavirus D2 🔵 RECOMMANDÉ (3 mois) | AS5: Observations / Contre-indications
F6: 📅 Date prévue (auto) | G6: ✅ Date réelle admin. | H6: ⚡ Alerte automatique | I6: 📅 Date prévue (auto) | J6: ✅ Date réelle admin. | K6: ⚡ Alerte automatique | L6: 📅 Date prévue (auto) | M6: ✅ Date réelle admin. | N6: ⚡ Alerte automatique | O6: 📅 Date prévue (auto) | P6: ✅ Date réelle admin. | Q6: ⚡ Alerte automatique | R6: 📅 Date prévue (auto) | S6: ✅ Date réelle admin. | T6: ⚡ Alerte automatique | U6: 📅 Date prévue (auto) | V6: ✅ Date réelle admin. | W6: ⚡ Alerte automatique | X6: 📅 Date prévue (auto) | Y6: ✅ Date réelle admin. | Z6: ⚡ Alerte automatique | AA6: 📅 Date prévue (auto) | AB6: ✅ Date réelle admin. | AC6: ⚡ Alerte automatique | AD6: 📅 Date prévue (auto) | AE6: ✅ Date réelle admin. | AF6: ⚡ Alerte automatique | AG6: 📅 Date prévue (auto) | AH6: ✅ Date réelle admin. | AI6: ⚡ Alerte automatique | AJ6: 📅 Date prévue (auto) | AK6: ✅ Date réelle admin. | AL6: ⚡ Alerte automatique | AM6: 📅 Date prévue (auto) | AN6: ✅ Date réelle admin. | AO6: ⚡ Alerte automatique | AP6: 📅 Date prévue (auto) | AQ6: ✅ Date réelle admin. | AR6: ⚡ Alerte automatique | AS6: Notes
A7: 1 | F7: =IF(D7="","",EDATE(D7,2)) | H7: =IF(G7<>"","✅ Administré le "&TEXT(G7,"DD/MM/YY"),IF(F7="","⚪ Saisir date naissance",IF(TODAY()>F7,"🔴 URGENT — Dû depuis "&TEXT(TODAY()-F7,"0")&" j",IF(TODAY()>=F7-30,"🟠 RAPPEL — Dans "&TEXT(F7-TODAY(),"0")&" j","⚪ Prévu le "&TEXT(F7,"DD/MM/YY"))))) -> ⚪ Saisir date naissance | I7: =IF(D7="","",EDATE(D7,3)) | K7: =IF(J7<>"","✅ Administré le "&TEXT(J7,"DD/MM/YY"),IF(I7="","⚪ Saisir date naissance",IF(TODAY()>I7,"🔴 URGENT — Dû depuis "&TEXT(TODAY()-I7,"0")&" j",IF(TODAY()>=I7-30,"🟠 RAPPEL — Dans "&TEXT(I7-TODAY(),"0")&" j","⚪ Prévu le "&TEXT(I7,"DD/MM/YY"))))) -> ⚪ Saisir date naissance | L7: =IF(D7="","",EDATE(D7,4)) | N7: =IF(M7<>"","✅ Administré le "&TEXT(M7,"DD/MM/YY"),IF(L7="","⚪ Saisir date naissance",IF(TODAY()>L7,"🔴 URGENT — Dû depuis "&TEXT(TODAY()-L7,"0")&" j",IF(TODAY()>=L7-30,"🟠 RAPPEL — Dans "&TEXT(L7-TODAY(),"0")&" j","⚪ Prévu le "&TEXT(L7,"DD/MM/YY"))))) -> ⚪ Saisir date naissance | O7: =IF(D7="","",EDATE(D7,15)) | Q7: =IF(P7<>"","✅ Administré le "&TEXT(P7,"DD/MM/YY"),IF(O7="","⚪ Saisir date naissance",IF(TODAY()>O7,"🔴 URGENT — Dû depuis "&TEXT(TODAY()-O7,"0")&" j",IF(TODAY()>=O7-30,"🟠 RAPPEL — Dans "&TEXT(O7-TODAY(),"0")&" j","⚪ Prévu le "&TEXT(O7,"DD/MM/YY"))))) -> ⚪ Saisir date naissance | R7: =IF(D7="","",EDATE(D7,2)) | T7: =IF(S7<>"","✅ Administré le "&TEXT(S7,"DD/MM/YY"),IF(R7="","⚪ Saisir date naissance",IF(TODAY()>R7,"🔴 URGENT — Dû depuis "&TEXT(TODAY()-R7,"0")&" j",IF(TODAY()>=R7-30,"🟠 RAPPEL — Dans "&TEXT(R7-TODAY(),"0")&" j","⚪ Prévu le "&TEXT(R7,"DD/MM/YY"))))) -> ⚪ Saisir date naissance | U7: =IF(D7="","",EDATE(D7,4)) | V7: 46011 | W7: =IF(V7<>"","✅ Administré le "&TEXT(V7,"DD/MM/YY"),IF(U7="","⚪ Saisir date naissance",IF(TODAY()>U7,"🔴 URGENT — Dû depuis "&TEXT(TODAY()-U7,"0")&" j",IF(TODAY()>=U7-30,"🟠 RAPPEL — Dans "&TEXT(U7-TODAY(),"0")&" j","⚪ Prévu le "&TEXT(U7,"DD/MM/YY"))))) -> #VALUE! | Z7: =IF(Y7<>"","✅ Administré le "&TEXT(Y7,"DD/MM/YY"),IF(X7="","⚪ Saisir date naissance",IF(TODAY()>X7,"🔴 URGENT — Dû depuis "&TEXT(TODAY()-X7,"0")&" j",IF(TODAY()>=X7-30,"🟠 RAPPEL — Dans "&TEXT(X7-TODAY(),"0")&" j","⚪ Prévu le "&TEXT(X7,"DD/MM/YY"))))) -> ⚪ Saisir date naissance | AC7: =IF(AB7<>"","✅ Administré le "&TEXT(AB7,"DD/MM/YY"),IF(AA7="","⚪ Saisir date naissance",IF(TODAY()>AA7,"🔴 URGENT — Dû depuis "&TEXT(TODAY()-AA7,"0")&" j",IF(TODAY()>=AA7-30,"🟠 RAPPEL — Dans "&TEXT(AA7-TODAY(),"0")&" j","⚪ Prévu le "&TEXT(AA7,"DD/MM/YY"))))) -> ⚪ Saisir date naissance | AF7: =IF(AE7<>"","✅ Administré le "&TEXT(AE7,"DD/MM/YY"),IF(AD7="","⚪ Saisir date naissance",IF(TODAY()>AD7,"🔴 URGENT — Dû depuis "&TEXT(TODAY()-AD7,"0")&" j",IF(TODAY()>=AD7-30,"🟠 RAPPEL — Dans "&TEXT(AD7-TODAY(),"0")&" j","⚪ Prévu le "&TEXT(AD7,"DD/MM/YY"))))) -> ⚪ Saisir date naissance | AI7: =IF(AH7<>"","✅ Administré le "&TEXT(AH7,"DD/MM/YY"),IF(AG7="","⚪ Saisir date naissance",IF(TODAY()>AG7,"🔴 URGENT — Dû depuis "&TEXT(TODAY()-AG7,"0")&" j",IF(TODAY()>=AG7-30,"🟠 RAPPEL — Dans "&TEXT(AG7-TODAY(),"0")&" j","⚪ Prévu le "&TEXT(AG7,"DD/MM/YY"))))) -> ⚪ Saisir date naissance | AJ7: Saison hivernale | AL7: =IF(AK7<>"","✅ Administré","📋 À planifier") -> 📋 À planifier | AO7: =IF(AN7<>"","✅ Administré le "&TEXT(AN7,"DD/MM/YY"),IF(AM7="","⚪ Saisir date naissance",IF(TODAY()>AM7,"🔴 URGENT — Dû depuis "&TEXT(TODAY()-AM7,"0")&" j",IF(TODAY()>=AM7-30,"🟠 RAPPEL — Dans "&TEXT(AM7-TODAY(),"0")&" j","⚪ Prévu le "&TEXT(AM7,"DD/MM/YY"))))) -> ⚪ Saisir date naissance | AR7: =IF(AQ7<>"","✅ Administré le "&TEXT(AQ7,"DD/MM/YY"),IF(AP7="","⚪ Saisir date naissance",IF(TODAY()>AP7,"🔴 URGENT — Dû depuis "&TEXT(TODAY()-AP7,"0")&" j",IF(TODAY()>=AP7-30,"🟠 RAPPEL — Dans "&TEXT(AP7-TODAY(),"0")&" j","⚪ Prévu le "&TEXT(AP7,"DD/MM/YY"))))) -> ⚪ Saisir date naissance
A8: 2 | F8: =IF(D8="","",EDATE(D8,2)) | H8: =IF(G8<>"","✅ Administré le "&TEXT(G8,"DD/MM/YY"),IF(F8="","⚪ Saisir date naissance",IF(TODAY()>F8,"🔴 URGENT — Dû depuis "&TEXT(TODAY()-F8,"0")&" j",IF(TODAY()>=F8-30,"🟠 RAPPEL — Dans "&TEXT(F8-TODAY(),"0")&" j","⚪ Prévu le "&TEXT(F8,"DD/MM/YY"))))) -> ⚪ Saisir date naissance | I8: =IF(D8="","",EDATE(D8,3)) | K8: =IF(J8<>"","✅ Administré le "&TEXT(J8,"DD/MM/YY"),IF(I8="","⚪ Saisir date naissance",IF(TODAY()>I8,"🔴 URGENT — Dû depuis "&TEXT(TODAY()-I8,"0")&" j",IF(TODAY()>=I8-30,"🟠 RAPPEL — Dans "&TEXT(I8-TODAY(),"0")&" j","⚪ Prévu le "&TEXT(I8,"DD/MM/YY"))))) -> ⚪ Saisir date naissance | L8: =IF(D8="","",EDATE(D8,4)) | N8: =IF(M8<>"","✅ Administré le "&TEXT(M8,"DD/MM/YY"),IF(L8="","⚪ Saisir date naissance",IF(TODAY()>L8,"🔴 URGENT — Dû depuis "&TEXT(TODAY()-L8,"0")&" j",IF(TODAY()>=L8-30,"🟠 RAPPEL — Dans "&TEXT(L8-TODAY(),"0")&" j","⚪ Prévu le "&TEXT(L8,"DD/MM/YY"))))) -> ⚪ Saisir date naissance | O8: =IF(D8="","",EDATE(D8,15)) | Q8: =IF(P8<>"","✅ Administré le "&TEXT(P8,"DD/MM/YY"),IF(O8="","⚪ Saisir date naissance",IF(TODAY()>O8,"🔴 URGENT — Dû depuis "&TEXT(TODAY()-O8,"0")&" j",IF(TODAY()>=O8-30,"🟠 RAPPEL — Dans "&TEXT(O8-TODAY(),"0")&" j","⚪ Prévu le "&TEXT(O8,"DD/MM/YY"))))) -> ⚪ Saisir date naissance | R8: =IF(D8="","",EDATE(D8,2)) | T8: =IF(S8<>"","✅ Administré le "&TEXT(S8,"DD/MM/YY"),IF(R8="","⚪ Saisir date naissance",IF(TODAY()>R8,"🔴 URGENT — Dû depuis "&TEXT(TODAY()-R8,"0")&" j",IF(TODAY()>=R8-30,"🟠 RAPPEL — Dans "&TEXT(R8-TODAY(),"0")&" j","⚪ Prévu le "&TEXT(R8,"DD/MM/YY"))))) -> ⚪ Saisir date naissance | U8: =IF(D8="","",EDATE(D8,4)) | W8: =IF(V8<>"","✅ Administré le "&TEXT(V8,"DD/MM/YY"),IF(U8="","⚪ Saisir date naissance",IF(TODAY()>U8,"🔴 URGENT — Dû depuis "&TEXT(TODAY()-U8,"0")&" j",IF(TODAY()>=U8-30,"🟠 RAPPEL — Dans "&TEXT(U8-TODAY(),"0")&" j","⚪ Prévu le "&TEXT(U8,"DD/MM/YY"))))) -> ⚪ Saisir date naissance | X8: =IF(D8="","",EDATE(D8,12)) | Z8: =IF(Y8<>"","✅ Administré le "&TEXT(Y8,"DD/MM/YY"),IF(X8="","⚪ Saisir date naissance",IF(TODAY()>X8,"🔴 URGENT — Dû depuis "&TEXT(TODAY()-X8,"0")&" j",IF(TODAY()>=X8-30,"🟠 RAPPEL — Dans "&TEXT(X8-TODAY(),"0")&" j","⚪ Prévu le "&TEXT(X8,"DD/MM/YY"))))) -> ⚪ Saisir date naissance | AA8: =IF(D8="","",EDATE(D8,15)) | AC8: =IF(AB8<>"","✅ Administré le "&TEXT(AB8,"DD/MM/YY"),IF(AA8="","⚪ Saisir date naissance",IF(TODAY()>AA8,"🔴 URGENT — Dû depuis "&TEXT(TODAY()-AA8,"0")&" j",IF(TODAY()>=AA8-30,"🟠 RAPPEL — Dans "&TEXT(AA8-TODAY(),"0")&" j","⚪ Prévu le "&TEXT(AA8,"DD/MM/YY"))))) -> ⚪ Saisir date naissance | AD8: =IF(D8="","",EDATE(D8,12)) | AF8: =IF(AE8<>"","✅ Administré le "&TEXT(AE8,"DD/MM/YY"),IF(AD8="","⚪ Saisir date naissance",IF(TODAY()>AD8,"🔴 URGENT — Dû depuis "&TEXT(TODAY()-AD8,"0")&" j",IF(TODAY()>=AD8-30,"🟠 RAPPEL — Dans "&TEXT(AD8-TODAY(),"0")&" j","⚪ Prévu le "&TEXT(AD8,"DD/MM/YY"))))) -> ⚪ Saisir date naissance | AG8: =IF(D8="","",EDATE(D8,15)) | AI8: =IF(AH8<>"","✅ Administré le "&TEXT(AH8,"DD/MM/YY"),IF(AG8="","⚪ Saisir date naissance",IF(TODAY()>AG8,"🔴 URGENT — Dû depuis "&TEXT(TODAY()-AG8,"0")&" j",IF(TODAY()>=AG8-30,"🟠 RAPPEL — Dans "&TEXT(AG8-TODAY(),"0")&" j","⚪ Prévu le "&TEXT(AG8,"DD/MM/YY"))))) -> ⚪ Saisir date naissance | AJ8: Saison hivernale | AL8: =IF(AK8<>"","✅ Administré","📋 À planifier") -> 📋 À planifier | AM8: =IF(D8="","",EDATE(D8,2)) | AO8: =IF(AN8<>"","✅ Administré le "&TEXT(AN8,"DD/MM/YY"),IF(AM8="","⚪ Saisir date naissance",IF(TODAY()>AM8,"🔴 URGENT — Dû depuis "&TEXT(TODAY()-AM8,"0")&" j",IF(TODAY()>=AM8-30,"🟠 RAPPEL — Dans "&TEXT(AM8-TODAY(),"0")&" j","⚪ Prévu le "&TEXT(AM8,"DD/MM/YY"))))) -> ⚪ Saisir date naissance | AP8: =IF(D8="","",EDATE(D8,3)) | AR8: =IF(AQ8<>"","✅ Administré le "&TEXT(AQ8,"DD/MM/YY"),IF(AP8="","⚪ Saisir date naissance",IF(TODAY()>AP8,"🔴 URGENT — Dû depuis "&TEXT(TODAY()-AP8,"0")&" j",IF(TODAY()>=AP8-30,"🟠 RAPPEL — Dans "&TEXT(AP8-TODAY(),"0")&" j","⚪ Prévu le "&TEXT(AP8,"DD/MM/YY"))))) -> ⚪ Saisir date naissance
A9: 3 | F9: =IF(D9="","",EDATE(D9,2)) | H9: =IF(G9<>"","✅ Administré le "&TEXT(G9,"DD/MM/YY"),IF(F9="","⚪ Saisir date naissance",IF(TODAY()>F9,"🔴 URGENT — Dû depuis "&TEXT(TODAY()-F9,"0")&" j",IF(TODAY()>=F9-30,"🟠 RAPPEL — Dans "&TEXT(F9-TODAY(),"0")&" j","⚪ Prévu le "&TEXT(F9,"DD/MM/YY"))))) -> ⚪ Saisir date naissance | I9: =IF(D9="","",EDATE(D9,3)) | K9: =IF(J9<>"","✅ Administré le "&TEXT(J9,"DD/MM/YY"),IF(I9="","⚪ Saisir date naissance",IF(TODAY()>I9,"🔴 URGENT — Dû depuis "&TEXT(TODAY()-I9,"0")&" j",IF(TODAY()>=I9-30,"🟠 RAPPEL — Dans "&TEXT(I9-TODAY(),"0")&" j","⚪ Prévu le "&TEXT(I9,"DD/MM/YY"))))) -> ⚪ Saisir date naissance | L9: =IF(D9="","",EDATE(D9,4)) | N9: =IF(M9<>"","✅ Administré le "&TEXT(M9,"DD/MM/YY"),IF(L9="","⚪ Saisir date naissance",IF(TODAY()>L9,"🔴 URGENT — Dû depuis "&TEXT(TODAY()-L9,"0")&" j",IF(TODAY()>=L9-30,"🟠 RAPPEL — Dans "&TEXT(L9-TODAY(),"0")&" j","⚪ Prévu le "&TEXT(L9,"DD/MM/YY"))))) -> ⚪ Saisir date naissance | O9: =IF(D9="","",EDATE(D9,15)) | Q9: =IF(P9<>"","✅ Administré le "&TEXT(P9,"DD/MM/YY"),IF(O9="","⚪ Saisir date naissance",IF(TODAY()>O9,"🔴 URGENT — Dû depuis "&TEXT(TODAY()-O9,"0")&" j",IF(TODAY()>=O9-30,"🟠 RAPPEL — Dans "&TEXT(O9-TODAY(),"0")&" j","⚪ Prévu le "&TEXT(O9,"DD/MM/YY"))))) -> ⚪ Saisir date naissance | R9: =IF(D9="","",EDATE(D9,2)) | T9: =IF(S9<>"","✅ Administré le "&TEXT(S9,"DD/MM/YY"),IF(R9="","⚪ Saisir date naissance",IF(TODAY()>R9,"🔴 URGENT — Dû depuis "&TEXT(TODAY()-R9,"0")&" j",IF(TODAY()>=R9-30,"🟠 RAPPEL — Dans "&TEXT(R9-TODAY(),"0")&" j","⚪ Prévu le "&TEXT(R9,"DD/MM/YY"))))) -> ⚪ Saisir date naissance | U9: =IF(D9="","",EDATE(D9,4)) | W9: =IF(V9<>"","✅ Administré le "&TEXT(V9,"DD/MM/YY"),IF(U9="","⚪ Saisir date naissance",IF(TODAY()>U9,"🔴 URGENT — Dû depuis "&TEXT(TODAY()-U9,"0")&" j",IF(TODAY()>=U9-30,"🟠 RAPPEL — Dans "&TEXT(U9-TODAY(),"0")&" j","⚪ Prévu le "&TEXT(U9,"DD/MM/YY"))))) -> ⚪ Saisir date naissance | X9: =IF(D9="","",EDATE(D9,12)) | Z9: =IF(Y9<>"","✅ Administré le "&TEXT(Y9,"DD/MM/YY"),IF(X9="","⚪ Saisir date naissance",IF(TODAY()>X9,"🔴 URGENT — Dû depuis "&TEXT(TODAY()-X9,"0")&" j",IF(TODAY()>=X9-30,"🟠 RAPPEL — Dans "&TEXT(X9-TODAY(),"0")&" j","⚪ Prévu le "&TEXT(X9,"DD/MM/YY"))))) -> ⚪ Saisir date naissance | AA9: =IF(D9="","",EDATE(D9,15)) | AC9: =IF(AB9<>"","✅ Administré le "&TEXT(AB9,"DD/MM/YY"),IF(AA9="","⚪ Saisir date naissance",IF(TODAY()>AA9,"🔴 URGENT — Dû depuis "&TEXT(TODAY()-AA9,"0")&" j",IF(TODAY()>=AA9-30,"🟠 RAPPEL — Dans "&TEXT(AA9-TODAY(),"0")&" j","⚪ Prévu le "&TEXT(AA9,"DD/MM/YY"))))) -> ⚪ Saisir date naissance | AD9: =IF(D9="","",EDATE(D9,12)) | AF9: =IF(AE9<>"","✅ Administré le "&TEXT(AE9,"DD/MM/YY"),IF(AD9="","⚪ Saisir date naissance",IF(TODAY()>AD9,"🔴 URGENT — Dû depuis "&TEXT(TODAY()-AD9,"0")&" j",IF(TODAY()>=AD9-30,"🟠 RAPPEL — Dans "&TEXT(AD9-TODAY(),"0")&" j","⚪ Prévu le "&TEXT(AD9,"DD/MM/YY"))))) -> ⚪ Saisir date naissance | AG9: =IF(D9="","",EDATE(D9,15)) | AI9: =IF(AH9<>"","✅ Administré le "&TEXT(AH9,"DD/MM/YY"),IF(AG9="","⚪ Saisir date naissance",IF(TODAY()>AG9,"🔴 URGENT — Dû depuis "&TEXT(TODAY()-AG9,"0")&" j",IF(TODAY()>=AG9-30,"🟠 RAPPEL — Dans "&TEXT(AG9-TODAY(),"0")&" j","⚪ Prévu le "&TEXT(AG9,"DD/MM/YY"))))) -> ⚪ Saisir date naissance | AJ9: Saison hivernale | AL9: =IF(AK9<>"","✅ Administré","📋 À planifier") -> 📋 À planifier | AM9: =IF(D9="","",EDATE(D9,2)) | AO9: =IF(AN9<>"","✅ Administré le "&TEXT(AN9,"DD/MM/YY"),IF(AM9="","⚪ Saisir date naissance",IF(TODAY()>AM9,"🔴 URGENT — Dû depuis "&TEXT(TODAY()-AM9,"0")&" j",IF(TODAY()>=AM9-30,"🟠 RAPPEL — Dans "&TEXT(AM9-TODAY(),"0")&" j","⚪ Prévu le "&TEXT(AM9,"DD/MM/YY"))))) -> ⚪ Saisir date naissance | AP9: =IF(D9="","",EDATE(D9,3)) | AR9: =IF(AQ9<>"","✅ Administré le "&TEXT(AQ9,"DD/MM/YY"),IF(AP9="","⚪ Saisir date naissance",IF(TODAY()>AP9,"🔴 URGENT — Dû depuis "&TEXT(TODAY()-AP9,"0")&" j",IF(TODAY()>=AP9-30,"🟠 RAPPEL — Dans "&TEXT(AP9-TODAY(),"0")&" j","⚪ Prévu le "&TEXT(AP9,"DD/MM/YY"))))) -> ⚪ Saisir date naissance
A10: 4 | F10: =IF(D10="","",EDATE(D10,2)) | H10: =IF(G10<>"","✅ Administré le "&TEXT(G10,"DD/MM/YY"),IF(F10="","⚪ Saisir date naissance",IF(TODAY()>F10,"🔴 URGENT — Dû depuis "&TEXT(TODAY()-F10,"0")&" j",IF(TODAY()>=F10-30,"🟠 RAPPEL — Dans "&TEXT(F10-TODAY(),"0")&" j","⚪ Prévu le "&TEXT(F10,"DD/MM/YY"))))) -> ⚪ Saisir date naissance | I10: =IF(D10="","",EDATE(D10,3)) | K10: =IF(J10<>"","✅ Administré le "&TEXT(J10,"DD/MM/YY"),IF(I10="","⚪ Saisir date naissance",IF(TODAY()>I10,"🔴 URGENT — Dû depuis "&TEXT(TODAY()-I10,"0")&" j",IF(TODAY()>=I10-30,"🟠 RAPPEL — Dans "&TEXT(I10-TODAY(),"0")&" j","⚪ Prévu le "&TEXT(I10,"DD/MM/YY"))))) -> ⚪ Saisir date naissance | L10: =IF(D10="","",EDATE(D10,4)) | N10: =IF(M10<>"","✅ Administré le "&TEXT(M10,"DD/MM/YY"),IF(L10="","⚪ Saisir date naissance",IF(TODAY()>L10,"🔴 URGENT — Dû depuis "&TEXT(TODAY()-L10,"0")&" j",IF(TODAY()>=L10-30,"🟠 RAPPEL — Dans "&TEXT(L10-TODAY(),"0")&" j","⚪ Prévu le "&TEXT(L10,"DD/MM/YY"))))) -> ⚪ Saisir date naissance | O10: =IF(D10="","",EDATE(D10,15)) | Q10: =IF(P10<>"","✅ Administré le "&TEXT(P10,"DD/MM/YY"),IF(O10="","⚪ Saisir date naissance",IF(TODAY()>O10,"🔴 URGENT — Dû depuis "&TEXT(TODAY()-O10,"0")&" j",IF(TODAY()>=O10-30,"🟠 RAPPEL — Dans "&TEXT(O10-TODAY(),"0")&" j","⚪ Prévu le "&TEXT(O10,"DD/MM/YY"))))) -> ⚪ Saisir date naissance | R10: =IF(D10="","",EDATE(D10,2)) | T10: =IF(S10<>"","✅ Administré le "&TEXT(S10,"DD/MM/YY"),IF(R10="","⚪ Saisir date naissance",IF(TODAY()>R10,"🔴 URGENT — Dû depuis "&TEXT(TODAY()-R10,"0")&" j",IF(TODAY()>=R10-30,"🟠 RAPPEL — Dans "&TEXT(R10-TODAY(),"0")&" j","⚪ Prévu le "&TEXT(R10,"DD/MM/YY"))))) -> ⚪ Saisir date naissance | U10: =IF(D10="","",EDATE(D10,4)) | W10: =IF(V10<>"","✅ Administré le "&TEXT(V10,"DD/MM/YY"),IF(U10="","⚪ Saisir date naissance",IF(TODAY()>U10,"🔴 URGENT — Dû depuis "&TEXT(TODAY()-U10,"0")&" j",IF(TODAY()>=U10-30,"🟠 RAPPEL — Dans "&TEXT(U10-TODAY(),"0")&" j","⚪ Prévu le "&TEXT(U10,"DD/MM/YY"))))) -> ⚪ Saisir date naissance | X10: =IF(D10="","",EDATE(D10,12)) | Z10: =IF(Y10<>"","✅ Administré le "&TEXT(Y10,"DD/MM/YY"),IF(X10="","⚪ Saisir date naissance",IF(TODAY()>X10,"🔴 URGENT — Dû depuis "&TEXT(TODAY()-X10,"0")&" j",IF(TODAY()>=X10-30,"🟠 RAPPEL — Dans "&TEXT(X10-TODAY(),"0")&" j","⚪ Prévu le "&TEXT(X10,"DD/MM/YY"))))) -> ⚪ Saisir date naissance | AA10: =IF(D10="","",EDATE(D10,15)) | AC10: =IF(AB10<>"","✅ Administré le "&TEXT(AB10,"DD/MM/YY"),IF(AA10="","⚪ Saisir date naissance",IF(TODAY()>AA10,"🔴 URGENT — Dû depuis "&TEXT(TODAY()-AA10,"0")&" j",IF(TODAY()>=AA10-30,"🟠 RAPPEL — Dans "&TEXT(AA10-TODAY(),"0")&" j","⚪ Prévu le "&TEXT(AA10,"DD/MM/YY"))))) -> ⚪ Saisir date naissance | AD10: =IF(D10="","",EDATE(D10,12)) | AF10: =IF(AE10<>"","✅ Administré le "&TEXT(AE10,"DD/MM/YY"),IF(AD10="","⚪ Saisir date naissance",IF(TODAY()>AD10,"🔴 URGENT — Dû depuis "&TEXT(TODAY()-AD10,"0")&" j",IF(TODAY()>=AD10-30,"🟠 RAPPEL — Dans "&TEXT(AD10-TODAY(),"0")&" j","⚪ Prévu le "&TEXT(AD10,"DD/MM/YY"))))) -> ⚪ Saisir date naissance | AG10: =IF(D10="","",EDATE(D10,15)) | AI10: =IF(AH10<>"","✅ Administré le "&TEXT(AH10,"DD/MM/YY"),IF(AG10="","⚪ Saisir date naissance",IF(TODAY()>AG10,"🔴 URGENT — Dû depuis "&TEXT(TODAY()-AG10,"0")&" j",IF(TODAY()>=AG10-30,"🟠 RAPPEL — Dans "&TEXT(AG10-TODAY(),"0")&" j","⚪ Prévu le "&TEXT(AG10,"DD/MM/YY"))))) -> ⚪ Saisir date naissance | AJ10: Saison hivernale | AL10: =IF(AK10<>"","✅ Administré","📋 À planifier") -> 📋 À planifier | AM10: =IF(D10="","",EDATE(D10,2)) | AO10: =IF(AN10<>"","✅ Administré le "&TEXT(AN10,"DD/MM/YY"),IF(AM10="","⚪ Saisir date naissance",IF(TODAY()>AM10,"🔴 URGENT — Dû depuis "&TEXT(TODAY()-AM10,"0")&" j",IF(TODAY()>=AM10-30,"🟠 RAPPEL — Dans "&TEXT(AM10-TODAY(),"0")&" j","⚪ Prévu le "&TEXT(AM10,"DD/MM/YY"))))) -> ⚪ Saisir date naissance | AP10: =IF(D10="","",EDATE(D10,3)) | AR10: =IF(AQ10<>"","✅ Administré le "&TEXT(AQ10,"DD/MM/YY"),IF(AP10="","⚪ Saisir date naissance",IF(TODAY()>AP10,"🔴 URGENT — Dû depuis "&TEXT(TODAY()-AP10,"0")&" j",IF(TODAY()>=AP10-30,"🟠 RAPPEL — Dans "&TEXT(AP10-TODAY(),"0")&" j","⚪ Prévu le "&TEXT(AP10,"DD/MM/YY"))))) -> ⚪ Saisir date naissance
A11: 5 | F11: =IF(D11="","",EDATE(D11,2)) | H11: =IF(G11<>"","✅ Administré le "&TEXT(G11,"DD/MM/YY"),IF(F11="","⚪ Saisir date naissance",IF(TODAY()>F11,"🔴 URGENT — Dû depuis "&TEXT(TODAY()-F11,"0")&" j",IF(TODAY()>=F11-30,"🟠 RAPPEL — Dans "&TEXT(F11-TODAY(),"0")&" j","⚪ Prévu le "&TEXT(F11,"DD/MM/YY"))))) -> ⚪ Saisir date naissance | I11: =IF(D11="","",EDATE(D11,3)) | K11: =IF(J11<>"","✅ Administré le "&TEXT(J11,"DD/MM/YY"),IF(I11="","⚪ Saisir date naissance",IF(TODAY()>I11,"🔴 URGENT — Dû depuis "&TEXT(TODAY()-I11,"0")&" j",IF(TODAY()>=I11-30,"🟠 RAPPEL — Dans "&TEXT(I11-TODAY(),"0")&" j","⚪ Prévu le "&TEXT(I11,"DD/MM/YY"))))) -> ⚪ Saisir date naissance | L11: =IF(D11="","",EDATE(D11,4)) | N11: =IF(M11<>"","✅ Administré le "&TEXT(M11,"DD/MM/YY"),IF(L11="","⚪ Saisir date naissance",IF(TODAY()>L11,"🔴 URGENT — Dû depuis "&TEXT(TODAY()-L11,"0")&" j",IF(TODAY()>=L11-30,"🟠 RAPPEL — Dans "&TEXT(L11-TODAY(),"0")&" j","⚪ Prévu le "&TEXT(L11,"DD/MM/YY"))))) -> ⚪ Saisir date naissance | O11: =IF(D11="","",EDATE(D11,15)) | Q11: =IF(P11<>"","✅ Administré le "&TEXT(P11,"DD/MM/YY"),IF(O11="","⚪ Saisir date naissance",IF(TODAY()>O11,"🔴 URGENT — Dû depuis "&TEXT(TODAY()-O11,"0")&" j",IF(TODAY()>=O11-30,"🟠 RAPPEL — Dans "&TEXT(O11-TODAY(),"0")&" j","⚪ Prévu le "&TEXT(O11,"DD/MM/YY"))))) -> ⚪ Saisir date naissance | R11: =IF(D11="","",EDATE(D11,2)) | T11: =IF(S11<>"","✅ Administré le "&TEXT(S11,"DD/MM/YY"),IF(R11="","⚪ Saisir date naissance",IF(TODAY()>R11,"🔴 URGENT — Dû depuis "&TEXT(TODAY()-R11,"0")&" j",IF(TODAY()>=R11-30,"🟠 RAPPEL — Dans "&TEXT(R11-TODAY(),"0")&" j","⚪ Prévu le "&TEXT(R11,"DD/MM/YY"))))) -> ⚪ Saisir date naissance | U11: =IF(D11="","",EDATE(D11,4)) | W11: =IF(V11<>"","✅ Administré le "&TEXT(V11,"DD/MM/YY"),IF(U11="","⚪ Saisir date naissance",IF(TODAY()>U11,"🔴 URGENT — Dû depuis "&TEXT(TODAY()-U11,"0")&" j",IF(TODAY()>=U11-30,"🟠 RAPPEL — Dans "&TEXT(U11-TODAY(),"0")&" j","⚪ Prévu le "&TEXT(U11,"DD/MM/YY"))))) -> ⚪ Saisir date naissance | X11: =IF(D11="","",EDATE(D11,12)) | Z11: =IF(Y11<>"","✅ Administré le "&TEXT(Y11,"DD/MM/YY"),IF(X11="","⚪ Saisir date naissance",IF(TODAY()>X11,"🔴 URGENT — Dû depuis "&TEXT(TODAY()-X11,"0")&" j",IF(TODAY()>=X11-30,"🟠 RAPPEL — Dans "&TEXT(X11-TODAY(),"0")&" j","⚪ Prévu le "&TEXT(X11,"DD/MM/YY"))))) -> ⚪ Saisir date naissance | AA11: =IF(D11="","",EDATE(D11,15)) | AC11: =IF(AB11<>"","✅ Administré le "&TEXT(AB11,"DD/MM/YY"),IF(AA11="","⚪ Saisir date naissance",IF(TODAY()>AA11,"🔴 URGENT — Dû depuis "&TEXT(TODAY()-AA11,"0")&" j",IF(TODAY()>=AA11-30,"🟠 RAPPEL — Dans "&TEXT(AA11-TODAY(),"0")&" j","⚪ Prévu le "&TEXT(AA11,"DD/MM/YY"))))) -> ⚪ Saisir date naissance | AD11: =IF(D11="","",EDATE(D11,12)) | AF11: =IF(AE11<>"","✅ Administré le "&TEXT(AE11,"DD/MM/YY"),IF(AD11="","⚪ Saisir date naissance",IF(TODAY()>AD11,"🔴 URGENT — Dû depuis "&TEXT(TODAY()-AD11,"0")&" j",IF(TODAY()>=AD11-30,"🟠 RAPPEL — Dans "&TEXT(AD11-TODAY(),"0")&" j","⚪ Prévu le "&TEXT(AD11,"DD/MM/YY"))))) -> ⚪ Saisir date naissance | AG11: =IF(D11="","",EDATE(D11,15)) | AI11: =IF(AH11<>"","✅ Administré le "&TEXT(AH11,"DD/MM/YY"),IF(AG11="","⚪ Saisir date naissance",IF(TODAY()>AG11,"🔴 URGENT — Dû depuis "&TEXT(TODAY()-AG11,"0")&" j",IF(TODAY()>=AG11-30,"🟠 RAPPEL — Dans "&TEXT(AG11-TODAY(),"0")&" j","⚪ Prévu le "&TEXT(AG11,"DD/MM/YY"))))) -> ⚪ Saisir date naissance | AJ11: Saison hivernale | AL11: =IF(AK11<>"","✅ Administré","📋 À planifier") -> 📋 À planifier | AM11: =IF(D11="","",EDATE(D11,2)) | AO11: =IF(AN11<>"","✅ Administré le "&TEXT(AN11,"DD/MM/YY"),IF(AM11="","⚪ Saisir date naissance",IF(TODAY()>AM11,"🔴 URGENT — Dû depuis "&TEXT(TODAY()-AM11,"0")&" j",IF(TODAY()>=AM11-30,"🟠 RAPPEL — Dans "&TEXT(AM11-TODAY(),"0")&" j","⚪ Prévu le "&TEXT(AM11,"DD/MM/YY"))))) -> ⚪ Saisir date naissance | AP11: =IF(D11="","",EDATE(D11,3)) | AR11: =IF(AQ11<>"","✅ Administré le "&TEXT(AQ11,"DD/MM/YY"),IF(AP11="","⚪ Saisir date naissance",IF(TODAY()>AP11,"🔴 URGENT — Dû depuis "&TEXT(TODAY()-AP11,"0")&" j",IF(TODAY()>=AP11-30,"🟠 RAPPEL — Dans "&TEXT(AP11-TODAY(),"0")&" j","⚪ Prévu le "&TEXT(AP11,"DD/MM/YY"))))) -> ⚪ Saisir date naissance
A12: 6 | F12: =IF(D12="","",EDATE(D12,2)) | H12: =IF(G12<>"","✅ Administré le "&TEXT(G12,"DD/MM/YY"),IF(F12="","⚪ Saisir date naissance",IF(TODAY()>F12,"🔴 URGENT — Dû depuis "&TEXT(TODAY()-F12,"0")&" j",IF(TODAY()>=F12-30,"🟠 RAPPEL — Dans "&TEXT(F12-TODAY(),"0")&" j","⚪ Prévu le "&TEXT(F12,"DD/MM/YY"))))) -> ⚪ Saisir date naissance | I12: =IF(D12="","",EDATE(D12,3)) | K12: =IF(J12<>"","✅ Administré le "&TEXT(J12,"DD/MM/YY"),IF(I12="","⚪ Saisir date naissance",IF(TODAY()>I12,"🔴 URGENT — Dû depuis "&TEXT(TODAY()-I12,"0")&" j",IF(TODAY()>=I12-30,"🟠 RAPPEL — Dans "&TEXT(I12-TODAY(),"0")&" j","⚪ Prévu le "&TEXT(I12,"DD/MM/YY"))))) -> ⚪ Saisir date naissance | L12: =IF(D12="","",EDATE(D12,4)) | N12: =IF(M12<>"","✅ Administré le "&TEXT(M12,"DD/MM/YY"),IF(L12="","⚪ Saisir date naissance",IF(TODAY()>L12,"🔴 URGENT — Dû depuis "&TEXT(TODAY()-L12,"0")&" j",IF(TODAY()>=L12-30,"🟠 RAPPEL — Dans "&TEXT(L12-TODAY(),"0")&" j","⚪ Prévu le "&TEXT(L12,"DD/MM/YY"))))) -> ⚪ Saisir date naissance | O12: =IF(D12="","",EDATE(D12,15)) | Q12: =IF(P12<>"","✅ Administré le "&TEXT(P12,"DD/MM/YY"),IF(O12="","⚪ Saisir date naissance",IF(TODAY()>O12,"🔴 URGENT — Dû depuis "&TEXT(TODAY()-O12,"0")&" j",IF(TODAY()>=O12-30,"🟠 RAPPEL — Dans "&TEXT(O12-TODAY(),"0")&" j","⚪ Prévu le "&TEXT(O12,"DD/MM/YY"))))) -> ⚪ Saisir date naissance | R12: =IF(D12="","",EDATE(D12,2)) | T12: =IF(S12<>"","✅ Administré le "&TEXT(S12,"DD/MM/YY"),IF(R12="","⚪ Saisir date naissance",IF(TODAY()>R12,"🔴 URGENT — Dû depuis "&TEXT(TODAY()-R12,"0")&" j",IF(TODAY()>=R12-30,"🟠 RAPPEL — Dans "&TEXT(R12-TODAY(),"0")&" j","⚪ Prévu le "&TEXT(R12,"DD/MM/YY"))))) -> ⚪ Saisir date naissance | U12: =IF(D12="","",EDATE(D12,4)) | W12: =IF(V12<>"","✅ Administré le "&TEXT(V12,"DD/MM/YY"),IF(U12="","⚪ Saisir date naissance",IF(TODAY()>U12,"🔴 URGENT — Dû depuis "&TEXT(TODAY()-U12,"0")&" j",IF(TODAY()>=U12-30,"🟠 RAPPEL — Dans "&TEXT(U12-TODAY(),"0")&" j","⚪ Prévu le "&TEXT(U12,"DD/MM/YY"))))) -> ⚪ Saisir date naissance | X12: =IF(D12="","",EDATE(D12,12)) | Z12: =IF(Y12<>"","✅ Administré le "&TEXT(Y12,"DD/MM/YY"),IF(X12="","⚪ Saisir date naissance",IF(TODAY()>X12,"🔴 URGENT — Dû depuis "&TEXT(TODAY()-X12,"0")&" j",IF(TODAY()>=X12-30,"🟠 RAPPEL — Dans "&TEXT(X12-TODAY(),"0")&" j","⚪ Prévu le "&TEXT(X12,"DD/MM/YY"))))) -> ⚪ Saisir date naissance | AA12: =IF(D12="","",EDATE(D12,15)) | AC12: =IF(AB12<>"","✅ Administré le "&TEXT(AB12,"DD/MM/YY"),IF(AA12="","⚪ Saisir date naissance",IF(TODAY()>AA12,"🔴 URGENT — Dû depuis "&TEXT(TODAY()-AA12,"0")&" j",IF(TODAY()>=AA12-30,"🟠 RAPPEL — Dans "&TEXT(AA12-TODAY(),"0")&" j","⚪ Prévu le "&TEXT(AA12,"DD/MM/YY"))))) -> ⚪ Saisir date naissance | AD12: =IF(D12="","",EDATE(D12,12)) | AF12: =IF(AE12<>"","✅ Administré le "&TEXT(AE12,"DD/MM/YY"),IF(AD12="","⚪ Saisir date naissance",IF(TODAY()>AD12,"🔴 URGENT — Dû depuis "&TEXT(TODAY()-AD12,"0")&" j",IF(TODAY()>=AD12-30,"🟠 RAPPEL — Dans "&TEXT(AD12-TODAY(),"0")&" j","⚪ Prévu le "&TEXT(AD12,"DD/MM/YY"))))) -> ⚪ Saisir date naissance | AG12: =IF(D12="","",EDATE(D12,15)) | AI12: =IF(AH12<>"","✅ Administré le "&TEXT(AH12,"DD/MM/YY"),IF(AG12="","⚪ Saisir date naissance",IF(TODAY()>AG12,"🔴 URGENT — Dû depuis "&TEXT(TODAY()-AG12,"0")&" j",IF(TODAY()>=AG12-30,"🟠 RAPPEL — Dans "&TEXT(AG12-TODAY(),"0")&" j","⚪ Prévu le "&TEXT(AG12,"DD/MM/YY"))))) -> ⚪ Saisir date naissance | AJ12: Saison hivernale | AL12: =IF(AK12<>"","✅ Administré","📋 À planifier") -> 📋 À planifier | AM12: =IF(D12="","",EDATE(D12,2)) | AO12: =IF(AN12<>"","✅ Administré le "&TEXT(AN12,"DD/MM/YY"),IF(AM12="","⚪ Saisir date naissance",IF(TODAY()>AM12,"🔴 URGENT — Dû depuis "&TEXT(TODAY()-AM12,"0")&" j",IF(TODAY()>=AM12-30,"🟠 RAPPEL — Dans "&TEXT(AM12-TODAY(),"0")&" j","⚪ Prévu le "&TEXT(AM12,"DD/MM/YY"))))) -> ⚪ Saisir date naissance | AP12: =IF(D12="","",EDATE(D12,3)) | AR12: =IF(AQ12<>"","✅ Administré le "&TEXT(AQ12,"DD/MM/YY"),IF(AP12="","⚪ Saisir date naissance",IF(TODAY()>AP12,"🔴 URGENT — Dû depuis "&TEXT(TODAY()-AP12,"0")&" j",IF(TODAY()>=AP12-30,"🟠 RAPPEL — Dans "&TEXT(AP12-TODAY(),"0")&" j","⚪ Prévu le "&TEXT(AP12,"DD/MM/YY"))))) -> ⚪ Saisir date naissance
A13: 7 | F13: =IF(D13="","",EDATE(D13,2)) | H13: =IF(G13<>"","✅ Administré le "&TEXT(G13,"DD/MM/YY"),IF(F13="","⚪ Saisir date naissance",IF(TODAY()>F13,"🔴 URGENT — Dû depuis "&TEXT(TODAY()-F13,"0")&" j",IF(TODAY()>=F13-30,"🟠 RAPPEL — Dans "&TEXT(F13-TODAY(),"0")&" j","⚪ Prévu le "&TEXT(F13,"DD/MM/YY"))))) -> ⚪ Saisir date naissance | I13: =IF(D13="","",EDATE(D13,3)) | K13: =IF(J13<>"","✅ Administré le "&TEXT(J13,"DD/MM/YY"),IF(I13="","⚪ Saisir date naissance",IF(TODAY()>I13,"🔴 URGENT — Dû depuis "&TEXT(TODAY()-I13,"0")&" j",IF(TODAY()>=I13-30,"🟠 RAPPEL — Dans "&TEXT(I13-TODAY(),"0")&" j","⚪ Prévu le "&TEXT(I13,"DD/MM/YY"))))) -> ⚪ Saisir date naissance | L13: =IF(D13="","",EDATE(D13,4)) | N13: =IF(M13<>"","✅ Administré le "&TEXT(M13,"DD/MM/YY"),IF(L13="","⚪ Saisir date naissance",IF(TODAY()>L13,"🔴 URGENT — Dû depuis "&TEXT(TODAY()-L13,"0")&" j",IF(TODAY()>=L13-30,"🟠 RAPPEL — Dans "&TEXT(L13-TODAY(),"0")&" j","⚪ Prévu le "&TEXT(L13,"DD/MM/YY"))))) -> ⚪ Saisir date naissance | O13: =IF(D13="","",EDATE(D13,15)) | Q13: =IF(P13<>"","✅ Administré le "&TEXT(P13,"DD/MM/YY"),IF(O13="","⚪ Saisir date naissance",IF(TODAY()>O13,"🔴 URGENT — Dû depuis "&TEXT(TODAY()-O13,"0")&" j",IF(TODAY()>=O13-30,"🟠 RAPPEL — Dans "&TEXT(O13-TODAY(),"0")&" j","⚪ Prévu le "&TEXT(O13,"DD/MM/YY"))))) -> ⚪ Saisir date naissance | R13: =IF(D13="","",EDATE(D13,2)) | T13: =IF(S13<>"","✅ Administré le "&TEXT(S13,"DD/MM/YY"),IF(R13="","⚪ Saisir date naissance",IF(TODAY()>R13,"🔴 URGENT — Dû depuis "&TEXT(TODAY()-R13,"0")&" j",IF(TODAY()>=R13-30,"🟠 RAPPEL — Dans "&TEXT(R13-TODAY(),"0")&" j","⚪ Prévu le "&TEXT(R13,"DD/MM/YY"))))) -> ⚪ Saisir date naissance | U13: =IF(D13="","",EDATE(D13,4)) | W13: =IF(V13<>"","✅ Administré le "&TEXT(V13,"DD/MM/YY"),IF(U13="","⚪ Saisir date naissance",IF(TODAY()>U13,"🔴 URGENT — Dû depuis "&TEXT(TODAY()-U13,"0")&" j",IF(TODAY()>=U13-30,"🟠 RAPPEL — Dans "&TEXT(U13-TODAY(),"0")&" j","⚪ Prévu le "&TEXT(U13,"DD/MM/YY"))))) -> ⚪ Saisir date naissance | X13: =IF(D13="","",EDATE(D13,12)) | Z13: =IF(Y13<>"","✅ Administré le "&TEXT(Y13,"DD/MM/YY"),IF(X13="","⚪ Saisir date naissance",IF(TODAY()>X13,"🔴 URGENT — Dû depuis "&TEXT(TODAY()-X13,"0")&" j",IF(TODAY()>=X13-30,"🟠 RAPPEL — Dans "&TEXT(X13-TODAY(),"0")&" j","⚪ Prévu le "&TEXT(X13,"DD/MM/YY"))))) -> ⚪ Saisir date naissance | AA13: =IF(D13="","",EDATE(D13,15)) | AC13: =IF(AB13<>"","✅ Administré le "&TEXT(AB13,"DD/MM/YY"),IF(AA13="","⚪ Saisir date naissance",IF(TODAY()>AA13,"🔴 URGENT — Dû depuis "&TEXT(TODAY()-AA13,"0")&" j",IF(TODAY()>=AA13-30,"🟠 RAPPEL — Dans "&TEXT(AA13-TODAY(),"0")&" j","⚪ Prévu le "&TEXT(AA13,"DD/MM/YY"))))) -> ⚪ Saisir date naissance | AD13: =IF(D13="","",EDATE(D13,12)) | AF13: =IF(AE13<>"","✅ Administré le "&TEXT(AE13,"DD/MM/YY"),IF(AD13="","⚪ Saisir date naissance",IF(TODAY()>AD13,"🔴 URGENT — Dû depuis "&TEXT(TODAY()-AD13,"0")&" j",IF(TODAY()>=AD13-30,"🟠 RAPPEL — Dans "&TEXT(AD13-TODAY(),"0")&" j","⚪ Prévu le "&TEXT(AD13,"DD/MM/YY"))))) -> ⚪ Saisir date naissance | AG13: =IF(D13="","",EDATE(D13,15)) | AI13: =IF(AH13<>"","✅ Administré le "&TEXT(AH13,"DD/MM/YY"),IF(AG13="","⚪ Saisir date naissance",IF(TODAY()>AG13,"🔴 URGENT — Dû depuis "&TEXT(TODAY()-AG13,"0")&" j",IF(TODAY()>=AG13-30,"🟠 RAPPEL — Dans "&TEXT(AG13-TODAY(),"0")&" j","⚪ Prévu le "&TEXT(AG13,"DD/MM/YY"))))) -> ⚪ Saisir date naissance | AJ13: Saison hivernale | AL13: =IF(AK13<>"","✅ Administré","📋 À planifier") -> 📋 À planifier | AM13: =IF(D13="","",EDATE(D13,2)) | AO13: =IF(AN13<>"","✅ Administré le "&TEXT(AN13,"DD/MM/YY"),IF(AM13="","⚪ Saisir date naissance",IF(TODAY()>AM13,"🔴 URGENT — Dû depuis "&TEXT(TODAY()-AM13,"0")&" j",IF(TODAY()>=AM13-30,"🟠 RAPPEL — Dans "&TEXT(AM13-TODAY(),"0")&" j","⚪ Prévu le "&TEXT(AM13,"DD/MM/YY"))))) -> ⚪ Saisir date naissance | AP13: =IF(D13="","",EDATE(D13,3)) | AR13: =IF(AQ13<>"","✅ Administré le "&TEXT(AQ13,"DD/MM/YY"),IF(AP13="","⚪ Saisir date naissance",IF(TODAY()>AP13,"🔴 URGENT — Dû depuis "&TEXT(TODAY()-AP13,"0")&" j",IF(TODAY()>=AP13-30,"🟠 RAPPEL — Dans "&TEXT(AP13-TODAY(),"0")&" j","⚪ Prévu le "&TEXT(AP13,"DD/MM/YY"))))) -> ⚪ Saisir date naissance
A14: 8 | F14: =IF(D14="","",EDATE(D14,2)) | H14: =IF(G14<>"","✅ Administré le "&TEXT(G14,"DD/MM/YY"),IF(F14="","⚪ Saisir date naissance",IF(TODAY()>F14,"🔴 URGENT — Dû depuis "&TEXT(TODAY()-F14,"0")&" j",IF(TODAY()>=F14-30,"🟠 RAPPEL — Dans "&TEXT(F14-TODAY(),"0")&" j","⚪ Prévu le "&TEXT(F14,"DD/MM/YY"))))) -> ⚪ Saisir date naissance | I14: =IF(D14="","",EDATE(D14,3)) | K14: =IF(J14<>"","✅ Administré le "&TEXT(J14,"DD/MM/YY"),IF(I14="","⚪ Saisir date naissance",IF(TODAY()>I14,"🔴 URGENT — Dû depuis "&TEXT(TODAY()-I14,"0")&" j",IF(TODAY()>=I14-30,"🟠 RAPPEL — Dans "&TEXT(I14-TODAY(),"0")&" j","⚪ Prévu le "&TEXT(I14,"DD/MM/YY"))))) -> ⚪ Saisir date naissance | L14: =IF(D14="","",EDATE(D14,4)) | N14: =IF(M14<>"","✅ Administré le "&TEXT(M14,"DD/MM/YY"),IF(L14="","⚪ Saisir date naissance",IF(TODAY()>L14,"🔴 URGENT — Dû depuis "&TEXT(TODAY()-L14,"0")&" j",IF(TODAY()>=L14-30,"🟠 RAPPEL — Dans "&TEXT(L14-TODAY(),"0")&" j","⚪ Prévu le "&TEXT(L14,"DD/MM/YY"))))) -> ⚪ Saisir date naissance | O14: =IF(D14="","",EDATE(D14,15)) | Q14: =IF(P14<>"","✅ Administré le "&TEXT(P14,"DD/MM/YY"),IF(O14="","⚪ Saisir date naissance",IF(TODAY()>O14,"🔴 URGENT — Dû depuis "&TEXT(TODAY()-O14,"0")&" j",IF(TODAY()>=O14-30,"🟠 RAPPEL — Dans "&TEXT(O14-TODAY(),"0")&" j","⚪ Prévu le "&TEXT(O14,"DD/MM/YY"))))) -> ⚪ Saisir date naissance | R14: =IF(D14="","",EDATE(D14,2)) | T14: =IF(S14<>"","✅ Administré le "&TEXT(S14,"DD/MM/YY"),IF(R14="","⚪ Saisir date naissance",IF(TODAY()>R14,"🔴 URGENT — Dû depuis "&TEXT(TODAY()-R14,"0")&" j",IF(TODAY()>=R14-30,"🟠 RAPPEL — Dans "&TEXT(R14-TODAY(),"0")&" j","⚪ Prévu le "&TEXT(R14,"DD/MM/YY"))))) -> ⚪ Saisir date naissance | U14: =IF(D14="","",EDATE(D14,4)) | W14: =IF(V14<>"","✅ Administré le "&TEXT(V14,"DD/MM/YY"),IF(U14="","⚪ Saisir date naissance",IF(TODAY()>U14,"🔴 URGENT — Dû depuis "&TEXT(TODAY()-U14,"0")&" j",IF(TODAY()>=U14-30,"🟠 RAPPEL — Dans "&TEXT(U14-TODAY(),"0")&" j","⚪ Prévu le "&TEXT(U14,"DD/MM/YY"))))) -> ⚪ Saisir date naissance | X14: =IF(D14="","",EDATE(D14,12)) | Z14: =IF(Y14<>"","✅ Administré le "&TEXT(Y14,"DD/MM/YY"),IF(X14="","⚪ Saisir date naissance",IF(TODAY()>X14,"🔴 URGENT — Dû depuis "&TEXT(TODAY()-X14,"0")&" j",IF(TODAY()>=X14-30,"🟠 RAPPEL — Dans "&TEXT(X14-TODAY(),"0")&" j","⚪ Prévu le "&TEXT(X14,"DD/MM/YY"))))) -> ⚪ Saisir date naissance | AA14: =IF(D14="","",EDATE(D14,15)) | AC14: =IF(AB14<>"","✅ Administré le "&TEXT(AB14,"DD/MM/YY"),IF(AA14="","⚪ Saisir date naissance",IF(TODAY()>AA14,"🔴 URGENT — Dû depuis "&TEXT(TODAY()-AA14,"0")&" j",IF(TODAY()>=AA14-30,"🟠 RAPPEL — Dans "&TEXT(AA14-TODAY(),"0")&" j","⚪ Prévu le "&TEXT(AA14,"DD/MM/YY"))))) -> ⚪ Saisir date naissance | AD14: =IF(D14="","",EDATE(D14,12)) | AF14: =IF(AE14<>"","✅ Administré le "&TEXT(AE14,"DD/MM/YY"),IF(AD14="","⚪ Saisir date naissance",IF(TODAY()>AD14,"🔴 URGENT — Dû depuis "&TEXT(TODAY()-AD14,"0")&" j",IF(TODAY()>=AD14-30,"🟠 RAPPEL — Dans "&TEXT(AD14-TODAY(),"0")&" j","⚪ Prévu le "&TEXT(AD14,"DD/MM/YY"))))) -> ⚪ Saisir date naissance | AG14: =IF(D14="","",EDATE(D14,15)) | AI14: =IF(AH14<>"","✅ Administré le "&TEXT(AH14,"DD/MM/YY"),IF(AG14="","⚪ Saisir date naissance",IF(TODAY()>AG14,"🔴 URGENT — Dû depuis "&TEXT(TODAY()-AG14,"0")&" j",IF(TODAY()>=AG14-30,"🟠 RAPPEL — Dans "&TEXT(AG14-TODAY(),"0")&" j","⚪ Prévu le "&TEXT(AG14,"DD/MM/YY"))))) -> ⚪ Saisir date naissance | AJ14: Saison hivernale | AL14: =IF(AK14<>"","✅ Administré","📋 À planifier") -> 📋 À planifier | AM14: =IF(D14="","",EDATE(D14,2)) | AO14: =IF(AN14<>"","✅ Administré le "&TEXT(AN14,"DD/MM/YY"),IF(AM14="","⚪ Saisir date naissance",IF(TODAY()>AM14,"🔴 URGENT — Dû depuis "&TEXT(TODAY()-AM14,"0")&" j",IF(TODAY()>=AM14-30,"🟠 RAPPEL — Dans "&TEXT(AM14-TODAY(),"0")&" j","⚪ Prévu le "&TEXT(AM14,"DD/MM/YY"))))) -> ⚪ Saisir date naissance | AP14: =IF(D14="","",EDATE(D14,3)) | AR14: =IF(AQ14<>"","✅ Administré le "&TEXT(AQ14,"DD/MM/YY"),IF(AP14="","⚪ Saisir date naissance",IF(TODAY()>AP14,"🔴 URGENT — Dû depuis "&TEXT(TODAY()-AP14,"0")&" j",IF(TODAY()>=AP14-30,"🟠 RAPPEL — Dans "&TEXT(AP14-TODAY(),"0")&" j","⚪ Prévu le "&TEXT(AP14,"DD/MM/YY"))))) -> ⚪ Saisir date naissance
A15: 9 | F15: =IF(D15="","",EDATE(D15,2)) | H15: =IF(G15<>"","✅ Administré le "&TEXT(G15,"DD/MM/YY"),IF(F15="","⚪ Saisir date naissance",IF(TODAY()>F15,"🔴 URGENT — Dû depuis "&TEXT(TODAY()-F15,"0")&" j",IF(TODAY()>=F15-30,"🟠 RAPPEL — Dans "&TEXT(F15-TODAY(),"0")&" j","⚪ Prévu le "&TEXT(F15,"DD/MM/YY"))))) -> ⚪ Saisir date naissance | I15: =IF(D15="","",EDATE(D15,3)) | K15: =IF(J15<>"","✅ Administré le "&TEXT(J15,"DD/MM/YY"),IF(I15="","⚪ Saisir date naissance",IF(TODAY()>I15,"🔴 URGENT — Dû depuis "&TEXT(TODAY()-I15,"0")&" j",IF(TODAY()>=I15-30,"🟠 RAPPEL — Dans "&TEXT(I15-TODAY(),"0")&" j","⚪ Prévu le "&TEXT(I15,"DD/MM/YY"))))) -> ⚪ Saisir date naissance | L15: =IF(D15="","",EDATE(D15,4)) | N15: =IF(M15<>"","✅ Administré le "&TEXT(M15,"DD/MM/YY"),IF(L15="","⚪ Saisir date naissance",IF(TODAY()>L15,"🔴 URGENT — Dû depuis "&TEXT(TODAY()-L15,"0")&" j",IF(TODAY()>=L15-30,"🟠 RAPPEL — Dans "&TEXT(L15-TODAY(),"0")&" j","⚪ Prévu le "&TEXT(L15,"DD/MM/YY"))))) -> ⚪ Saisir date naissance | O15: =IF(D15="","",EDATE(D15,15)) | Q15: =IF(P15<>"","✅ Administré le "&TEXT(P15,"DD/MM/YY"),IF(O15="","⚪ Saisir date naissance",IF(TODAY()>O15,"🔴 URGENT — Dû depuis "&TEXT(TODAY()-O15,"0")&" j",IF(TODAY()>=O15-30,"🟠 RAPPEL — Dans "&TEXT(O15-TODAY(),"0")&" j","⚪ Prévu le "&TEXT(O15,"DD/MM/YY"))))) -> ⚪ Saisir date naissance | R15: =IF(D15="","",EDATE(D15,2)) | T15: =IF(S15<>"","✅ Administré le "&TEXT(S15,"DD/MM/YY"),IF(R15="","⚪ Saisir date naissance",IF(TODAY()>R15,"🔴 URGENT — Dû depuis "&TEXT(TODAY()-R15,"0")&" j",IF(TODAY()>=R15-30,"🟠 RAPPEL — Dans "&TEXT(R15-TODAY(),"0")&" j","⚪ Prévu le "&TEXT(R15,"DD/MM/YY"))))) -> ⚪ Saisir date naissance | U15: =IF(D15="","",EDATE(D15,4)) | W15: =IF(V15<>"","✅ Administré le "&TEXT(V15,"DD/MM/YY"),IF(U15="","⚪ Saisir date naissance",IF(TODAY()>U15,"🔴 URGENT — Dû depuis "&TEXT(TODAY()-U15,"0")&" j",IF(TODAY()>=U15-30,"🟠 RAPPEL — Dans "&TEXT(U15-TODAY(),"0")&" j","⚪ Prévu le "&TEXT(U15,"DD/MM/YY"))))) -> ⚪ Saisir date naissance | X15: =IF(D15="","",EDATE(D15,12)) | Z15: =IF(Y15<>"","✅ Administré le "&TEXT(Y15,"DD/MM/YY"),IF(X15="","⚪ Saisir date naissance",IF(TODAY()>X15,"🔴 URGENT — Dû depuis "&TEXT(TODAY()-X15,"0")&" j",IF(TODAY()>=X15-30,"🟠 RAPPEL — Dans "&TEXT(X15-TODAY(),"0")&" j","⚪ Prévu le "&TEXT(X15,"DD/MM/YY"))))) -> ⚪ Saisir date naissance | AA15: =IF(D15="","",EDATE(D15,15)) | AC15: =IF(AB15<>"","✅ Administré le "&TEXT(AB15,"DD/MM/YY"),IF(AA15="","⚪ Saisir date naissance",IF(TODAY()>AA15,"🔴 URGENT — Dû depuis "&TEXT(TODAY()-AA15,"0")&" j",IF(TODAY()>=AA15-30,"🟠 RAPPEL — Dans "&TEXT(AA15-TODAY(),"0")&" j","⚪ Prévu le "&TEXT(AA15,"DD/MM/YY"))))) -> ⚪ Saisir date naissance | AD15: =IF(D15="","",EDATE(D15,12)) | AF15: =IF(AE15<>"","✅ Administré le "&TEXT(AE15,"DD/MM/YY"),IF(AD15="","⚪ Saisir date naissance",IF(TODAY()>AD15,"🔴 URGENT — Dû depuis "&TEXT(TODAY()-AD15,"0")&" j",IF(TODAY()>=AD15-30,"🟠 RAPPEL — Dans "&TEXT(AD15-TODAY(),"0")&" j","⚪ Prévu le "&TEXT(AD15,"DD/MM/YY"))))) -> ⚪ Saisir date naissance | AG15: =IF(D15="","",EDATE(D15,15)) | AI15: =IF(AH15<>"","✅ Administré le "&TEXT(AH15,"DD/MM/YY"),IF(AG15="","⚪ Saisir date naissance",IF(TODAY()>AG15,"🔴 URGENT — Dû depuis "&TEXT(TODAY()-AG15,"0")&" j",IF(TODAY()>=AG15-30,"🟠 RAPPEL — Dans "&TEXT(AG15-TODAY(),"0")&" j","⚪ Prévu le "&TEXT(AG15,"DD/MM/YY"))))) -> ⚪ Saisir date naissance | AJ15: Saison hivernale | AL15: =IF(AK15<>"","✅ Administré","📋 À planifier") -> 📋 À planifier | AM15: =IF(D15="","",EDATE(D15,2)) | AO15: =IF(AN15<>"","✅ Administré le "&TEXT(AN15,"DD/MM/YY"),IF(AM15="","⚪ Saisir date naissance",IF(TODAY()>AM15,"🔴 URGENT — Dû depuis "&TEXT(TODAY()-AM15,"0")&" j",IF(TODAY()>=AM15-30,"🟠 RAPPEL — Dans "&TEXT(AM15-TODAY(),"0")&" j","⚪ Prévu le "&TEXT(AM15,"DD/MM/YY"))))) -> ⚪ Saisir date naissance | AP15: =IF(D15="","",EDATE(D15,3)) | AR15: =IF(AQ15<>"","✅ Administré le "&TEXT(AQ15,"DD/MM/YY"),IF(AP15="","⚪ Saisir date naissance",IF(TODAY()>AP15,"🔴 URGENT — Dû depuis "&TEXT(TODAY()-AP15,"0")&" j",IF(TODAY()>=AP15-30,"🟠 RAPPEL — Dans "&TEXT(AP15-TODAY(),"0")&" j","⚪ Prévu le "&TEXT(AP15,"DD/MM/YY"))))) -> ⚪ Saisir date naissance
A16: 10 | F16: =IF(D16="","",EDATE(D16,2)) | H16: =IF(G16<>"","✅ Administré le "&TEXT(G16,"DD/MM/YY"),IF(F16="","⚪ Saisir date naissance",IF(TODAY()>F16,"🔴 URGENT — Dû depuis "&TEXT(TODAY()-F16,"0")&" j",IF(TODAY()>=F16-30,"🟠 RAPPEL — Dans "&TEXT(F16-TODAY(),"0")&" j","⚪ Prévu le "&TEXT(F16,"DD/MM/YY"))))) -> ⚪ Saisir date naissance | I16: =IF(D16="","",EDATE(D16,3)) | K16: =IF(J16<>"","✅ Administré le "&TEXT(J16,"DD/MM/YY"),IF(I16="","⚪ Saisir date naissance",IF(TODAY()>I16,"🔴 URGENT — Dû depuis "&TEXT(TODAY()-I16,"0")&" j",IF(TODAY()>=I16-30,"🟠 RAPPEL — Dans "&TEXT(I16-TODAY(),"0")&" j","⚪ Prévu le "&TEXT(I16,"DD/MM/YY"))))) -> ⚪ Saisir date naissance | L16: =IF(D16="","",EDATE(D16,4)) | N16: =IF(M16<>"","✅ Administré le "&TEXT(M16,"DD/MM/YY"),IF(L16="","⚪ Saisir date naissance",IF(TODAY()>L16,"🔴 URGENT — Dû depuis "&TEXT(TODAY()-L16,"0")&" j",IF(TODAY()>=L16-30,"🟠 RAPPEL — Dans "&TEXT(L16-TODAY(),"0")&" j","⚪ Prévu le "&TEXT(L16,"DD/MM/YY"))))) -> ⚪ Saisir date naissance | O16: =IF(D16="","",EDATE(D16,15)) | Q16: =IF(P16<>"","✅ Administré le "&TEXT(P16,"DD/MM/YY"),IF(O16="","⚪ Saisir date naissance",IF(TODAY()>O16,"🔴 URGENT — Dû depuis "&TEXT(TODAY()-O16,"0")&" j",IF(TODAY()>=O16-30,"🟠 RAPPEL — Dans "&TEXT(O16-TODAY(),"0")&" j","⚪ Prévu le "&TEXT(O16,"DD/MM/YY"))))) -> ⚪ Saisir date naissance | R16: =IF(D16="","",EDATE(D16,2)) | T16: =IF(S16<>"","✅ Administré le "&TEXT(S16,"DD/MM/YY"),IF(R16="","⚪ Saisir date naissance",IF(TODAY()>R16,"🔴 URGENT — Dû depuis "&TEXT(TODAY()-R16,"0")&" j",IF(TODAY()>=R16-30,"🟠 RAPPEL — Dans "&TEXT(R16-TODAY(),"0")&" j","⚪ Prévu le "&TEXT(R16,"DD/MM/YY"))))) -> ⚪ Saisir date naissance | U16: =IF(D16="","",EDATE(D16,4)) | W16: =IF(V16<>"","✅ Administré le "&TEXT(V16,"DD/MM/YY"),IF(U16="","⚪ Saisir date naissance",IF(TODAY()>U16,"🔴 URGENT — Dû depuis "&TEXT(TODAY()-U16,"0")&" j",IF(TODAY()>=U16-30,"🟠 RAPPEL — Dans "&TEXT(U16-TODAY(),"0")&" j","⚪ Prévu le "&TEXT(U16,"DD/MM/YY"))))) -> ⚪ Saisir date naissance | X16: =IF(D16="","",EDATE(D16,12)) | Z16: =IF(Y16<>"","✅ Administré le "&TEXT(Y16,"DD/MM/YY"),IF(X16="","⚪ Saisir date naissance",IF(TODAY()>X16,"🔴 URGENT — Dû depuis "&TEXT(TODAY()-X16,"0")&" j",IF(TODAY()>=X16-30,"🟠 RAPPEL — Dans "&TEXT(X16-TODAY(),"0")&" j","⚪ Prévu le "&TEXT(X16,"DD/MM/YY"))))) -> ⚪ Saisir date naissance | AA16: =IF(D16="","",EDATE(D16,15)) | AC16: =IF(AB16<>"","✅ Administré le "&TEXT(AB16,"DD/MM/YY"),IF(AA16="","⚪ Saisir date naissance",IF(TODAY()>AA16,"🔴 URGENT — Dû depuis "&TEXT(TODAY()-AA16,"0")&" j",IF(TODAY()>=AA16-30,"🟠 RAPPEL — Dans "&TEXT(AA16-TODAY(),"0")&" j","⚪ Prévu le "&TEXT(AA16,"DD/MM/YY"))))) -> ⚪ Saisir date naissance | AD16: =IF(D16="","",EDATE(D16,12)) | AF16: =IF(AE16<>"","✅ Administré le "&TEXT(AE16,"DD/MM/YY"),IF(AD16="","⚪ Saisir date naissance",IF(TODAY()>AD16,"🔴 URGENT — Dû depuis "&TEXT(TODAY()-AD16,"0")&" j",IF(TODAY()>=AD16-30,"🟠 RAPPEL — Dans "&TEXT(AD16-TODAY(),"0")&" j","⚪ Prévu le "&TEXT(AD16,"DD/MM/YY"))))) -> ⚪ Saisir date naissance | AG16: =IF(D16="","",EDATE(D16,15)) | AI16: =IF(AH16<>"","✅ Administré le "&TEXT(AH16,"DD/MM/YY"),IF(AG16="","⚪ Saisir date naissance",IF(TODAY()>AG16,"🔴 URGENT — Dû depuis "&TEXT(TODAY()-AG16,"0")&" j",IF(TODAY()>=AG16-30,"🟠 RAPPEL — Dans "&TEXT(AG16-TODAY(),"0")&" j","⚪ Prévu le "&TEXT(AG16,"DD/MM/YY"))))) -> ⚪ Saisir date naissance | AJ16: Saison hivernale | AL16: =IF(AK16<>"","✅ Administré","📋 À planifier") -> 📋 À planifier | AM16: =IF(D16="","",EDATE(D16,2)) | AO16: =IF(AN16<>"","✅ Administré le "&TEXT(AN16,"DD/MM/YY"),IF(AM16="","⚪ Saisir date naissance",IF(TODAY()>AM16,"🔴 URGENT — Dû depuis "&TEXT(TODAY()-AM16,"0")&" j",IF(TODAY()>=AM16-30,"🟠 RAPPEL — Dans "&TEXT(AM16-TODAY(),"0")&" j","⚪ Prévu le "&TEXT(AM16,"DD/MM/YY"))))) -> ⚪ Saisir date naissance | AP16: =IF(D16="","",EDATE(D16,3)) | AR16: =IF(AQ16<>"","✅ Administré le "&TEXT(AQ16,"DD/MM/YY"),IF(AP16="","⚪ Saisir date naissance",IF(TODAY()>AP16,"🔴 URGENT — Dû depuis "&TEXT(TODAY()-AP16,"0")&" j",IF(TODAY()>=AP16-30,"🟠 RAPPEL — Dans "&TEXT(AP16-TODAY(),"0")&" j","⚪ Prévu le "&TEXT(AP16,"DD/MM/YY"))))) -> ⚪ Saisir date naissance
A17: 11 | F17: =IF(D17="","",EDATE(D17,2)) | H17: =IF(G17<>"","✅ Administré le "&TEXT(G17,"DD/MM/YY"),IF(F17="","⚪ Saisir date naissance",IF(TODAY()>F17,"🔴 URGENT — Dû depuis "&TEXT(TODAY()-F17,"0")&" j",IF(TODAY()>=F17-30,"🟠 RAPPEL — Dans "&TEXT(F17-TODAY(),"0")&" j","⚪ Prévu le "&TEXT(F17,"DD/MM/YY"))))) -> ⚪ Saisir date naissance | I17: =IF(D17="","",EDATE(D17,3)) | K17: =IF(J17<>"","✅ Administré le "&TEXT(J17,"DD/MM/YY"),IF(I17="","⚪ Saisir date naissance",IF(TODAY()>I17,"🔴 URGENT — Dû depuis "&TEXT(TODAY()-I17,"0")&" j",IF(TODAY()>=I17-30,"🟠 RAPPEL — Dans "&TEXT(I17-TODAY(),"0")&" j","⚪ Prévu le "&TEXT(I17,"DD/MM/YY"))))) -> ⚪ Saisir date naissance | L17: =IF(D17="","",EDATE(D17,4)) | N17: =IF(M17<>"","✅ Administré le "&TEXT(M17,"DD/MM/YY"),IF(L17="","⚪ Saisir date naissance",IF(TODAY()>L17,"🔴 URGENT — Dû depuis "&TEXT(TODAY()-L17,"0")&" j",IF(TODAY()>=L17-30,"🟠 RAPPEL — Dans "&TEXT(L17-TODAY(),"0")&" j","⚪ Prévu le "&TEXT(L17,"DD/MM/YY"))))) -> ⚪ Saisir date naissance | O17: =IF(D17="","",EDATE(D17,15)) | Q17: =IF(P17<>"","✅ Administré le "&TEXT(P17,"DD/MM/YY"),IF(O17="","⚪ Saisir date naissance",IF(TODAY()>O17,"🔴 URGENT — Dû depuis "&TEXT(TODAY()-O17,"0")&" j",IF(TODAY()>=O17-30,"🟠 RAPPEL — Dans "&TEXT(O17-TODAY(),"0")&" j","⚪ Prévu le "&TEXT(O17,"DD/MM/YY"))))) -> ⚪ Saisir date naissance | R17: =IF(D17="","",EDATE(D17,2)) | T17: =IF(S17<>"","✅ Administré le "&TEXT(S17,"DD/MM/YY"),IF(R17="","⚪ Saisir date naissance",IF(TODAY()>R17,"🔴 URGENT — Dû depuis "&TEXT(TODAY()-R17,"0")&" j",IF(TODAY()>=R17-30,"🟠 RAPPEL — Dans "&TEXT(R17-TODAY(),"0")&" j","⚪ Prévu le "&TEXT(R17,"DD/MM/YY"))))) -> ⚪ Saisir date naissance | U17: =IF(D17="","",EDATE(D17,4)) | W17: =IF(V17<>"","✅ Administré le "&TEXT(V17,"DD/MM/YY"),IF(U17="","⚪ Saisir date naissance",IF(TODAY()>U17,"🔴 URGENT — Dû depuis "&TEXT(TODAY()-U17,"0")&" j",IF(TODAY()>=U17-30,"🟠 RAPPEL — Dans "&TEXT(U17-TODAY(),"0")&" j","⚪ Prévu le "&TEXT(U17,"DD/MM/YY"))))) -> ⚪ Saisir date naissance | X17: =IF(D17="","",EDATE(D17,12)) | Z17: =IF(Y17<>"","✅ Administré le "&TEXT(Y17,"DD/MM/YY"),IF(X17="","⚪ Saisir date naissance",IF(TODAY()>X17,"🔴 URGENT — Dû depuis "&TEXT(TODAY()-X17,"0")&" j",IF(TODAY()>=X17-30,"🟠 RAPPEL — Dans "&TEXT(X17-TODAY(),"0")&" j","⚪ Prévu le "&TEXT(X17,"DD/MM/YY"))))) -> ⚪ Saisir date naissance | AA17: =IF(D17="","",EDATE(D17,15)) | AC17: =IF(AB17<>"","✅ Administré le "&TEXT(AB17,"DD/MM/YY"),IF(AA17="","⚪ Saisir date naissance",IF(TODAY()>AA17,"🔴 URGENT — Dû depuis "&TEXT(TODAY()-AA17,"0")&" j",IF(TODAY()>=AA17-30,"🟠 RAPPEL — Dans "&TEXT(AA17-TODAY(),"0")&" j","⚪ Prévu le "&TEXT(AA17,"DD/MM/YY"))))) -> ⚪ Saisir date naissance | AD17: =IF(D17="","",EDATE(D17,12)) | AF17: =IF(AE17<>"","✅ Administré le "&TEXT(AE17,"DD/MM/YY"),IF(AD17="","⚪ Saisir date naissance",IF(TODAY()>AD17,"🔴 URGENT — Dû depuis "&TEXT(TODAY()-AD17,"0")&" j",IF(TODAY()>=AD17-30,"🟠 RAPPEL — Dans "&TEXT(AD17-TODAY(),"0")&" j","⚪ Prévu le "&TEXT(AD17,"DD/MM/YY"))))) -> ⚪ Saisir date naissance | AG17: =IF(D17="","",EDATE(D17,15)) | AI17: =IF(AH17<>"","✅ Administré le "&TEXT(AH17,"DD/MM/YY"),IF(AG17="","⚪ Saisir date naissance",IF(TODAY()>AG17,"🔴 URGENT — Dû depuis "&TEXT(TODAY()-AG17,"0")&" j",IF(TODAY()>=AG17-30,"🟠 RAPPEL — Dans "&TEXT(AG17-TODAY(),"0")&" j","⚪ Prévu le "&TEXT(AG17,"DD/MM/YY"))))) -> ⚪ Saisir date naissance | AJ17: Saison hivernale | AL17: =IF(AK17<>"","✅ Administré","📋 À planifier") -> 📋 À planifier | AM17: =IF(D17="","",EDATE(D17,2)) | AO17: =IF(AN17<>"","✅ Administré le "&TEXT(AN17,"DD/MM/YY"),IF(AM17="","⚪ Saisir date naissance",IF(TODAY()>AM17,"🔴 URGENT — Dû depuis "&TEXT(TODAY()-AM17,"0")&" j",IF(TODAY()>=AM17-30,"🟠 RAPPEL — Dans "&TEXT(AM17-TODAY(),"0")&" j","⚪ Prévu le "&TEXT(AM17,"DD/MM/YY"))))) -> ⚪ Saisir date naissance | AP17: =IF(D17="","",EDATE(D17,3)) | AR17: =IF(AQ17<>"","✅ Administré le "&TEXT(AQ17,"DD/MM/YY"),IF(AP17="","⚪ Saisir date naissance",IF(TODAY()>AP17,"🔴 URGENT — Dû depuis "&TEXT(TODAY()-AP17,"0")&" j",IF(TODAY()>=AP17-30,"🟠 RAPPEL — Dans "&TEXT(AP17-TODAY(),"0")&" j","⚪ Prévu le "&TEXT(AP17,"DD/MM/YY"))))) -> ⚪ Saisir date naissance
A18: 12 | F18: =IF(D18="","",EDATE(D18,2)) | H18: =IF(G18<>"","✅ Administré le "&TEXT(G18,"DD/MM/YY"),IF(F18="","⚪ Saisir date naissance",IF(TODAY()>F18,"🔴 URGENT — Dû depuis "&TEXT(TODAY()-F18,"0")&" j",IF(TODAY()>=F18-30,"🟠 RAPPEL — Dans "&TEXT(F18-TODAY(),"0")&" j","⚪ Prévu le "&TEXT(F18,"DD/MM/YY"))))) -> ⚪ Saisir date naissance | I18: =IF(D18="","",EDATE(D18,3)) | K18: =IF(J18<>"","✅ Administré le "&TEXT(J18,"DD/MM/YY"),IF(I18="","⚪ Saisir date naissance",IF(TODAY()>I18,"🔴 URGENT — Dû depuis "&TEXT(TODAY()-I18,"0")&" j",IF(TODAY()>=I18-30,"🟠 RAPPEL — Dans "&TEXT(I18-TODAY(),"0")&" j","⚪ Prévu le "&TEXT(I18,"DD/MM/YY"))))) -> ⚪ Saisir date naissance | L18: =IF(D18="","",EDATE(D18,4)) | N18: =IF(M18<>"","✅ Administré le "&TEXT(M18,"DD/MM/YY"),IF(L18="","⚪ Saisir date naissance",IF(TODAY()>L18,"🔴 URGENT — Dû depuis "&TEXT(TODAY()-L18,"0")&" j",IF(TODAY()>=L18-30,"🟠 RAPPEL — Dans "&TEXT(L18-TODAY(),"0")&" j","⚪ Prévu le "&TEXT(L18,"DD/MM/YY"))))) -> ⚪ Saisir date naissance | O18: =IF(D18="","",EDATE(D18,15)) | Q18: =IF(P18<>"","✅ Administré le "&TEXT(P18,"DD/MM/YY"),IF(O18="","⚪ Saisir date naissance",IF(TODAY()>O18,"🔴 URGENT — Dû depuis "&TEXT(TODAY()-O18,"0")&" j",IF(TODAY()>=O18-30,"🟠 RAPPEL — Dans "&TEXT(O18-TODAY(),"0")&" j","⚪ Prévu le "&TEXT(O18,"DD/MM/YY"))))) -> ⚪ Saisir date naissance | R18: =IF(D18="","",EDATE(D18,2)) | T18: =IF(S18<>"","✅ Administré le "&TEXT(S18,"DD/MM/YY"),IF(R18="","⚪ Saisir date naissance",IF(TODAY()>R18,"🔴 URGENT — Dû depuis "&TEXT(TODAY()-R18,"0")&" j",IF(TODAY()>=R18-30,"🟠 RAPPEL — Dans "&TEXT(R18-TODAY(),"0")&" j","⚪ Prévu le "&TEXT(R18,"DD/MM/YY"))))) -> ⚪ Saisir date naissance | U18: =IF(D18="","",EDATE(D18,4)) | W18: =IF(V18<>"","✅ Administré le "&TEXT(V18,"DD/MM/YY"),IF(U18="","⚪ Saisir date naissance",IF(TODAY()>U18,"🔴 URGENT — Dû depuis "&TEXT(TODAY()-U18,"0")&" j",IF(TODAY()>=U18-30,"🟠 RAPPEL — Dans "&TEXT(U18-TODAY(),"0")&" j","⚪ Prévu le "&TEXT(U18,"DD/MM/YY"))))) -> ⚪ Saisir date naissance | X18: =IF(D18="","",EDATE(D18,12)) | Z18: =IF(Y18<>"","✅ Administré le "&TEXT(Y18,"DD/MM/YY"),IF(X18="","⚪ Saisir date naissance",IF(TODAY()>X18,"🔴 URGENT — Dû depuis "&TEXT(TODAY()-X18,"0")&" j",IF(TODAY()>=X18-30,"🟠 RAPPEL — Dans "&TEXT(X18-TODAY(),"0")&" j","⚪ Prévu le "&TEXT(X18,"DD/MM/YY"))))) -> ⚪ Saisir date naissance | AA18: =IF(D18="","",EDATE(D18,15)) | AC18: =IF(AB18<>"","✅ Administré le "&TEXT(AB18,"DD/MM/YY"),IF(AA18="","⚪ Saisir date naissance",IF(TODAY()>AA18,"🔴 URGENT — Dû depuis "&TEXT(TODAY()-AA18,"0")&" j",IF(TODAY()>=AA18-30,"🟠 RAPPEL — Dans "&TEXT(AA18-TODAY(),"0")&" j","⚪ Prévu le "&TEXT(AA18,"DD/MM/YY"))))) -> ⚪ Saisir date naissance | AD18: =IF(D18="","",EDATE(D18,12)) | AF18: =IF(AE18<>"","✅ Administré le "&TEXT(AE18,"DD/MM/YY"),IF(AD18="","⚪ Saisir date naissance",IF(TODAY()>AD18,"🔴 URGENT — Dû depuis "&TEXT(TODAY()-AD18,"0")&" j",IF(TODAY()>=AD18-30,"🟠 RAPPEL — Dans "&TEXT(AD18-TODAY(),"0")&" j","⚪ Prévu le "&TEXT(AD18,"DD/MM/YY"))))) -> ⚪ Saisir date naissance | AG18: =IF(D18="","",EDATE(D18,15)) | AI18: =IF(AH18<>"","✅ Administré le "&TEXT(AH18,"DD/MM/YY"),IF(AG18="","⚪ Saisir date naissance",IF(TODAY()>AG18,"🔴 URGENT — Dû depuis "&TEXT(TODAY()-AG18,"0")&" j",IF(TODAY()>=AG18-30,"🟠 RAPPEL — Dans "&TEXT(AG18-TODAY(),"0")&" j","⚪ Prévu le "&TEXT(AG18,"DD/MM/YY"))))) -> ⚪ Saisir date naissance | AJ18: Saison hivernale | AL18: =IF(AK18<>"","✅ Administré","📋 À planifier") -> 📋 À planifier | AM18: =IF(D18="","",EDATE(D18,2)) | AO18: =IF(AN18<>"","✅ Administré le "&TEXT(AN18,"DD/MM/YY"),IF(AM18="","⚪ Saisir date naissance",IF(TODAY()>AM18,"🔴 URGENT — Dû depuis "&TEXT(TODAY()-AM18,"0")&" j",IF(TODAY()>=AM18-30,"🟠 RAPPEL — Dans "&TEXT(AM18-TODAY(),"0")&" j","⚪ Prévu le "&TEXT(AM18,"DD/MM/YY"))))) -> ⚪ Saisir date naissance | AP18: =IF(D18="","",EDATE(D18,3)) | AR18: =IF(AQ18<>"","✅ Administré le "&TEXT(AQ18,"DD/MM/YY"),IF(AP18="","⚪ Saisir date naissance",IF(TODAY()>AP18,"🔴 URGENT — Dû depuis "&TEXT(TODAY()-AP18,"0")&" j",IF(TODAY()>=AP18-30,"🟠 RAPPEL — Dans "&TEXT(AP18-TODAY(),"0")&" j","⚪ Prévu le "&TEXT(AP18,"DD/MM/YY"))))) -> ⚪ Saisir date naissance
A19: 13 | F19: =IF(D19="","",EDATE(D19,2)) | H19: =IF(G19<>"","✅ Administré le "&TEXT(G19,"DD/MM/YY"),IF(F19="","⚪ Saisir date naissance",IF(TODAY()>F19,"🔴 URGENT — Dû depuis "&TEXT(TODAY()-F19,"0")&" j",IF(TODAY()>=F19-30,"🟠 RAPPEL — Dans "&TEXT(F19-TODAY(),"0")&" j","⚪ Prévu le "&TEXT(F19,"DD/MM/YY"))))) -> ⚪ Saisir date naissance | I19: =IF(D19="","",EDATE(D19,3)) | K19: =IF(J19<>"","✅ Administré le "&TEXT(J19,"DD/MM/YY"),IF(I19="","⚪ Saisir date naissance",IF(TODAY()>I19,"🔴 URGENT — Dû depuis "&TEXT(TODAY()-I19,"0")&" j",IF(TODAY()>=I19-30,"🟠 RAPPEL — Dans "&TEXT(I19-TODAY(),"0")&" j","⚪ Prévu le "&TEXT(I19,"DD/MM/YY"))))) -> ⚪ Saisir date naissance | L19: =IF(D19="","",EDATE(D19,4)) | N19: =IF(M19<>"","✅ Administré le "&TEXT(M19,"DD/MM/YY"),IF(L19="","⚪ Saisir date naissance",IF(TODAY()>L19,"🔴 URGENT — Dû depuis "&TEXT(TODAY()-L19,"0")&" j",IF(TODAY()>=L19-30,"🟠 RAPPEL — Dans "&TEXT(L19-TODAY(),"0")&" j","⚪ Prévu le "&TEXT(L19,"DD/MM/YY"))))) -> ⚪ Saisir date naissance | O19: =IF(D19="","",EDATE(D19,15)) | Q19: =IF(P19<>"","✅ Administré le "&TEXT(P19,"DD/MM/YY"),IF(O19="","⚪ Saisir date naissance",IF(TODAY()>O19,"🔴 URGENT — Dû depuis "&TEXT(TODAY()-O19,"0")&" j",IF(TODAY()>=O19-30,"🟠 RAPPEL — Dans "&TEXT(O19-TODAY(),"0")&" j","⚪ Prévu le "&TEXT(O19,"DD/MM/YY"))))) -> ⚪ Saisir date naissance | R19: =IF(D19="","",EDATE(D19,2)) | T19: =IF(S19<>"","✅ Administré le "&TEXT(S19,"DD/MM/YY"),IF(R19="","⚪ Saisir date naissance",IF(TODAY()>R19,"🔴 URGENT — Dû depuis "&TEXT(TODAY()-R19,"0")&" j",IF(TODAY()>=R19-30,"🟠 RAPPEL — Dans "&TEXT(R19-TODAY(),"0")&" j","⚪ Prévu le "&TEXT(R19,"DD/MM/YY"))))) -> ⚪ Saisir date naissance | U19: =IF(D19="","",EDATE(D19,4)) | W19: =IF(V19<>"","✅ Administré le "&TEXT(V19,"DD/MM/YY"),IF(U19="","⚪ Saisir date naissance",IF(TODAY()>U19,"🔴 URGENT — Dû depuis "&TEXT(TODAY()-U19,"0")&" j",IF(TODAY()>=U19-30,"🟠 RAPPEL — Dans "&TEXT(U19-TODAY(),"0")&" j","⚪ Prévu le "&TEXT(U19,"DD/MM/YY"))))) -> ⚪ Saisir date naissance | X19: =IF(D19="","",EDATE(D19,12)) | Z19: =IF(Y19<>"","✅ Administré le "&TEXT(Y19,"DD/MM/YY"),IF(X19="","⚪ Saisir date naissance",IF(TODAY()>X19,"🔴 URGENT — Dû depuis "&TEXT(TODAY()-X19,"0")&" j",IF(TODAY()>=X19-30,"🟠 RAPPEL — Dans "&TEXT(X19-TODAY(),"0")&" j","⚪ Prévu le "&TEXT(X19,"DD/MM/YY"))))) -> ⚪ Saisir date naissance | AA19: =IF(D19="","",EDATE(D19,15)) | AC19: =IF(AB19<>"","✅ Administré le "&TEXT(AB19,"DD/MM/YY"),IF(AA19="","⚪ Saisir date naissance",IF(TODAY()>AA19,"🔴 URGENT — Dû depuis "&TEXT(TODAY()-AA19,"0")&" j",IF(TODAY()>=AA19-30,"🟠 RAPPEL — Dans "&TEXT(AA19-TODAY(),"0")&" j","⚪ Prévu le "&TEXT(AA19,"DD/MM/YY"))))) -> ⚪ Saisir date naissance | AD19: =IF(D19="","",EDATE(D19,12)) | AF19: =IF(AE19<>"","✅ Administré le "&TEXT(AE19,"DD/MM/YY"),IF(AD19="","⚪ Saisir date naissance",IF(TODAY()>AD19,"🔴 URGENT — Dû depuis "&TEXT(TODAY()-AD19,"0")&" j",IF(TODAY()>=AD19-30,"🟠 RAPPEL — Dans "&TEXT(AD19-TODAY(),"0")&" j","⚪ Prévu le "&TEXT(AD19,"DD/MM/YY"))))) -> ⚪ Saisir date naissance | AG19: =IF(D19="","",EDATE(D19,15)) | AI19: =IF(AH19<>"","✅ Administré le "&TEXT(AH19,"DD/MM/YY"),IF(AG19="","⚪ Saisir date naissance",IF(TODAY()>AG19,"🔴 URGENT — Dû depuis "&TEXT(TODAY()-AG19,"0")&" j",IF(TODAY()>=AG19-30,"🟠 RAPPEL — Dans "&TEXT(AG19-TODAY(),"0")&" j","⚪ Prévu le "&TEXT(AG19,"DD/MM/YY"))))) -> ⚪ Saisir date naissance | AJ19: Saison hivernale | AL19: =IF(AK19<>"","✅ Administré","📋 À planifier") -> 📋 À planifier | AM19: =IF(D19="","",EDATE(D19,2)) | AO19: =IF(AN19<>"","✅ Administré le "&TEXT(AN19,"DD/MM/YY"),IF(AM19="","⚪ Saisir date naissance",IF(TODAY()>AM19,"🔴 URGENT — Dû depuis "&TEXT(TODAY()-AM19,"0")&" j",IF(TODAY()>=AM19-30,"🟠 RAPPEL — Dans "&TEXT(AM19-TODAY(),"0")&" j","⚪ Prévu le "&TEXT(AM19,"DD/MM/YY"))))) -> ⚪ Saisir date naissance | AP19: =IF(D19="","",EDATE(D19,3)) | AR19: =IF(AQ19<>"","✅ Administré le "&TEXT(AQ19,"DD/MM/YY"),IF(AP19="","⚪ Saisir date naissance",IF(TODAY()>AP19,"🔴 URGENT — Dû depuis "&TEXT(TODAY()-AP19,"0")&" j",IF(TODAY()>=AP19-30,"🟠 RAPPEL — Dans "&TEXT(AP19-TODAY(),"0")&" j","⚪ Prévu le "&TEXT(AP19,"DD/MM/YY"))))) -> ⚪ Saisir date naissance
... A21: 15 | F21: =IF(D21="","",EDATE(D21,2)) | H21: =IF(G21<>"","✅ Administré le "&TEXT(G21,"DD/MM/YY"),IF(F21="","⚪ Saisir date naissance",IF(TODAY()>F21,"🔴 URGENT — Dû depuis "&TEXT(TODAY()-F21,"0")&" j",IF(TODAY()>=F21-30,"🟠 RAPPEL — Dans "&TEXT(F21-TODAY(),"0")&" j","⚪ Prévu le "&TEXT(F21,"DD/MM/YY"))))) -> ⚪ Saisir date naissance | I21: =IF(D21="","",EDATE(D21,3)) | K21: =IF(J21<>"","✅ Administré le "&TEXT(J21,"DD/MM/YY"),IF(I21="","⚪ Saisir date naissance",IF(TODAY()>I21,"🔴 URGENT — Dû depuis "&TEXT(TODAY()-I21,"0")&" j",IF(TODAY()>=I21-30,"🟠 RAPPEL — Dans "&TEXT(I21-TODAY(),"0")&" j","⚪ Prévu le "&TEXT(I21,"DD/MM/YY"))))) -> ⚪ Saisir date naissance | L21: =IF(D21="","",EDATE(D21,4)) | N21: =IF(M21<>"","✅ Administré le "&TEXT(M21,"DD/MM/YY"),IF(L21="","⚪ Saisir date naissance",IF(TODAY()>L21,"🔴 URGENT — Dû depuis "&TEXT(TODAY()-L21,"0")&" j",IF(TODAY()>=L21-30,"🟠 RAPPEL — Dans "&TEXT(L21-TODAY(),"0")&" j","⚪ Prévu le "&TEXT(L21,"DD/MM/YY"))))) -> ⚪ Saisir date naissance | O21: =IF(D21="","",EDATE(D21,15)) | Q21: =IF(P21<>"","✅ Administré le "&TEXT(P21,"DD/MM/YY"),IF(O21="","⚪ Saisir date naissance",IF(TODAY()>O21,"🔴 URGENT — Dû depuis "&TEXT(TODAY()-O21,"0")&" j",IF(TODAY()>=O21-30,"🟠 RAPPEL — Dans "&TEXT(O21-TODAY(),"0")&" j","⚪ Prévu le "&TEXT(O21,"DD/MM/YY"))))) -> ⚪ Saisir date naissance | R21: =IF(D21="","",EDATE(D21,2)) | T21: =IF(S21<>"","✅ Administré le "&TEXT(S21,"DD/MM/YY"),IF(R21="","⚪ Saisir date naissance",IF(TODAY()>R21,"🔴 URGENT — Dû depuis "&TEXT(TODAY()-R21,"0")&" j",IF(TODAY()>=R21-30,"🟠 RAPPEL — Dans "&TEXT(R21-TODAY(),"0")&" j","⚪ Prévu le "&TEXT(R21,"DD/MM/YY"))))) -> ⚪ Saisir date naissance | U21: =IF(D21="","",EDATE(D21,4)) | W21: =IF(V21<>"","✅ Administré le "&TEXT(V21,"DD/MM/YY"),IF(U21="","⚪ Saisir date naissance",IF(TODAY()>U21,"🔴 URGENT — Dû depuis "&TEXT(TODAY()-U21,"0")&" j",IF(TODAY()>=U21-30,"🟠 RAPPEL — Dans "&TEXT(U21-TODAY(),"0")&" j","⚪ Prévu le "&TEXT(U21,"DD/MM/YY"))))) -> ⚪ Saisir date naissance | X21: =IF(D21="","",EDATE(D21,12)) | Z21: =IF(Y21<>"","✅ Administré le "&TEXT(Y21,"DD/MM/YY"),IF(X21="","⚪ Saisir date naissance",IF(TODAY()>X21,"🔴 URGENT — Dû depuis "&TEXT(TODAY()-X21,"0")&" j",IF(TODAY()>=X21-30,"🟠 RAPPEL — Dans "&TEXT(X21-TODAY(),"0")&" j","⚪ Prévu le "&TEXT(X21,"DD/MM/YY"))))) -> ⚪ Saisir date naissance | AA21: =IF(D21="","",EDATE(D21,15)) | AC21: =IF(AB21<>"","✅ Administré le "&TEXT(AB21,"DD/MM/YY"),IF(AA21="","⚪ Saisir date naissance",IF(TODAY()>AA21,"🔴 URGENT — Dû depuis "&TEXT(TODAY()-AA21,"0")&" j",IF(TODAY()>=AA21-30,"🟠 RAPPEL — Dans "&TEXT(AA21-TODAY(),"0")&" j","⚪ Prévu le "&TEXT(AA21,"DD/MM/YY"))))) -> ⚪ Saisir date naissance | AD21: =IF(D21="","",EDATE(D21,12)) | AF21: =IF(AE21<>"","✅ Administré le "&TEXT(AE21,"DD/MM/YY"),IF(AD21="","⚪ Saisir date naissance",IF(TODAY()>AD21,"🔴 URGENT — Dû depuis "&TEXT(TODAY()-AD21,"0")&" j",IF(TODAY()>=AD21-30,"🟠 RAPPEL — Dans "&TEXT(AD21-TODAY(),"0")&" j","⚪ Prévu le "&TEXT(AD21,"DD/MM/YY"))))) -> ⚪ Saisir date naissance | AG21: =IF(D21="","",EDATE(D21,15)) | AI21: =IF(AH21<>"","✅ Administré le "&TEXT(AH21,"DD/MM/YY"),IF(AG21="","⚪ Saisir date naissance",IF(TODAY()>AG21,"🔴 URGENT — Dû depuis "&TEXT(TODAY()-AG21,"0")&" j",IF(TODAY()>=AG21-30,"🟠 RAPPEL — Dans "&TEXT(AG21-TODAY(),"0")&" j","⚪ Prévu le "&TEXT(AG21,"DD/MM/YY"))))) -> ⚪ Saisir date naissance | AJ21: Saison hivernale | AL21: =IF(AK21<>"","✅ Administré","📋 À planifier") -> 📋 À planifier | AM21: =IF(D21="","",EDATE(D21,2)) | AO21: =IF(AN21<>"","✅ Administré le "&TEXT(AN21,"DD/MM/YY"),IF(AM21="","⚪ Saisir date naissance",IF(TODAY()>AM21,"🔴 URGENT — Dû depuis "&TEXT(TODAY()-AM21,"0")&" j",IF(TODAY()>=AM21-30,"🟠 RAPPEL — Dans "&TEXT(AM21-TODAY(),"0")&" j","⚪ Prévu le "&TEXT(AM21,"DD/MM/YY"))))) -> ⚪ Saisir date naissance | AP21: =IF(D21="","",EDATE(D21,3)) | AR21: =IF(AQ21<>"","✅ Administré le "&TEXT(AQ21,"DD/MM/YY"),IF(AP21="","⚪ Saisir date naissance",IF(TODAY()>AP21,"🔴 URGENT — Dû depuis "&TEXT(TODAY()-AP21,"0")&" j",IF(TODAY()>=AP21-30,"🟠 RAPPEL — Dans "&TEXT(AP21-TODAY(),"0")&" j","⚪ Prévu le "&TEXT(AP21,"DD/MM/YY"))))) -> ⚪ Saisir date naissance
A22: 16 | F22: =IF(D22="","",EDATE(D22,2)) | H22: =IF(G22<>"","✅ Administré le "&TEXT(G22,"DD/MM/YY"),IF(F22="","⚪ Saisir date naissance",IF(TODAY()>F22,"🔴 URGENT — Dû depuis "&TEXT(TODAY()-F22,"0")&" j",IF(TODAY()>=F22-30,"🟠 RAPPEL — Dans "&TEXT(F22-TODAY(),"0")&" j","⚪ Prévu le "&TEXT(F22,"DD/MM/YY"))))) -> ⚪ Saisir date naissance | I22: =IF(D22="","",EDATE(D22,3)) | K22: =IF(J22<>"","✅ Administré le "&TEXT(J22,"DD/MM/YY"),IF(I22="","⚪ Saisir date naissance",IF(TODAY()>I22,"🔴 URGENT — Dû depuis "&TEXT(TODAY()-I22,"0")&" j",IF(TODAY()>=I22-30,"🟠 RAPPEL — Dans "&TEXT(I22-TODAY(),"0")&" j","⚪ Prévu le "&TEXT(I22,"DD/MM/YY"))))) -> ⚪ Saisir date naissance | L22: =IF(D22="","",EDATE(D22,4)) | N22: =IF(M22<>"","✅ Administré le "&TEXT(M22,"DD/MM/YY"),IF(L22="","⚪ Saisir date naissance",IF(TODAY()>L22,"🔴 URGENT — Dû depuis "&TEXT(TODAY()-L22,"0")&" j",IF(TODAY()>=L22-30,"🟠 RAPPEL — Dans "&TEXT(L22-TODAY(),"0")&" j","⚪ Prévu le "&TEXT(L22,"DD/MM/YY"))))) -> ⚪ Saisir date naissance | O22: =IF(D22="","",EDATE(D22,12)) | Q22: =IF(P22<>"","✅ Administré le "&TEXT(P22,"DD/MM/YY"),IF(O22="","⚪ Saisir date naissance",IF(TODAY()>O22,"🔴 URGENT — Dû depuis "&TEXT(TODAY()-O22,"0")&" j",IF(TODAY()>=O22-30,"🟠 RAPPEL — Dans "&TEXT(O22-TODAY(),"0")&" j","⚪ Prévu le "&TEXT(O22,"DD/MM/YY"))))) -> ⚪ Saisir date naissance | R22: =IF(D22="","",EDATE(D22,2)) | T22: =IF(S22<>"","✅ Administré le "&TEXT(S22,"DD/MM/YY"),IF(R22="","⚪ Saisir date naissance",IF(TODAY()>R22,"🔴 URGENT — Dû depuis "&TEXT(TODAY()-R22,"0")&" j",IF(TODAY()>=R22-30,"🟠 RAPPEL — Dans "&TEXT(R22-TODAY(),"0")&" j","⚪ Prévu le "&TEXT(R22,"DD/MM/YY"))))) -> ⚪ Saisir date naissance | U22: =IF(D22="","",EDATE(D22,4)) | W22: =IF(V22<>"","✅ Administré le "&TEXT(V22,"DD/MM/YY"),IF(U22="","⚪ Saisir date naissance",IF(TODAY()>U22,"🔴 URGENT — Dû depuis "&TEXT(TODAY()-U22,"0")&" j",IF(TODAY()>=U22-30,"🟠 RAPPEL — Dans "&TEXT(U22-TODAY(),"0")&" j","⚪ Prévu le "&TEXT(U22,"DD/MM/YY"))))) -> ⚪ Saisir date naissance | X22: =IF(D22="","",EDATE(D22,12)) | Z22: =IF(Y22<>"","✅ Administré le "&TEXT(Y22,"DD/MM/YY"),IF(X22="","⚪ Saisir date naissance",IF(TODAY()>X22,"🔴 URGENT — Dû depuis "&TEXT(TODAY()-X22,"0")&" j",IF(TODAY()>=X22-30,"🟠 RAPPEL — Dans "&TEXT(X22-TODAY(),"0")&" j","⚪ Prévu le "&TEXT(X22,"DD/MM/YY"))))) -> ⚪ Saisir date naissance | AA22: =IF(D22="","",EDATE(D22,12)) | AC22: =IF(AB22<>"","✅ Administré le "&TEXT(AB22,"DD/MM/YY"),IF(AA22="","⚪ Saisir date naissance",IF(TODAY()>AA22,"🔴 URGENT — Dû depuis "&TEXT(TODAY()-AA22,"0")&" j",IF(TODAY()>=AA22-30,"🟠 RAPPEL — Dans "&TEXT(AA22-TODAY(),"0")&" j","⚪ Prévu le "&TEXT(AA22,"DD/MM/YY"))))) -> ⚪ Saisir date naissance | AD22: =IF(D22="","",EDATE(D22,12)) | AF22: =IF(AE22<>"","✅ Administré le "&TEXT(AE22,"DD/MM/YY"),IF(AD22="","⚪ Saisir date naissance",IF(TODAY()>AD22,"🔴 URGENT — Dû depuis "&TEXT(TODAY()-AD22,"0")&" j",IF(TODAY()>=AD22-30,"🟠 RAPPEL — Dans "&TEXT(AD22-TODAY(),"0")&" j","⚪ Prévu le "&TEXT(AD22,"DD/MM/YY"))))) -> ⚪ Saisir date naissance | AG22: =IF(D22="","",EDATE(D22,15)) | AI22: =IF(AH22<>"","✅ Administré le "&TEXT(AH22,"DD/MM/YY"),IF(AG22="","⚪ Saisir date naissance",IF(TODAY()>AG22,"🔴 URGENT — Dû depuis "&TEXT(TODAY()-AG22,"0")&" j",IF(TODAY()>=AG22-30,"🟠 RAPPEL — Dans "&TEXT(AG22-TODAY(),"0")&" j","⚪ Prévu le "&TEXT(AG22,"DD/MM/YY"))))) -> ⚪ Saisir date naissance | AJ22: Saison hivernale | AL22: =IF(AK22<>"","✅ Administré","📋 À planifier") -> 📋 À planifier | AM22: =IF(D22="","",EDATE(D22,2)) | AO22: =IF(AN22<>"","✅ Administré le "&TEXT(AN22,"DD/MM/YY"),IF(AM22="","⚪ Saisir date naissance",IF(TODAY()>AM22,"🔴 URGENT — Dû depuis "&TEXT(TODAY()-AM22,"0")&" j",IF(TODAY()>=AM22-30,"🟠 RAPPEL — Dans "&TEXT(AM22-TODAY(),"0")&" j","⚪ Prévu le "&TEXT(AM22,"DD/MM/YY"))))) -> ⚪ Saisir date naissance | AP22: =IF(D22="","",EDATE(D22,3)) | AR22: =IF(AQ22<>"","✅ Administré le "&TEXT(AQ22,"DD/MM/YY"),IF(AP22="","⚪ Saisir date naissance",IF(TODAY()>AP22,"🔴 URGENT — Dû depuis "&TEXT(TODAY()-AP22,"0")&" j",IF(TODAY()>=AP22-30,"🟠 RAPPEL — Dans "&TEXT(AP22-TODAY(),"0")&" j","⚪ Prévu le "&TEXT(AP22,"DD/MM/YY"))))) -> ⚪ Saisir date naissance
A23: 17 | F23: =IF(D23="","",EDATE(D23,2)) | H23: =IF(G23<>"","✅ Administré le "&TEXT(G23,"DD/MM/YY"),IF(F23="","⚪ Saisir date naissance",IF(TODAY()>F23,"🔴 URGENT — Dû depuis "&TEXT(TODAY()-F23,"0")&" j",IF(TODAY()>=F23-30,"🟠 RAPPEL — Dans "&TEXT(F23-TODAY(),"0")&" j","⚪ Prévu le "&TEXT(F23,"DD/MM/YY"))))) -> ⚪ Saisir date naissance | I23: =IF(D23="","",EDATE(D23,3)) | K23: =IF(J23<>"","✅ Administré le "&TEXT(J23,"DD/MM/YY"),IF(I23="","⚪ Saisir date naissance",IF(TODAY()>I23,"🔴 URGENT — Dû depuis "&TEXT(TODAY()-I23,"0")&" j",IF(TODAY()>=I23-30,"🟠 RAPPEL — Dans "&TEXT(I23-TODAY(),"0")&" j","⚪ Prévu le "&TEXT(I23,"DD/MM/YY"))))) -> ⚪ Saisir date naissance | L23: =IF(D23="","",EDATE(D23,4)) | N23: =IF(M23<>"","✅ Administré le "&TEXT(M23,"DD/MM/YY"),IF(L23="","⚪ Saisir date naissance",IF(TODAY()>L23,"🔴 URGENT — Dû depuis "&TEXT(TODAY()-L23,"0")&" j",IF(TODAY()>=L23-30,"🟠 RAPPEL — Dans "&TEXT(L23-TODAY(),"0")&" j","⚪ Prévu le "&TEXT(L23,"DD/MM/YY"))))) -> ⚪ Saisir date naissance | O23: =IF(D23="","",EDATE(D23,12)) | Q23: =IF(P23<>"","✅ Administré le "&TEXT(P23,"DD/MM/YY"),IF(O23="","⚪ Saisir date naissance",IF(TODAY()>O23,"🔴 URGENT — Dû depuis "&TEXT(TODAY()-O23,"0")&" j",IF(TODAY()>=O23-30,"🟠 RAPPEL — Dans "&TEXT(O23-TODAY(),"0")&" j","⚪ Prévu le "&TEXT(O23,"DD/MM/YY"))))) -> ⚪ Saisir date naissance | R23: =IF(D23="","",EDATE(D23,2)) | T23: =IF(S23<>"","✅ Administré le "&TEXT(S23,"DD/MM/YY"),IF(R23="","⚪ Saisir date naissance",IF(TODAY()>R23,"🔴 URGENT — Dû depuis "&TEXT(TODAY()-R23,"0")&" j",IF(TODAY()>=R23-30,"🟠 RAPPEL — Dans "&TEXT(R23-TODAY(),"0")&" j","⚪ Prévu le "&TEXT(R23,"DD/MM/YY"))))) -> ⚪ Saisir date naissance | U23: =IF(D23="","",EDATE(D23,4)) | W23: =IF(V23<>"","✅ Administré le "&TEXT(V23,"DD/MM/YY"),IF(U23="","⚪ Saisir date naissance",IF(TODAY()>U23,"🔴 URGENT — Dû depuis "&TEXT(TODAY()-U23,"0")&" j",IF(TODAY()>=U23-30,"🟠 RAPPEL — Dans "&TEXT(U23-TODAY(),"0")&" j","⚪ Prévu le "&TEXT(U23,"DD/MM/YY"))))) -> ⚪ Saisir date naissance | X23: =IF(D23="","",EDATE(D23,12)) | Z23: =IF(Y23<>"","✅ Administré le "&TEXT(Y23,"DD/MM/YY"),IF(X23="","⚪ Saisir date naissance",IF(TODAY()>X23,"🔴 URGENT — Dû depuis "&TEXT(TODAY()-X23,"0")&" j",IF(TODAY()>=X23-30,"🟠 RAPPEL — Dans "&TEXT(X23-TODAY(),"0")&" j","⚪ Prévu le "&TEXT(X23,"DD/MM/YY"))))) -> ⚪ Saisir date naissance | AA23: =IF(D23="","",EDATE(D23,12)) | AC23: =IF(AB23<>"","✅ Administré le "&TEXT(AB23,"DD/MM/YY"),IF(AA23="","⚪ Saisir date naissance",IF(TODAY()>AA23,"🔴 URGENT — Dû depuis "&TEXT(TODAY()-AA23,"0")&" j",IF(TODAY()>=AA23-30,"🟠 RAPPEL — Dans "&TEXT(AA23-TODAY(),"0")&" j","⚪ Prévu le "&TEXT(AA23,"DD/MM/YY"))))) -> ⚪ Saisir date naissance | AD23: =IF(D23="","",EDATE(D23,12)) | AF23: =IF(AE23<>"","✅ Administré le "&TEXT(AE23,"DD/MM/YY"),IF(AD23="","⚪ Saisir date naissance",IF(TODAY()>AD23,"🔴 URGENT — Dû depuis "&TEXT(TODAY()-AD23,"0")&" j",IF(TODAY()>=AD23-30,"🟠 RAPPEL — Dans "&TEXT(AD23-TODAY(),"0")&" j","⚪ Prévu le "&TEXT(AD23,"DD/MM/YY"))))) -> ⚪ Saisir date naissance | AG23: =IF(D23="","",EDATE(D23,15)) | AI23: =IF(AH23<>"","✅ Administré le "&TEXT(AH23,"DD/MM/YY"),IF(AG23="","⚪ Saisir date naissance",IF(TODAY()>AG23,"🔴 URGENT — Dû depuis "&TEXT(TODAY()-AG23,"0")&" j",IF(TODAY()>=AG23-30,"🟠 RAPPEL — Dans "&TEXT(AG23-TODAY(),"0")&" j","⚪ Prévu le "&TEXT(AG23,"DD/MM/YY"))))) -> ⚪ Saisir date naissance | AJ23: Saison hivernale | AL23: =IF(AK23<>"","✅ Administré","📋 À planifier") -> 📋 À planifier | AM23: =IF(D23="","",EDATE(D23,2)) | AO23: =IF(AN23<>"","✅ Administré le "&TEXT(AN23,"DD/MM/YY"),IF(AM23="","⚪ Saisir date naissance",IF(TODAY()>AM23,"🔴 URGENT — Dû depuis "&TEXT(TODAY()-AM23,"0")&" j",IF(TODAY()>=AM23-30,"🟠 RAPPEL — Dans "&TEXT(AM23-TODAY(),"0")&" j","⚪ Prévu le "&TEXT(AM23,"DD/MM/YY"))))) -> ⚪ Saisir date naissance | AP23: =IF(D23="","",EDATE(D23,3)) | AR23: =IF(AQ23<>"","✅ Administré le "&TEXT(AQ23,"DD/MM/YY"),IF(AP23="","⚪ Saisir date naissance",IF(TODAY()>AP23,"🔴 URGENT — Dû depuis "&TEXT(TODAY()-AP23,"0")&" j",IF(TODAY()>=AP23-30,"🟠 RAPPEL — Dans "&TEXT(AP23-TODAY(),"0")&" j","⚪ Prévu le "&TEXT(AP23,"DD/MM/YY"))))) -> ⚪ Saisir date naissance
A24: 18 | F24: =IF(D24="","",EDATE(D24,2)) | H24: =IF(G24<>"","✅ Administré le "&TEXT(G24,"DD/MM/YY"),IF(F24="","⚪ Saisir date naissance",IF(TODAY()>F24,"🔴 URGENT — Dû depuis "&TEXT(TODAY()-F24,"0")&" j",IF(TODAY()>=F24-30,"🟠 RAPPEL — Dans "&TEXT(F24-TODAY(),"0")&" j","⚪ Prévu le "&TEXT(F24,"DD/MM/YY"))))) -> ⚪ Saisir date naissance | I24: =IF(D24="","",EDATE(D24,3)) | K24: =IF(J24<>"","✅ Administré le "&TEXT(J24,"DD/MM/YY"),IF(I24="","⚪ Saisir date naissance",IF(TODAY()>I24,"🔴 URGENT — Dû depuis "&TEXT(TODAY()-I24,"0")&" j",IF(TODAY()>=I24-30,"🟠 RAPPEL — Dans "&TEXT(I24-TODAY(),"0")&" j","⚪ Prévu le "&TEXT(I24,"DD/MM/YY"))))) -> ⚪ Saisir date naissance | L24: =IF(D24="","",EDATE(D24,4)) | N24: =IF(M24<>"","✅ Administré le "&TEXT(M24,"DD/MM/YY"),IF(L24="","⚪ Saisir date naissance",IF(TODAY()>L24,"🔴 URGENT — Dû depuis "&TEXT(TODAY()-L24,"0")&" j",IF(TODAY()>=L24-30,"🟠 RAPPEL — Dans "&TEXT(L24-TODAY(),"0")&" j","⚪ Prévu le "&TEXT(L24,"DD/MM/YY"))))) -> ⚪ Saisir date naissance | O24: =IF(D24="","",EDATE(D24,12)) | Q24: =IF(P24<>"","✅ Administré le "&TEXT(P24,"DD/MM/YY"),IF(O24="","⚪ Saisir date naissance",IF(TODAY()>O24,"🔴 URGENT — Dû depuis "&TEXT(TODAY()-O24,"0")&" j",IF(TODAY()>=O24-30,"🟠 RAPPEL — Dans "&TEXT(O24-TODAY(),"0")&" j","⚪ Prévu le "&TEXT(O24,"DD/MM/YY"))))) -> ⚪ Saisir date naissance | R24: =IF(D24="","",EDATE(D24,2)) | T24: =IF(S24<>"","✅ Administré le "&TEXT(S24,"DD/MM/YY"),IF(R24="","⚪ Saisir date naissance",IF(TODAY()>R24,"🔴 URGENT — Dû depuis "&TEXT(TODAY()-R24,"0")&" j",IF(TODAY()>=R24-30,"🟠 RAPPEL — Dans "&TEXT(R24-TODAY(),"0")&" j","⚪ Prévu le "&TEXT(R24,"DD/MM/YY"))))) -> ⚪ Saisir date naissance | U24: =IF(D24="","",EDATE(D24,4)) | W24: =IF(V24<>"","✅ Administré le "&TEXT(V24,"DD/MM/YY"),IF(U24="","⚪ Saisir date naissance",IF(TODAY()>U24,"🔴 URGENT — Dû depuis "&TEXT(TODAY()-U24,"0")&" j",IF(TODAY()>=U24-30,"🟠 RAPPEL — Dans "&TEXT(U24-TODAY(),"0")&" j","⚪ Prévu le "&TEXT(U24,"DD/MM/YY"))))) -> ⚪ Saisir date naissance | X24: =IF(D24="","",EDATE(D24,12)) | Z24: =IF(Y24<>"","✅ Administré le "&TEXT(Y24,"DD/MM/YY"),IF(X24="","⚪ Saisir date naissance",IF(TODAY()>X24,"🔴 URGENT — Dû depuis "&TEXT(TODAY()-X24,"0")&" j",IF(TODAY()>=X24-30,"🟠 RAPPEL — Dans "&TEXT(X24-TODAY(),"0")&" j","⚪ Prévu le "&TEXT(X24,"DD/MM/YY"))))) -> ⚪ Saisir date naissance | AA24: =IF(D24="","",EDATE(D24,12)) | AC24: =IF(AB24<>"","✅ Administré le "&TEXT(AB24,"DD/MM/YY"),IF(AA24="","⚪ Saisir date naissance",IF(TODAY()>AA24,"🔴 URGENT — Dû depuis "&TEXT(TODAY()-AA24,"0")&" j",IF(TODAY()>=AA24-30,"🟠 RAPPEL — Dans "&TEXT(AA24-TODAY(),"0")&" j","⚪ Prévu le "&TEXT(AA24,"DD/MM/YY"))))) -> ⚪ Saisir date naissance | AD24: =IF(D24="","",EDATE(D24,12)) | AF24: =IF(AE24<>"","✅ Administré le "&TEXT(AE24,"DD/MM/YY"),IF(AD24="","⚪ Saisir date naissance",IF(TODAY()>AD24,"🔴 URGENT — Dû depuis "&TEXT(TODAY()-AD24,"0")&" j",IF(TODAY()>=AD24-30,"🟠 RAPPEL — Dans "&TEXT(AD24-TODAY(),"0")&" j","⚪ Prévu le "&TEXT(AD24,"DD/MM/YY"))))) -> ⚪ Saisir date naissance | AG24: =IF(D24="","",EDATE(D24,15)) | AI24: =IF(AH24<>"","✅ Administré le "&TEXT(AH24,"DD/MM/YY"),IF(AG24="","⚪ Saisir date naissance",IF(TODAY()>AG24,"🔴 URGENT — Dû depuis "&TEXT(TODAY()-AG24,"0")&" j",IF(TODAY()>=AG24-30,"🟠 RAPPEL — Dans "&TEXT(AG24-TODAY(),"0")&" j","⚪ Prévu le "&TEXT(AG24,"DD/MM/YY"))))) -> ⚪ Saisir date naissance | AJ24: Saison hivernale | AL24: =IF(AK24<>"","✅ Administré","📋 À planifier") -> 📋 À planifier | AM24: =IF(D24="","",EDATE(D24,2)) | AO24: =IF(AN24<>"","✅ Administré le "&TEXT(AN24,"DD/MM/YY"),IF(AM24="","⚪ Saisir date naissance",IF(TODAY()>AM24,"🔴 URGENT — Dû depuis "&TEXT(TODAY()-AM24,"0")&" j",IF(TODAY()>=AM24-30,"🟠 RAPPEL — Dans "&TEXT(AM24-TODAY(),"0")&" j","⚪ Prévu le "&TEXT(AM24,"DD/MM/YY"))))) -> ⚪ Saisir date naissance | AP24: =IF(D24="","",EDATE(D24,3)) | AR24: =IF(AQ24<>"","✅ Administré le "&TEXT(AQ24,"DD/MM/YY"),IF(AP24="","⚪ Saisir date naissance",IF(TODAY()>AP24,"🔴 URGENT — Dû depuis "&TEXT(TODAY()-AP24,"0")&" j",IF(TODAY()>=AP24-30,"🟠 RAPPEL — Dans "&TEXT(AP24-TODAY(),"0")&" j","⚪ Prévu le "&TEXT(AP24,"DD/MM/YY"))))) -> ⚪ Saisir date naissance
A25: 19 | F25: =IF(D25="","",EDATE(D25,2)) | H25: =IF(G25<>"","✅ Administré le "&TEXT(G25,"DD/MM/YY"),IF(F25="","⚪ Saisir date naissance",IF(TODAY()>F25,"🔴 URGENT — Dû depuis "&TEXT(TODAY()-F25,"0")&" j",IF(TODAY()>=F25-30,"🟠 RAPPEL — Dans "&TEXT(F25-TODAY(),"0")&" j","⚪ Prévu le "&TEXT(F25,"DD/MM/YY"))))) -> ⚪ Saisir date naissance | I25: =IF(D25="","",EDATE(D25,3)) | K25: =IF(J25<>"","✅ Administré le "&TEXT(J25,"DD/MM/YY"),IF(I25="","⚪ Saisir date naissance",IF(TODAY()>I25,"🔴 URGENT — Dû depuis "&TEXT(TODAY()-I25,"0")&" j",IF(TODAY()>=I25-30,"🟠 RAPPEL — Dans "&TEXT(I25-TODAY(),"0")&" j","⚪ Prévu le "&TEXT(I25,"DD/MM/YY"))))) -> ⚪ Saisir date naissance | L25: =IF(D25="","",EDATE(D25,4)) | N25: =IF(M25<>"","✅ Administré le "&TEXT(M25,"DD/MM/YY"),IF(L25="","⚪ Saisir date naissance",IF(TODAY()>L25,"🔴 URGENT — Dû depuis "&TEXT(TODAY()-L25,"0")&" j",IF(TODAY()>=L25-30,"🟠 RAPPEL — Dans "&TEXT(L25-TODAY(),"0")&" j","⚪ Prévu le "&TEXT(L25,"DD/MM/YY"))))) -> ⚪ Saisir date naissance | O25: =IF(D25="","",EDATE(D25,12)) | Q25: =IF(P25<>"","✅ Administré le "&TEXT(P25,"DD/MM/YY"),IF(O25="","⚪ Saisir date naissance",IF(TODAY()>O25,"🔴 URGENT — Dû depuis "&TEXT(TODAY()-O25,"0")&" j",IF(TODAY()>=O25-30,"🟠 RAPPEL — Dans "&TEXT(O25-TODAY(),"0")&" j","⚪ Prévu le "&TEXT(O25,"DD/MM/YY"))))) -> ⚪ Saisir date naissance | R25: =IF(D25="","",EDATE(D25,2)) | T25: =IF(S25<>"","✅ Administré le "&TEXT(S25,"DD/MM/YY"),IF(R25="","⚪ Saisir date naissance",IF(TODAY()>R25,"🔴 URGENT — Dû depuis "&TEXT(TODAY()-R25,"0")&" j",IF(TODAY()>=R25-30,"🟠 RAPPEL — Dans "&TEXT(R25-TODAY(),"0")&" j","⚪ Prévu le "&TEXT(R25,"DD/MM/YY"))))) -> ⚪ Saisir date naissance | U25: =IF(D25="","",EDATE(D25,4)) | W25: =IF(V25<>"","✅ Administré le "&TEXT(V25,"DD/MM/YY"),IF(U25="","⚪ Saisir date naissance",IF(TODAY()>U25,"🔴 URGENT — Dû depuis "&TEXT(TODAY()-U25,"0")&" j",IF(TODAY()>=U25-30,"🟠 RAPPEL — Dans "&TEXT(U25-TODAY(),"0")&" j","⚪ Prévu le "&TEXT(U25,"DD/MM/YY"))))) -> ⚪ Saisir date naissance | X25: =IF(D25="","",EDATE(D25,12)) | Z25: =IF(Y25<>"","✅ Administré le "&TEXT(Y25,"DD/MM/YY"),IF(X25="","⚪ Saisir date naissance",IF(TODAY()>X25,"🔴 URGENT — Dû depuis "&TEXT(TODAY()-X25,"0")&" j",IF(TODAY()>=X25-30,"🟠 RAPPEL — Dans "&TEXT(X25-TODAY(),"0")&" j","⚪ Prévu le "&TEXT(X25,"DD/MM/YY"))))) -> ⚪ Saisir date naissance | AA25: =IF(D25="","",EDATE(D25,12)) | AC25: =IF(AB25<>"","✅ Administré le "&TEXT(AB25,"DD/MM/YY"),IF(AA25="","⚪ Saisir date naissance",IF(TODAY()>AA25,"🔴 URGENT — Dû depuis "&TEXT(TODAY()-AA25,"0")&" j",IF(TODAY()>=AA25-30,"🟠 RAPPEL — Dans "&TEXT(AA25-TODAY(),"0")&" j","⚪ Prévu le "&TEXT(AA25,"DD/MM/YY"))))) -> ⚪ Saisir date naissance | AD25: =IF(D25="","",EDATE(D25,12)) | AF25: =IF(AE25<>"","✅ Administré le "&TEXT(AE25,"DD/MM/YY"),IF(AD25="","⚪ Saisir date naissance",IF(TODAY()>AD25,"🔴 URGENT — Dû depuis "&TEXT(TODAY()-AD25,"0")&" j",IF(TODAY()>=AD25-30,"🟠 RAPPEL — Dans "&TEXT(AD25-TODAY(),"0")&" j","⚪ Prévu le "&TEXT(AD25,"DD/MM/YY"))))) -> ⚪ Saisir date naissance | AG25: =IF(D25="","",EDATE(D25,15)) | AI25: =IF(AH25<>"","✅ Administré le "&TEXT(AH25,"DD/MM/YY"),IF(AG25="","⚪ Saisir date naissance",IF(TODAY()>AG25,"🔴 URGENT — Dû depuis "&TEXT(TODAY()-AG25,"0")&" j",IF(TODAY()>=AG25-30,"🟠 RAPPEL — Dans "&TEXT(AG25-TODAY(),"0")&" j","⚪ Prévu le "&TEXT(AG25,"DD/MM/YY"))))) -> ⚪ Saisir date naissance | AJ25: Saison hivernale | AL25: =IF(AK25<>"","✅ Administré","📋 À planifier") -> 📋 À planifier | AM25: =IF(D25="","",EDATE(D25,2)) | AO25: =IF(AN25<>"","✅ Administré le "&TEXT(AN25,"DD/MM/YY"),IF(AM25="","⚪ Saisir date naissance",IF(TODAY()>AM25,"🔴 URGENT — Dû depuis "&TEXT(TODAY()-AM25,"0")&" j",IF(TODAY()>=AM25-30,"🟠 RAPPEL — Dans "&TEXT(AM25-TODAY(),"0")&" j","⚪ Prévu le "&TEXT(AM25,"DD/MM/YY"))))) -> ⚪ Saisir date naissance | AP25: =IF(D25="","",EDATE(D25,3)) | AR25: =IF(AQ25<>"","✅ Administré le "&TEXT(AQ25,"DD/MM/YY"),IF(AP25="","⚪ Saisir date naissance",IF(TODAY()>AP25,"🔴 URGENT — Dû depuis "&TEXT(TODAY()-AP25,"0")&" j",IF(TODAY()>=AP25-30,"🟠 RAPPEL — Dans "&TEXT(AP25-TODAY(),"0")&" j","⚪ Prévu le "&TEXT(AP25,"DD/MM/YY"))))) -> ⚪ Saisir date naissance
A26: 20 | F26: =IF(D26="","",EDATE(D26,2)) | H26: =IF(G26<>"","✅ Administré le "&TEXT(G26,"DD/MM/YY"),IF(F26="","⚪ Saisir date naissance",IF(TODAY()>F26,"🔴 URGENT — Dû depuis "&TEXT(TODAY()-F26,"0")&" j",IF(TODAY()>=F26-30,"🟠 RAPPEL — Dans "&TEXT(F26-TODAY(),"0")&" j","⚪ Prévu le "&TEXT(F26,"DD/MM/YY"))))) -> ⚪ Saisir date naissance | I26: =IF(D26="","",EDATE(D26,3)) | K26: =IF(J26<>"","✅ Administré le "&TEXT(J26,"DD/MM/YY"),IF(I26="","⚪ Saisir date naissance",IF(TODAY()>I26,"🔴 URGENT — Dû depuis "&TEXT(TODAY()-I26,"0")&" j",IF(TODAY()>=I26-30,"🟠 RAPPEL — Dans "&TEXT(I26-TODAY(),"0")&" j","⚪ Prévu le "&TEXT(I26,"DD/MM/YY"))))) -> ⚪ Saisir date naissance | L26: =IF(D26="","",EDATE(D26,4)) | N26: =IF(M26<>"","✅ Administré le "&TEXT(M26,"DD/MM/YY"),IF(L26="","⚪ Saisir date naissance",IF(TODAY()>L26,"🔴 URGENT — Dû depuis "&TEXT(TODAY()-L26,"0")&" j",IF(TODAY()>=L26-30,"🟠 RAPPEL — Dans "&TEXT(L26-TODAY(),"0")&" j","⚪ Prévu le "&TEXT(L26,"DD/MM/YY"))))) -> ⚪ Saisir date naissance | O26: =IF(D26="","",EDATE(D26,12)) | Q26: =IF(P26<>"","✅ Administré le "&TEXT(P26,"DD/MM/YY"),IF(O26="","⚪ Saisir date naissance",IF(TODAY()>O26,"🔴 URGENT — Dû depuis "&TEXT(TODAY()-O26,"0")&" j",IF(TODAY()>=O26-30,"🟠 RAPPEL — Dans "&TEXT(O26-TODAY(),"0")&" j","⚪ Prévu le "&TEXT(O26,"DD/MM/YY"))))) -> ⚪ Saisir date naissance | R26: =IF(D26="","",EDATE(D26,2)) | T26: =IF(S26<>"","✅ Administré le "&TEXT(S26,"DD/MM/YY"),IF(R26="","⚪ Saisir date naissance",IF(TODAY()>R26,"🔴 URGENT — Dû depuis "&TEXT(TODAY()-R26,"0")&" j",IF(TODAY()>=R26-30,"🟠 RAPPEL — Dans "&TEXT(R26-TODAY(),"0")&" j","⚪ Prévu le "&TEXT(R26,"DD/MM/YY"))))) -> ⚪ Saisir date naissance | U26: =IF(D26="","",EDATE(D26,4)) | W26: =IF(V26<>"","✅ Administré le "&TEXT(V26,"DD/MM/YY"),IF(U26="","⚪ Saisir date naissance",IF(TODAY()>U26,"🔴 URGENT — Dû depuis "&TEXT(TODAY()-U26,"0")&" j",IF(TODAY()>=U26-30,"🟠 RAPPEL — Dans "&TEXT(U26-TODAY(),"0")&" j","⚪ Prévu le "&TEXT(U26,"DD/MM/YY"))))) -> ⚪ Saisir date naissance | X26: =IF(D26="","",EDATE(D26,12)) | Z26: =IF(Y26<>"","✅ Administré le "&TEXT(Y26,"DD/MM/YY"),IF(X26="","⚪ Saisir date naissance",IF(TODAY()>X26,"🔴 URGENT — Dû depuis "&TEXT(TODAY()-X26,"0")&" j",IF(TODAY()>=X26-30,"🟠 RAPPEL — Dans "&TEXT(X26-TODAY(),"0")&" j","⚪ Prévu le "&TEXT(X26,"DD/MM/YY"))))) -> ⚪ Saisir date naissance | AA26: =IF(D26="","",EDATE(D26,12)) | AC26: =IF(AB26<>"","✅ Administré le "&TEXT(AB26,"DD/MM/YY"),IF(AA26="","⚪ Saisir date naissance",IF(TODAY()>AA26,"🔴 URGENT — Dû depuis "&TEXT(TODAY()-AA26,"0")&" j",IF(TODAY()>=AA26-30,"🟠 RAPPEL — Dans "&TEXT(AA26-TODAY(),"0")&" j","⚪ Prévu le "&TEXT(AA26,"DD/MM/YY"))))) -> ⚪ Saisir date naissance | AD26: =IF(D26="","",EDATE(D26,12)) | AF26: =IF(AE26<>"","✅ Administré le "&TEXT(AE26,"DD/MM/YY"),IF(AD26="","⚪ Saisir date naissance",IF(TODAY()>AD26,"🔴 URGENT — Dû depuis "&TEXT(TODAY()-AD26,"0")&" j",IF(TODAY()>=AD26-30,"🟠 RAPPEL — Dans "&TEXT(AD26-TODAY(),"0")&" j","⚪ Prévu le "&TEXT(AD26,"DD/MM/YY"))))) -> ⚪ Saisir date naissance | AG26: =IF(D26="","",EDATE(D26,15)) | AI26: =IF(AH26<>"","✅ Administré le "&TEXT(AH26,"DD/MM/YY"),IF(AG26="","⚪ Saisir date naissance",IF(TODAY()>AG26,"🔴 URGENT — Dû depuis "&TEXT(TODAY()-AG26,"0")&" j",IF(TODAY()>=AG26-30,"🟠 RAPPEL — Dans "&TEXT(AG26-TODAY(),"0")&" j","⚪ Prévu le "&TEXT(AG26,"DD/MM/YY"))))) -> ⚪ Saisir date naissance | AJ26: Saison hivernale | AL26: =IF(AK26<>"","✅ Administré","📋 À planifier") -> 📋 À planifier | AM26: =IF(D26="","",EDATE(D26,2)) | AO26: =IF(AN26<>"","✅ Administré le "&TEXT(AN26,"DD/MM/YY"),IF(AM26="","⚪ Saisir date naissance",IF(TODAY()>AM26,"🔴 URGENT — Dû depuis "&TEXT(TODAY()-AM26,"0")&" j",IF(TODAY()>=AM26-30,"🟠 RAPPEL — Dans "&TEXT(AM26-TODAY(),"0")&" j","⚪ Prévu le "&TEXT(AM26,"DD/MM/YY"))))) -> ⚪ Saisir date naissance | AP26: =IF(D26="","",EDATE(D26,3)) | AR26: =IF(AQ26<>"","✅ Administré le "&TEXT(AQ26,"DD/MM/YY"),IF(AP26="","⚪ Saisir date naissance",IF(TODAY()>AP26,"🔴 URGENT — Dû depuis "&TEXT(TODAY()-AP26,"0")&" j",IF(TODAY()>=AP26-30,"🟠 RAPPEL — Dans "&TEXT(AP26-TODAY(),"0")&" j","⚪ Prévu le "&TEXT(AP26,"DD/MM/YY"))))) -> ⚪ Saisir date naissance
A27: 21 | F27: =IF(D27="","",EDATE(D27,2)) | H27: =IF(G27<>"","✅ Administré le "&TEXT(G27,"DD/MM/YY"),IF(F27="","⚪ Saisir date naissance",IF(TODAY()>F27,"🔴 URGENT — Dû depuis "&TEXT(TODAY()-F27,"0")&" j",IF(TODAY()>=F27-30,"🟠 RAPPEL — Dans "&TEXT(F27-TODAY(),"0")&" j","⚪ Prévu le "&TEXT(F27,"DD/MM/YY"))))) -> ⚪ Saisir date naissance | I27: =IF(D27="","",EDATE(D27,3)) | K27: =IF(J27<>"","✅ Administré le "&TEXT(J27,"DD/MM/YY"),IF(I27="","⚪ Saisir date naissance",IF(TODAY()>I27,"🔴 URGENT — Dû depuis "&TEXT(TODAY()-I27,"0")&" j",IF(TODAY()>=I27-30,"🟠 RAPPEL — Dans "&TEXT(I27-TODAY(),"0")&" j","⚪ Prévu le "&TEXT(I27,"DD/MM/YY"))))) -> ⚪ Saisir date naissance | L27: =IF(D27="","",EDATE(D27,4)) | N27: =IF(M27<>"","✅ Administré le "&TEXT(M27,"DD/MM/YY"),IF(L27="","⚪ Saisir date naissance",IF(TODAY()>L27,"🔴 URGENT — Dû depuis "&TEXT(TODAY()-L27,"0")&" j",IF(TODAY()>=L27-30,"🟠 RAPPEL — Dans "&TEXT(L27-TODAY(),"0")&" j","⚪ Prévu le "&TEXT(L27,"DD/MM/YY"))))) -> ⚪ Saisir date naissance | O27: =IF(D27="","",EDATE(D27,12)) | Q27: =IF(P27<>"","✅ Administré le "&TEXT(P27,"DD/MM/YY"),IF(O27="","⚪ Saisir date naissance",IF(TODAY()>O27,"🔴 URGENT — Dû depuis "&TEXT(TODAY()-O27,"0")&" j",IF(TODAY()>=O27-30,"🟠 RAPPEL — Dans "&TEXT(O27-TODAY(),"0")&" j","⚪ Prévu le "&TEXT(O27,"DD/MM/YY"))))) -> ⚪ Saisir date naissance | R27: =IF(D27="","",EDATE(D27,2)) | T27: =IF(S27<>"","✅ Administré le "&TEXT(S27,"DD/MM/YY"),IF(R27="","⚪ Saisir date naissance",IF(TODAY()>R27,"🔴 URGENT — Dû depuis "&TEXT(TODAY()-R27,"0")&" j",IF(TODAY()>=R27-30,"🟠 RAPPEL — Dans "&TEXT(R27-TODAY(),"0")&" j","⚪ Prévu le "&TEXT(R27,"DD/MM/YY"))))) -> ⚪ Saisir date naissance | U27: =IF(D27="","",EDATE(D27,4)) | W27: =IF(V27<>"","✅ Administré le "&TEXT(V27,"DD/MM/YY"),IF(U27="","⚪ Saisir date naissance",IF(TODAY()>U27,"🔴 URGENT — Dû depuis "&TEXT(TODAY()-U27,"0")&" j",IF(TODAY()>=U27-30,"🟠 RAPPEL — Dans "&TEXT(U27-TODAY(),"0")&" j","⚪ Prévu le "&TEXT(U27,"DD/MM/YY"))))) -> ⚪ Saisir date naissance | X27: =IF(D27="","",EDATE(D27,12)) | Z27: =IF(Y27<>"","✅ Administré le "&TEXT(Y27,"DD/MM/YY"),IF(X27="","⚪ Saisir date naissance",IF(TODAY()>X27,"🔴 URGENT — Dû depuis "&TEXT(TODAY()-X27,"0")&" j",IF(TODAY()>=X27-30,"🟠 RAPPEL — Dans "&TEXT(X27-TODAY(),"0")&" j","⚪ Prévu le "&TEXT(X27,"DD/MM/YY"))))) -> ⚪ Saisir date naissance | AA27: =IF(D27="","",EDATE(D27,12)) | AC27: =IF(AB27<>"","✅ Administré le "&TEXT(AB27,"DD/MM/YY"),IF(AA27="","⚪ Saisir date naissance",IF(TODAY()>AA27,"🔴 URGENT — Dû depuis "&TEXT(TODAY()-AA27,"0")&" j",IF(TODAY()>=AA27-30,"🟠 RAPPEL — Dans "&TEXT(AA27-TODAY(),"0")&" j","⚪ Prévu le "&TEXT(AA27,"DD/MM/YY"))))) -> ⚪ Saisir date naissance | AD27: =IF(D27="","",EDATE(D27,12)) | AF27: =IF(AE27<>"","✅ Administré le "&TEXT(AE27,"DD/MM/YY"),IF(AD27="","⚪ Saisir date naissance",IF(TODAY()>AD27,"🔴 URGENT — Dû depuis "&TEXT(TODAY()-AD27,"0")&" j",IF(TODAY()>=AD27-30,"🟠 RAPPEL — Dans "&TEXT(AD27-TODAY(),"0")&" j","⚪ Prévu le "&TEXT(AD27,"DD/MM/YY"))))) -> ⚪ Saisir date naissance | AG27: =IF(D27="","",EDATE(D27,15)) | AI27: =IF(AH27<>"","✅ Administré le "&TEXT(AH27,"DD/MM/YY"),IF(AG27="","⚪ Saisir date naissance",IF(TODAY()>AG27,"🔴 URGENT — Dû depuis "&TEXT(TODAY()-AG27,"0")&" j",IF(TODAY()>=AG27-30,"🟠 RAPPEL — Dans "&TEXT(AG27-TODAY(),"0")&" j","⚪ Prévu le "&TEXT(AG27,"DD/MM/YY"))))) -> ⚪ Saisir date naissance | AJ27: Saison hivernale | AL27: =IF(AK27<>"","✅ Administré","📋 À planifier") -> 📋 À planifier | AM27: =IF(D27="","",EDATE(D27,2)) | AO27: =IF(AN27<>"","✅ Administré le "&TEXT(AN27,"DD/MM/YY"),IF(AM27="","⚪ Saisir date naissance",IF(TODAY()>AM27,"🔴 URGENT — Dû depuis "&TEXT(TODAY()-AM27,"0")&" j",IF(TODAY()>=AM27-30,"🟠 RAPPEL — Dans "&TEXT(AM27-TODAY(),"0")&" j","⚪ Prévu le "&TEXT(AM27,"DD/MM/YY"))))) -> ⚪ Saisir date naissance | AP27: =IF(D27="","",EDATE(D27,3)) | AR27: =IF(AQ27<>"","✅ Administré le "&TEXT(AQ27,"DD/MM/YY"),IF(AP27="","⚪ Saisir date naissance",IF(TODAY()>AP27,"🔴 URGENT — Dû depuis "&TEXT(TODAY()-AP27,"0")&" j",IF(TODAY()>=AP27-30,"🟠 RAPPEL — Dans "&TEXT(AP27-TODAY(),"0")&" j","⚪ Prévu le "&TEXT(AP27,"DD/MM/YY"))))) -> ⚪ Saisir date naissance
A28: 22 | F28: =IF(D28="","",EDATE(D28,2)) | H28: =IF(G28<>"","✅ Administré le "&TEXT(G28,"DD/MM/YY"),IF(F28="","⚪ Saisir date naissance",IF(TODAY()>F28,"🔴 URGENT — Dû depuis "&TEXT(TODAY()-F28,"0")&" j",IF(TODAY()>=F28-30,"🟠 RAPPEL — Dans "&TEXT(F28-TODAY(),"0")&" j","⚪ Prévu le "&TEXT(F28,"DD/MM/YY"))))) -> ⚪ Saisir date naissance | I28: =IF(D28="","",EDATE(D28,3)) | K28: =IF(J28<>"","✅ Administré le "&TEXT(J28,"DD/MM/YY"),IF(I28="","⚪ Saisir date naissance",IF(TODAY()>I28,"🔴 URGENT — Dû depuis "&TEXT(TODAY()-I28,"0")&" j",IF(TODAY()>=I28-30,"🟠 RAPPEL — Dans "&TEXT(I28-TODAY(),"0")&" j","⚪ Prévu le "&TEXT(I28,"DD/MM/YY"))))) -> ⚪ Saisir date naissance | L28: =IF(D28="","",EDATE(D28,4)) | N28: =IF(M28<>"","✅ Administré le "&TEXT(M28,"DD/MM/YY"),IF(L28="","⚪ Saisir date naissance",IF(TODAY()>L28,"🔴 URGENT — Dû depuis "&TEXT(TODAY()-L28,"0")&" j",IF(TODAY()>=L28-30,"🟠 RAPPEL — Dans "&TEXT(L28-TODAY(),"0")&" j","⚪ Prévu le "&TEXT(L28,"DD/MM/YY"))))) -> ⚪ Saisir date naissance | O28: =IF(D28="","",EDATE(D28,12)) | Q28: =IF(P28<>"","✅ Administré le "&TEXT(P28,"DD/MM/YY"),IF(O28="","⚪ Saisir date naissance",IF(TODAY()>O28,"🔴 URGENT — Dû depuis "&TEXT(TODAY()-O28,"0")&" j",IF(TODAY()>=O28-30,"🟠 RAPPEL — Dans "&TEXT(O28-TODAY(),"0")&" j","⚪ Prévu le "&TEXT(O28,"DD/MM/YY"))))) -> ⚪ Saisir date naissance | R28: =IF(D28="","",EDATE(D28,2)) | T28: =IF(S28<>"","✅ Administré le "&TEXT(S28,"DD/MM/YY"),IF(R28="","⚪ Saisir date naissance",IF(TODAY()>R28,"🔴 URGENT — Dû depuis "&TEXT(TODAY()-R28,"0")&" j",IF(TODAY()>=R28-30,"🟠 RAPPEL — Dans "&TEXT(R28-TODAY(),"0")&" j","⚪ Prévu le "&TEXT(R28,"DD/MM/YY"))))) -> ⚪ Saisir date naissance | U28: =IF(D28="","",EDATE(D28,4)) | W28: =IF(V28<>"","✅ Administré le "&TEXT(V28,"DD/MM/YY"),IF(U28="","⚪ Saisir date naissance",IF(TODAY()>U28,"🔴 URGENT — Dû depuis "&TEXT(TODAY()-U28,"0")&" j",IF(TODAY()>=U28-30,"🟠 RAPPEL — Dans "&TEXT(U28-TODAY(),"0")&" j","⚪ Prévu le "&TEXT(U28,"DD/MM/YY"))))) -> ⚪ Saisir date naissance | X28: =IF(D28="","",EDATE(D28,12)) | Z28: =IF(Y28<>"","✅ Administré le "&TEXT(Y28,"DD/MM/YY"),IF(X28="","⚪ Saisir date naissance",IF(TODAY()>X28,"🔴 URGENT — Dû depuis "&TEXT(TODAY()-X28,"0")&" j",IF(TODAY()>=X28-30,"🟠 RAPPEL — Dans "&TEXT(X28-TODAY(),"0")&" j","⚪ Prévu le "&TEXT(X28,"DD/MM/YY"))))) -> ⚪ Saisir date naissance | AA28: =IF(D28="","",EDATE(D28,12)) | AC28: =IF(AB28<>"","✅ Administré le "&TEXT(AB28,"DD/MM/YY"),IF(AA28="","⚪ Saisir date naissance",IF(TODAY()>AA28,"🔴 URGENT — Dû depuis "&TEXT(TODAY()-AA28,"0")&" j",IF(TODAY()>=AA28-30,"🟠 RAPPEL — Dans "&TEXT(AA28-TODAY(),"0")&" j","⚪ Prévu le "&TEXT(AA28,"DD/MM/YY"))))) -> ⚪ Saisir date naissance | AD28: =IF(D28="","",EDATE(D28,12)) | AF28: =IF(AE28<>"","✅ Administré le "&TEXT(AE28,"DD/MM/YY"),IF(AD28="","⚪ Saisir date naissance",IF(TODAY()>AD28,"🔴 URGENT — Dû depuis "&TEXT(TODAY()-AD28,"0")&" j",IF(TODAY()>=AD28-30,"🟠 RAPPEL — Dans "&TEXT(AD28-TODAY(),"0")&" j","⚪ Prévu le "&TEXT(AD28,"DD/MM/YY"))))) -> ⚪ Saisir date naissance | AG28: =IF(D28="","",EDATE(D28,15)) | AI28: =IF(AH28<>"","✅ Administré le "&TEXT(AH28,"DD/MM/YY"),IF(AG28="","⚪ Saisir date naissance",IF(TODAY()>AG28,"🔴 URGENT — Dû depuis "&TEXT(TODAY()-AG28,"0")&" j",IF(TODAY()>=AG28-30,"🟠 RAPPEL — Dans "&TEXT(AG28-TODAY(),"0")&" j","⚪ Prévu le "&TEXT(AG28,"DD/MM/YY"))))) -> ⚪ Saisir date naissance | AJ28: Saison hivernale | AL28: =IF(AK28<>"","✅ Administré","📋 À planifier") -> 📋 À planifier | AM28: =IF(D28="","",EDATE(D28,2)) | AO28: =IF(AN28<>"","✅ Administré le "&TEXT(AN28,"DD/MM/YY"),IF(AM28="","⚪ Saisir date naissance",IF(TODAY()>AM28,"🔴 URGENT — Dû depuis "&TEXT(TODAY()-AM28,"0")&" j",IF(TODAY()>=AM28-30,"🟠 RAPPEL — Dans "&TEXT(AM28-TODAY(),"0")&" j","⚪ Prévu le "&TEXT(AM28,"DD/MM/YY"))))) -> ⚪ Saisir date naissance | AP28: =IF(D28="","",EDATE(D28,3)) | AR28: =IF(AQ28<>"","✅ Administré le "&TEXT(AQ28,"DD/MM/YY"),IF(AP28="","⚪ Saisir date naissance",IF(TODAY()>AP28,"🔴 URGENT — Dû depuis "&TEXT(TODAY()-AP28,"0")&" j",IF(TODAY()>=AP28-30,"🟠 RAPPEL — Dans "&TEXT(AP28-TODAY(),"0")&" j","⚪ Prévu le "&TEXT(AP28,"DD/MM/YY"))))) -> ⚪ Saisir date naissance
A29: 23 | F29: =IF(D29="","",EDATE(D29,2)) | H29: =IF(G29<>"","✅ Administré le "&TEXT(G29,"DD/MM/YY"),IF(F29="","⚪ Saisir date naissance",IF(TODAY()>F29,"🔴 URGENT — Dû depuis "&TEXT(TODAY()-F29,"0")&" j",IF(TODAY()>=F29-30,"🟠 RAPPEL — Dans "&TEXT(F29-TODAY(),"0")&" j","⚪ Prévu le "&TEXT(F29,"DD/MM/YY"))))) -> ⚪ Saisir date naissance | I29: =IF(D29="","",EDATE(D29,3)) | K29: =IF(J29<>"","✅ Administré le "&TEXT(J29,"DD/MM/YY"),IF(I29="","⚪ Saisir date naissance",IF(TODAY()>I29,"🔴 URGENT — Dû depuis "&TEXT(TODAY()-I29,"0")&" j",IF(TODAY()>=I29-30,"🟠 RAPPEL — Dans "&TEXT(I29-TODAY(),"0")&" j","⚪ Prévu le "&TEXT(I29,"DD/MM/YY"))))) -> ⚪ Saisir date naissance | L29: =IF(D29="","",EDATE(D29,4)) | N29: =IF(M29<>"","✅ Administré le "&TEXT(M29,"DD/MM/YY"),IF(L29="","⚪ Saisir date naissance",IF(TODAY()>L29,"🔴 URGENT — Dû depuis "&TEXT(TODAY()-L29,"0")&" j",IF(TODAY()>=L29-30,"🟠 RAPPEL — Dans "&TEXT(L29-TODAY(),"0")&" j","⚪ Prévu le "&TEXT(L29,"DD/MM/YY"))))) -> ⚪ Saisir date naissance | O29: =IF(D29="","",EDATE(D29,12)) | Q29: =IF(P29<>"","✅ Administré le "&TEXT(P29,"DD/MM/YY"),IF(O29="","⚪ Saisir date naissance",IF(TODAY()>O29,"🔴 URGENT — Dû depuis "&TEXT(TODAY()-O29,"0")&" j",IF(TODAY()>=O29-30,"🟠 RAPPEL — Dans "&TEXT(O29-TODAY(),"0")&" j","⚪ Prévu le "&TEXT(O29,"DD/MM/YY"))))) -> ⚪ Saisir date naissance | R29: =IF(D29="","",EDATE(D29,2)) | T29: =IF(S29<>"","✅ Administré le "&TEXT(S29,"DD/MM/YY"),IF(R29="","⚪ Saisir date naissance",IF(TODAY()>R29,"🔴 URGENT — Dû depuis "&TEXT(TODAY()-R29,"0")&" j",IF(TODAY()>=R29-30,"🟠 RAPPEL — Dans "&TEXT(R29-TODAY(),"0")&" j","⚪ Prévu le "&TEXT(R29,"DD/MM/YY"))))) -> ⚪ Saisir date naissance | U29: =IF(D29="","",EDATE(D29,4)) | W29: =IF(V29<>"","✅ Administré le "&TEXT(V29,"DD/MM/YY"),IF(U29="","⚪ Saisir date naissance",IF(TODAY()>U29,"🔴 URGENT — Dû depuis "&TEXT(TODAY()-U29,"0")&" j",IF(TODAY()>=U29-30,"🟠 RAPPEL — Dans "&TEXT(U29-TODAY(),"0")&" j","⚪ Prévu le "&TEXT(U29,"DD/MM/YY"))))) -> ⚪ Saisir date naissance | X29: =IF(D29="","",EDATE(D29,12)) | Z29: =IF(Y29<>"","✅ Administré le "&TEXT(Y29,"DD/MM/YY"),IF(X29="","⚪ Saisir date naissance",IF(TODAY()>X29,"🔴 URGENT — Dû depuis "&TEXT(TODAY()-X29,"0")&" j",IF(TODAY()>=X29-30,"🟠 RAPPEL — Dans "&TEXT(X29-TODAY(),"0")&" j","⚪ Prévu le "&TEXT(X29,"DD/MM/YY"))))) -> ⚪ Saisir date naissance | AA29: =IF(D29="","",EDATE(D29,12)) | AC29: =IF(AB29<>"","✅ Administré le "&TEXT(AB29,"DD/MM/YY"),IF(AA29="","⚪ Saisir date naissance",IF(TODAY()>AA29,"🔴 URGENT — Dû depuis "&TEXT(TODAY()-AA29,"0")&" j",IF(TODAY()>=AA29-30,"🟠 RAPPEL — Dans "&TEXT(AA29-TODAY(),"0")&" j","⚪ Prévu le "&TEXT(AA29,"DD/MM/YY"))))) -> ⚪ Saisir date naissance | AD29: =IF(D29="","",EDATE(D29,12)) | AF29: =IF(AE29<>"","✅ Administré le "&TEXT(AE29,"DD/MM/YY"),IF(AD29="","⚪ Saisir date naissance",IF(TODAY()>AD29,"🔴 URGENT — Dû depuis "&TEXT(TODAY()-AD29,"0")&" j",IF(TODAY()>=AD29-30,"🟠 RAPPEL — Dans "&TEXT(AD29-TODAY(),"0")&" j","⚪ Prévu le "&TEXT(AD29,"DD/MM/YY"))))) -> ⚪ Saisir date naissance | AG29: =IF(D29="","",EDATE(D29,15)) | AI29: =IF(AH29<>"","✅ Administré le "&TEXT(AH29,"DD/MM/YY"),IF(AG29="","⚪ Saisir date naissance",IF(TODAY()>AG29,"🔴 URGENT — Dû depuis "&TEXT(TODAY()-AG29,"0")&" j",IF(TODAY()>=AG29-30,"🟠 RAPPEL — Dans "&TEXT(AG29-TODAY(),"0")&" j","⚪ Prévu le "&TEXT(AG29,"DD/MM/YY"))))) -> ⚪ Saisir date naissance | AJ29: Saison hivernale | AL29: =IF(AK29<>"","✅ Administré","📋 À planifier") -> 📋 À planifier | AM29: =IF(D29="","",EDATE(D29,2)) | AO29: =IF(AN29<>"","✅ Administré le "&TEXT(AN29,"DD/MM/YY"),IF(AM29="","⚪ Saisir date naissance",IF(TODAY()>AM29,"🔴 URGENT — Dû depuis "&TEXT(TODAY()-AM29,"0")&" j",IF(TODAY()>=AM29-30,"🟠 RAPPEL — Dans "&TEXT(AM29-TODAY(),"0")&" j","⚪ Prévu le "&TEXT(AM29,"DD/MM/YY"))))) -> ⚪ Saisir date naissance | AP29: =IF(D29="","",EDATE(D29,3)) | AR29: =IF(AQ29<>"","✅ Administré le "&TEXT(AQ29,"DD/MM/YY"),IF(AP29="","⚪ Saisir date naissance",IF(TODAY()>AP29,"🔴 URGENT — Dû depuis "&TEXT(TODAY()-AP29,"0")&" j",IF(TODAY()>=AP29-30,"🟠 RAPPEL — Dans "&TEXT(AP29-TODAY(),"0")&" j","⚪ Prévu le "&TEXT(AP29,"DD/MM/YY"))))) -> ⚪ Saisir date naissance
A30: 24 | F30: =IF(D30="","",EDATE(D30,2)) | H30: =IF(G30<>"","✅ Administré le "&TEXT(G30,"DD/MM/YY"),IF(F30="","⚪ Saisir date naissance",IF(TODAY()>F30,"🔴 URGENT — Dû depuis "&TEXT(TODAY()-F30,"0")&" j",IF(TODAY()>=F30-30,"🟠 RAPPEL — Dans "&TEXT(F30-TODAY(),"0")&" j","⚪ Prévu le "&TEXT(F30,"DD/MM/YY"))))) -> ⚪ Saisir date naissance | I30: =IF(D30="","",EDATE(D30,3)) | K30: =IF(J30<>"","✅ Administré le "&TEXT(J30,"DD/MM/YY"),IF(I30="","⚪ Saisir date naissance",IF(TODAY()>I30,"🔴 URGENT — Dû depuis "&TEXT(TODAY()-I30,"0")&" j",IF(TODAY()>=I30-30,"🟠 RAPPEL — Dans "&TEXT(I30-TODAY(),"0")&" j","⚪ Prévu le "&TEXT(I30,"DD/MM/YY"))))) -> ⚪ Saisir date naissance | L30: =IF(D30="","",EDATE(D30,4)) | N30: =IF(M30<>"","✅ Administré le "&TEXT(M30,"DD/MM/YY"),IF(L30="","⚪ Saisir date naissance",IF(TODAY()>L30,"🔴 URGENT — Dû depuis "&TEXT(TODAY()-L30,"0")&" j",IF(TODAY()>=L30-30,"🟠 RAPPEL — Dans "&TEXT(L30-TODAY(),"0")&" j","⚪ Prévu le "&TEXT(L30,"DD/MM/YY"))))) -> ⚪ Saisir date naissance | O30: =IF(D30="","",EDATE(D30,12)) | Q30: =IF(P30<>"","✅ Administré le "&TEXT(P30,"DD/MM/YY"),IF(O30="","⚪ Saisir date naissance",IF(TODAY()>O30,"🔴 URGENT — Dû depuis "&TEXT(TODAY()-O30,"0")&" j",IF(TODAY()>=O30-30,"🟠 RAPPEL — Dans "&TEXT(O30-TODAY(),"0")&" j","⚪ Prévu le "&TEXT(O30,"DD/MM/YY"))))) -> ⚪ Saisir date naissance | R30: =IF(D30="","",EDATE(D30,2)) | T30: =IF(S30<>"","✅ Administré le "&TEXT(S30,"DD/MM/YY"),IF(R30="","⚪ Saisir date naissance",IF(TODAY()>R30,"🔴 URGENT — Dû depuis "&TEXT(TODAY()-R30,"0")&" j",IF(TODAY()>=R30-30,"🟠 RAPPEL — Dans "&TEXT(R30-TODAY(),"0")&" j","⚪ Prévu le "&TEXT(R30,"DD/MM/YY"))))) -> ⚪ Saisir date naissance | U30: =IF(D30="","",EDATE(D30,4)) | W30: =IF(V30<>"","✅ Administré le "&TEXT(V30,"DD/MM/YY"),IF(U30="","⚪ Saisir date naissance",IF(TODAY()>U30,"🔴 URGENT — Dû depuis "&TEXT(TODAY()-U30,"0")&" j",IF(TODAY()>=U30-30,"🟠 RAPPEL — Dans "&TEXT(U30-TODAY(),"0")&" j","⚪ Prévu le "&TEXT(U30,"DD/MM/YY"))))) -> ⚪ Saisir date naissance | X30: =IF(D30="","",EDATE(D30,12)) | Z30: =IF(Y30<>"","✅ Administré le "&TEXT(Y30,"DD/MM/YY"),IF(X30="","⚪ Saisir date naissance",IF(TODAY()>X30,"🔴 URGENT — Dû depuis "&TEXT(TODAY()-X30,"0")&" j",IF(TODAY()>=X30-30,"🟠 RAPPEL — Dans "&TEXT(X30-TODAY(),"0")&" j","⚪ Prévu le "&TEXT(X30,"DD/MM/YY"))))) -> ⚪ Saisir date naissance | AA30: =IF(D30="","",EDATE(D30,12)) | AC30: =IF(AB30<>"","✅ Administré le "&TEXT(AB30,"DD/MM/YY"),IF(AA30="","⚪ Saisir date naissance",IF(TODAY()>AA30,"🔴 URGENT — Dû depuis "&TEXT(TODAY()-AA30,"0")&" j",IF(TODAY()>=AA30-30,"🟠 RAPPEL — Dans "&TEXT(AA30-TODAY(),"0")&" j","⚪ Prévu le "&TEXT(AA30,"DD/MM/YY"))))) -> ⚪ Saisir date naissance | AD30: =IF(D30="","",EDATE(D30,12)) | AF30: =IF(AE30<>"","✅ Administré le "&TEXT(AE30,"DD/MM/YY"),IF(AD30="","⚪ Saisir date naissance",IF(TODAY()>AD30,"🔴 URGENT — Dû depuis "&TEXT(TODAY()-AD30,"0")&" j",IF(TODAY()>=AD30-30,"🟠 RAPPEL — Dans "&TEXT(AD30-TODAY(),"0")&" j","⚪ Prévu le "&TEXT(AD30,"DD/MM/YY"))))) -> ⚪ Saisir date naissance | AG30: =IF(D30="","",EDATE(D30,15)) | AI30: =IF(AH30<>"","✅ Administré le "&TEXT(AH30,"DD/MM/YY"),IF(AG30="","⚪ Saisir date naissance",IF(TODAY()>AG30,"🔴 URGENT — Dû depuis "&TEXT(TODAY()-AG30,"0")&" j",IF(TODAY()>=AG30-30,"🟠 RAPPEL — Dans "&TEXT(AG30-TODAY(),"0")&" j","⚪ Prévu le "&TEXT(AG30,"DD/MM/YY"))))) -> ⚪ Saisir date naissance | AJ30: Saison hivernale | AL30: =IF(AK30<>"","✅ Administré","📋 À planifier") -> 📋 À planifier | AM30: =IF(D30="","",EDATE(D30,2)) | AO30: =IF(AN30<>"","✅ Administré le "&TEXT(AN30,"DD/MM/YY"),IF(AM30="","⚪ Saisir date naissance",IF(TODAY()>AM30,"🔴 URGENT — Dû depuis "&TEXT(TODAY()-AM30,"0")&" j",IF(TODAY()>=AM30-30,"🟠 RAPPEL — Dans "&TEXT(AM30-TODAY(),"0")&" j","⚪ Prévu le "&TEXT(AM30,"DD/MM/YY"))))) -> ⚪ Saisir date naissance | AP30: =IF(D30="","",EDATE(D30,3)) | AR30: =IF(AQ30<>"","✅ Administré le "&TEXT(AQ30,"DD/MM/YY"),IF(AP30="","⚪ Saisir date naissance",IF(TODAY()>AP30,"🔴 URGENT — Dû depuis "&TEXT(TODAY()-AP30,"0")&" j",IF(TODAY()>=AP30-30,"🟠 RAPPEL — Dans "&TEXT(AP30-TODAY(),"0")&" j","⚪ Prévu le "&TEXT(AP30,"DD/MM/YY"))))) -> ⚪ Saisir date naissance
A31: 25 | F31: =IF(D31="","",EDATE(D31,2)) | H31: =IF(G31<>"","✅ Administré le "&TEXT(G31,"DD/MM/YY"),IF(F31="","⚪ Saisir date naissance",IF(TODAY()>F31,"🔴 URGENT — Dû depuis "&TEXT(TODAY()-F31,"0")&" j",IF(TODAY()>=F31-30,"🟠 RAPPEL — Dans "&TEXT(F31-TODAY(),"0")&" j","⚪ Prévu le "&TEXT(F31,"DD/MM/YY"))))) -> ⚪ Saisir date naissance | I31: =IF(D31="","",EDATE(D31,3)) | K31: =IF(J31<>"","✅ Administré le "&TEXT(J31,"DD/MM/YY"),IF(I31="","⚪ Saisir date naissance",IF(TODAY()>I31,"🔴 URGENT — Dû depuis "&TEXT(TODAY()-I31,"0")&" j",IF(TODAY()>=I31-30,"🟠 RAPPEL — Dans "&TEXT(I31-TODAY(),"0")&" j","⚪ Prévu le "&TEXT(I31,"DD/MM/YY"))))) -> ⚪ Saisir date naissance | L31: =IF(D31="","",EDATE(D31,4)) | N31: =IF(M31<>"","✅ Administré le "&TEXT(M31,"DD/MM/YY"),IF(L31="","⚪ Saisir date naissance",IF(TODAY()>L31,"🔴 URGENT — Dû depuis "&TEXT(TODAY()-L31,"0")&" j",IF(TODAY()>=L31-30,"🟠 RAPPEL — Dans "&TEXT(L31-TODAY(),"0")&" j","⚪ Prévu le "&TEXT(L31,"DD/MM/YY"))))) -> ⚪ Saisir date naissance | O31: =IF(D31="","",EDATE(D31,12)) | Q31: =IF(P31<>"","✅ Administré le "&TEXT(P31,"DD/MM/YY"),IF(O31="","⚪ Saisir date naissance",IF(TODAY()>O31,"🔴 URGENT — Dû depuis "&TEXT(TODAY()-O31,"0")&" j",IF(TODAY()>=O31-30,"🟠 RAPPEL — Dans "&TEXT(O31-TODAY(),"0")&" j","⚪ Prévu le "&TEXT(O31,"DD/MM/YY"))))) -> ⚪ Saisir date naissance | R31: =IF(D31="","",EDATE(D31,2)) | T31: =IF(S31<>"","✅ Administré le "&TEXT(S31,"DD/MM/YY"),IF(R31="","⚪ Saisir date naissance",IF(TODAY()>R31,"🔴 URGENT — Dû depuis "&TEXT(TODAY()-R31,"0")&" j",IF(TODAY()>=R31-30,"🟠 RAPPEL — Dans "&TEXT(R31-TODAY(),"0")&" j","⚪ Prévu le "&TEXT(R31,"DD/MM/YY"))))) -> ⚪ Saisir date naissance | U31: =IF(D31="","",EDATE(D31,4)) | W31: =IF(V31<>"","✅ Administré le "&TEXT(V31,"DD/MM/YY"),IF(U31="","⚪ Saisir date naissance",IF(TODAY()>U31,"🔴 URGENT — Dû depuis "&TEXT(TODAY()-U31,"0")&" j",IF(TODAY()>=U31-30,"🟠 RAPPEL — Dans "&TEXT(U31-TODAY(),"0")&" j","⚪ Prévu le "&TEXT(U31,"DD/MM/YY"))))) -> ⚪ Saisir date naissance | X31: =IF(D31="","",EDATE(D31,12)) | Z31: =IF(Y31<>"","✅ Administré le "&TEXT(Y31,"DD/MM/YY"),IF(X31="","⚪ Saisir date naissance",IF(TODAY()>X31,"🔴 URGENT — Dû depuis "&TEXT(TODAY()-X31,"0")&" j",IF(TODAY()>=X31-30,"🟠 RAPPEL — Dans "&TEXT(X31-TODAY(),"0")&" j","⚪ Prévu le "&TEXT(X31,"DD/MM/YY"))))) -> ⚪ Saisir date naissance | AA31: =IF(D31="","",EDATE(D31,12)) | AC31: =IF(AB31<>"","✅ Administré le "&TEXT(AB31,"DD/MM/YY"),IF(AA31="","⚪ Saisir date naissance",IF(TODAY()>AA31,"🔴 URGENT — Dû depuis "&TEXT(TODAY()-AA31,"0")&" j",IF(TODAY()>=AA31-30,"🟠 RAPPEL — Dans "&TEXT(AA31-TODAY(),"0")&" j","⚪ Prévu le "&TEXT(AA31,"DD/MM/YY"))))) -> ⚪ Saisir date naissance | AD31: =IF(D31="","",EDATE(D31,12)) | AF31: =IF(AE31<>"","✅ Administré le "&TEXT(AE31,"DD/MM/YY"),IF(AD31="","⚪ Saisir date naissance",IF(TODAY()>AD31,"🔴 URGENT — Dû depuis "&TEXT(TODAY()-AD31,"0")&" j",IF(TODAY()>=AD31-30,"🟠 RAPPEL — Dans "&TEXT(AD31-TODAY(),"0")&" j","⚪ Prévu le "&TEXT(AD31,"DD/MM/YY"))))) -> ⚪ Saisir date naissance | AG31: =IF(D31="","",EDATE(D31,15)) | AI31: =IF(AH31<>"","✅ Administré le "&TEXT(AH31,"DD/MM/YY"),IF(AG31="","⚪ Saisir date naissance",IF(TODAY()>AG31,"🔴 URGENT — Dû depuis "&TEXT(TODAY()-AG31,"0")&" j",IF(TODAY()>=AG31-30,"🟠 RAPPEL — Dans "&TEXT(AG31-TODAY(),"0")&" j","⚪ Prévu le "&TEXT(AG31,"DD/MM/YY"))))) -> ⚪ Saisir date naissance | AJ31: Saison hivernale | AL31: =IF(AK31<>"","✅ Administré","📋 À planifier") -> 📋 À planifier | AM31: =IF(D31="","",EDATE(D31,2)) | AO31: =IF(AN31<>"","✅ Administré le "&TEXT(AN31,"DD/MM/YY"),IF(AM31="","⚪ Saisir date naissance",IF(TODAY()>AM31,"🔴 URGENT — Dû depuis "&TEXT(TODAY()-AM31,"0")&" j",IF(TODAY()>=AM31-30,"🟠 RAPPEL — Dans "&TEXT(AM31-TODAY(),"0")&" j","⚪ Prévu le "&TEXT(AM31,"DD/MM/YY"))))) -> ⚪ Saisir date naissance | AP31: =IF(D31="","",EDATE(D31,3)) | AR31: =IF(AQ31<>"","✅ Administré le "&TEXT(AQ31,"DD/MM/YY"),IF(AP31="","⚪ Saisir date naissance",IF(TODAY()>AP31,"🔴 URGENT — Dû depuis "&TEXT(TODAY()-AP31,"0")&" j",IF(TODAY()>=AP31-30,"🟠 RAPPEL — Dans "&TEXT(AP31-TODAY(),"0")&" j","⚪ Prévu le "&TEXT(AP31,"DD/MM/YY"))))) -> ⚪ Saisir date naissance
A32: 26 | F32: =IF(D32="","",EDATE(D32,2)) | H32: =IF(G32<>"","✅ Administré le "&TEXT(G32,"DD/MM/YY"),IF(F32="","⚪ Saisir date naissance",IF(TODAY()>F32,"🔴 URGENT — Dû depuis "&TEXT(TODAY()-F32,"0")&" j",IF(TODAY()>=F32-30,"🟠 RAPPEL — Dans "&TEXT(F32-TODAY(),"0")&" j","⚪ Prévu le "&TEXT(F32,"DD/MM/YY"))))) -> ⚪ Saisir date naissance | I32: =IF(D32="","",EDATE(D32,3)) | K32: =IF(J32<>"","✅ Administré le "&TEXT(J32,"DD/MM/YY"),IF(I32="","⚪ Saisir date naissance",IF(TODAY()>I32,"🔴 URGENT — Dû depuis "&TEXT(TODAY()-I32,"0")&" j",IF(TODAY()>=I32-30,"🟠 RAPPEL — Dans "&TEXT(I32-TODAY(),"0")&" j","⚪ Prévu le "&TEXT(I32,"DD/MM/YY"))))) -> ⚪ Saisir date naissance | L32: =IF(D32="","",EDATE(D32,4)) | N32: =IF(M32<>"","✅ Administré le "&TEXT(M32,"DD/MM/YY"),IF(L32="","⚪ Saisir date naissance",IF(TODAY()>L32,"🔴 URGENT — Dû depuis "&TEXT(TODAY()-L32,"0")&" j",IF(TODAY()>=L32-30,"🟠 RAPPEL — Dans "&TEXT(L32-TODAY(),"0")&" j","⚪ Prévu le "&TEXT(L32,"DD/MM/YY"))))) -> ⚪ Saisir date naissance | O32: =IF(D32="","",EDATE(D32,12)) | Q32: =IF(P32<>"","✅ Administré le "&TEXT(P32,"DD/MM/YY"),IF(O32="","⚪ Saisir date naissance",IF(TODAY()>O32,"🔴 URGENT — Dû depuis "&TEXT(TODAY()-O32,"0")&" j",IF(TODAY()>=O32-30,"🟠 RAPPEL — Dans "&TEXT(O32-TODAY(),"0")&" j","⚪ Prévu le "&TEXT(O32,"DD/MM/YY"))))) -> ⚪ Saisir date naissance | R32: =IF(D32="","",EDATE(D32,2)) | T32: =IF(S32<>"","✅ Administré le "&TEXT(S32,"DD/MM/YY"),IF(R32="","⚪ Saisir date naissance",IF(TODAY()>R32,"🔴 URGENT — Dû depuis "&TEXT(TODAY()-R32,"0")&" j",IF(TODAY()>=R32-30,"🟠 RAPPEL — Dans "&TEXT(R32-TODAY(),"0")&" j","⚪ Prévu le "&TEXT(R32,"DD/MM/YY"))))) -> ⚪ Saisir date naissance | U32: =IF(D32="","",EDATE(D32,4)) | W32: =IF(V32<>"","✅ Administré le "&TEXT(V32,"DD/MM/YY"),IF(U32="","⚪ Saisir date naissance",IF(TODAY()>U32,"🔴 URGENT — Dû depuis "&TEXT(TODAY()-U32,"0")&" j",IF(TODAY()>=U32-30,"🟠 RAPPEL — Dans "&TEXT(U32-TODAY(),"0")&" j","⚪ Prévu le "&TEXT(U32,"DD/MM/YY"))))) -> ⚪ Saisir date naissance | X32: =IF(D32="","",EDATE(D32,12)) | Z32: =IF(Y32<>"","✅ Administré le "&TEXT(Y32,"DD/MM/YY"),IF(X32="","⚪ Saisir date naissance",IF(TODAY()>X32,"🔴 URGENT — Dû depuis "&TEXT(TODAY()-X32,"0")&" j",IF(TODAY()>=X32-30,"🟠 RAPPEL — Dans "&TEXT(X32-TODAY(),"0")&" j","⚪ Prévu le "&TEXT(X32,"DD/MM/YY"))))) -> ⚪ Saisir date naissance | AA32: =IF(D32="","",EDATE(D32,12)) | AC32: =IF(AB32<>"","✅ Administré le "&TEXT(AB32,"DD/MM/YY"),IF(AA32="","⚪ Saisir date naissance",IF(TODAY()>AA32,"🔴 URGENT — Dû depuis "&TEXT(TODAY()-AA32,"0")&" j",IF(TODAY()>=AA32-30,"🟠 RAPPEL — Dans "&TEXT(AA32-TODAY(),"0")&" j","⚪ Prévu le "&TEXT(AA32,"DD/MM/YY"))))) -> ⚪ Saisir date naissance | AD32: =IF(D32="","",EDATE(D32,12)) | AF32: =IF(AE32<>"","✅ Administré le "&TEXT(AE32,"DD/MM/YY"),IF(AD32="","⚪ Saisir date naissance",IF(TODAY()>AD32,"🔴 URGENT — Dû depuis "&TEXT(TODAY()-AD32,"0")&" j",IF(TODAY()>=AD32-30,"🟠 RAPPEL — Dans "&TEXT(AD32-TODAY(),"0")&" j","⚪ Prévu le "&TEXT(AD32,"DD/MM/YY"))))) -> ⚪ Saisir date naissance | AG32: =IF(D32="","",EDATE(D32,15)) | AI32: =IF(AH32<>"","✅ Administré le "&TEXT(AH32,"DD/MM/YY"),IF(AG32="","⚪ Saisir date naissance",IF(TODAY()>AG32,"🔴 URGENT — Dû depuis "&TEXT(TODAY()-AG32,"0")&" j",IF(TODAY()>=AG32-30,"🟠 RAPPEL — Dans "&TEXT(AG32-TODAY(),"0")&" j","⚪ Prévu le "&TEXT(AG32,"DD/MM/YY"))))) -> ⚪ Saisir date naissance | AJ32: Saison hivernale | AL32: =IF(AK32<>"","✅ Administré","📋 À planifier") -> 📋 À planifier | AM32: =IF(D32="","",EDATE(D32,2)) | AO32: =IF(AN32<>"","✅ Administré le "&TEXT(AN32,"DD/MM/YY"),IF(AM32="","⚪ Saisir date naissance",IF(TODAY()>AM32,"🔴 URGENT — Dû depuis "&TEXT(TODAY()-AM32,"0")&" j",IF(TODAY()>=AM32-30,"🟠 RAPPEL — Dans "&TEXT(AM32-TODAY(),"0")&" j","⚪ Prévu le "&TEXT(AM32,"DD/MM/YY"))))) -> ⚪ Saisir date naissance | AP32: =IF(D32="","",EDATE(D32,3)) | AR32: =IF(AQ32<>"","✅ Administré le "&TEXT(AQ32,"DD/MM/YY"),IF(AP32="","⚪ Saisir date naissance",IF(TODAY()>AP32,"🔴 URGENT — Dû depuis "&TEXT(TODAY()-AP32,"0")&" j",IF(TODAY()>=AP32-30,"🟠 RAPPEL — Dans "&TEXT(AP32-TODAY(),"0")&" j","⚪ Prévu le "&TEXT(AP32,"DD/MM/YY"))))) -> ⚪ Saisir date naissance
A33: 27 | F33: =IF(D33="","",EDATE(D33,2)) | H33: =IF(G33<>"","✅ Administré le "&TEXT(G33,"DD/MM/YY"),IF(F33="","⚪ Saisir date naissance",IF(TODAY()>F33,"🔴 URGENT — Dû depuis "&TEXT(TODAY()-F33,"0")&" j",IF(TODAY()>=F33-30,"🟠 RAPPEL — Dans "&TEXT(F33-TODAY(),"0")&" j","⚪ Prévu le "&TEXT(F33,"DD/MM/YY"))))) -> ⚪ Saisir date naissance | I33: =IF(D33="","",EDATE(D33,3)) | K33: =IF(J33<>"","✅ Administré le "&TEXT(J33,"DD/MM/YY"),IF(I33="","⚪ Saisir date naissance",IF(TODAY()>I33,"🔴 URGENT — Dû depuis "&TEXT(TODAY()-I33,"0")&" j",IF(TODAY()>=I33-30,"🟠 RAPPEL — Dans "&TEXT(I33-TODAY(),"0")&" j","⚪ Prévu le "&TEXT(I33,"DD/MM/YY"))))) -> ⚪ Saisir date naissance | L33: =IF(D33="","",EDATE(D33,4)) | N33: =IF(M33<>"","✅ Administré le "&TEXT(M33,"DD/MM/YY"),IF(L33="","⚪ Saisir date naissance",IF(TODAY()>L33,"🔴 URGENT — Dû depuis "&TEXT(TODAY()-L33,"0")&" j",IF(TODAY()>=L33-30,"🟠 RAPPEL — Dans "&TEXT(L33-TODAY(),"0")&" j","⚪ Prévu le "&TEXT(L33,"DD/MM/YY"))))) -> ⚪ Saisir date naissance | O33: =IF(D33="","",EDATE(D33,12)) | Q33: =IF(P33<>"","✅ Administré le "&TEXT(P33,"DD/MM/YY"),IF(O33="","⚪ Saisir date naissance",IF(TODAY()>O33,"🔴 URGENT — Dû depuis "&TEXT(TODAY()-O33,"0")&" j",IF(TODAY()>=O33-30,"🟠 RAPPEL — Dans "&TEXT(O33-TODAY(),"0")&" j","⚪ Prévu le "&TEXT(O33,"DD/MM/YY"))))) -> ⚪ Saisir date naissance | R33: =IF(D33="","",EDATE(D33,2)) | T33: =IF(S33<>"","✅ Administré le "&TEXT(S33,"DD/MM/YY"),IF(R33="","⚪ Saisir date naissance",IF(TODAY()>R33,"🔴 URGENT — Dû depuis "&TEXT(TODAY()-R33,"0")&" j",IF(TODAY()>=R33-30,"🟠 RAPPEL — Dans "&TEXT(R33-TODAY(),"0")&" j","⚪ Prévu le "&TEXT(R33,"DD/MM/YY"))))) -> ⚪ Saisir date naissance | U33: =IF(D33="","",EDATE(D33,4)) | W33: =IF(V33<>"","✅ Administré le "&TEXT(V33,"DD/MM/YY"),IF(U33="","⚪ Saisir date naissance",IF(TODAY()>U33,"🔴 URGENT — Dû depuis "&TEXT(TODAY()-U33,"0")&" j",IF(TODAY()>=U33-30,"🟠 RAPPEL — Dans "&TEXT(U33-TODAY(),"0")&" j","⚪ Prévu le "&TEXT(U33,"DD/MM/YY"))))) -> ⚪ Saisir date naissance | X33: =IF(D33="","",EDATE(D33,12)) | Z33: =IF(Y33<>"","✅ Administré le "&TEXT(Y33,"DD/MM/YY"),IF(X33="","⚪ Saisir date naissance",IF(TODAY()>X33,"🔴 URGENT — Dû depuis "&TEXT(TODAY()-X33,"0")&" j",IF(TODAY()>=X33-30,"🟠 RAPPEL — Dans "&TEXT(X33-TODAY(),"0")&" j","⚪ Prévu le "&TEXT(X33,"DD/MM/YY"))))) -> ⚪ Saisir date naissance | AA33: =IF(D33="","",EDATE(D33,12)) | AC33: =IF(AB33<>"","✅ Administré le "&TEXT(AB33,"DD/MM/YY"),IF(AA33="","⚪ Saisir date naissance",IF(TODAY()>AA33,"🔴 URGENT — Dû depuis "&TEXT(TODAY()-AA33,"0")&" j",IF(TODAY()>=AA33-30,"🟠 RAPPEL — Dans "&TEXT(AA33-TODAY(),"0")&" j","⚪ Prévu le "&TEXT(AA33,"DD/MM/YY"))))) -> ⚪ Saisir date naissance | AD33: =IF(D33="","",EDATE(D33,12)) | AF33: =IF(AE33<>"","✅ Administré le "&TEXT(AE33,"DD/MM/YY"),IF(AD33="","⚪ Saisir date naissance",IF(TODAY()>AD33,"🔴 URGENT — Dû depuis "&TEXT(TODAY()-AD33,"0")&" j",IF(TODAY()>=AD33-30,"🟠 RAPPEL — Dans "&TEXT(AD33-TODAY(),"0")&" j","⚪ Prévu le "&TEXT(AD33,"DD/MM/YY"))))) -> ⚪ Saisir date naissance | AG33: =IF(D33="","",EDATE(D33,15)) | AI33: =IF(AH33<>"","✅ Administré le "&TEXT(AH33,"DD/MM/YY"),IF(AG33="","⚪ Saisir date naissance",IF(TODAY()>AG33,"🔴 URGENT — Dû depuis "&TEXT(TODAY()-AG33,"0")&" j",IF(TODAY()>=AG33-30,"🟠 RAPPEL — Dans "&TEXT(AG33-TODAY(),"0")&" j","⚪ Prévu le "&TEXT(AG33,"DD/MM/YY"))))) -> ⚪ Saisir date naissance | AJ33: Saison hivernale | AL33: =IF(AK33<>"","✅ Administré","📋 À planifier") -> 📋 À planifier | AM33: =IF(D33="","",EDATE(D33,2)) | AO33: =IF(AN33<>"","✅ Administré le "&TEXT(AN33,"DD/MM/YY"),IF(AM33="","⚪ Saisir date naissance",IF(TODAY()>AM33,"🔴 URGENT — Dû depuis "&TEXT(TODAY()-AM33,"0")&" j",IF(TODAY()>=AM33-30,"🟠 RAPPEL — Dans "&TEXT(AM33-TODAY(),"0")&" j","⚪ Prévu le "&TEXT(AM33,"DD/MM/YY"))))) -> ⚪ Saisir date naissance | AP33: =IF(D33="","",EDATE(D33,3)) | AR33: =IF(AQ33<>"","✅ Administré le "&TEXT(AQ33,"DD/MM/YY"),IF(AP33="","⚪ Saisir date naissance",IF(TODAY()>AP33,"🔴 URGENT — Dû depuis "&TEXT(TODAY()-AP33,"0")&" j",IF(TODAY()>=AP33-30,"🟠 RAPPEL — Dans "&TEXT(AP33-TODAY(),"0")&" j","⚪ Prévu le "&TEXT(AP33,"DD/MM/YY"))))) -> ⚪ Saisir date naissance
... A36: 30 | F36: =IF(D36="","",EDATE(D36,2)) | H36: =IF(G36<>"","✅ Administré le "&TEXT(G36,"DD/MM/YY"),IF(F36="","⚪ Saisir date naissance",IF(TODAY()>F36,"🔴 URGENT — Dû depuis "&TEXT(TODAY()-F36,"0")&" j",IF(TODAY()>=F36-30,"🟠 RAPPEL — Dans "&TEXT(F36-TODAY(),"0")&" j","⚪ Prévu le "&TEXT(F36,"DD/MM/YY"))))) -> ⚪ Saisir date naissance | I36: =IF(D36="","",EDATE(D36,3)) | K36: =IF(J36<>"","✅ Administré le "&TEXT(J36,"DD/MM/YY"),IF(I36="","⚪ Saisir date naissance",IF(TODAY()>I36,"🔴 URGENT — Dû depuis "&TEXT(TODAY()-I36,"0")&" j",IF(TODAY()>=I36-30,"🟠 RAPPEL — Dans "&TEXT(I36-TODAY(),"0")&" j","⚪ Prévu le "&TEXT(I36,"DD/MM/YY"))))) -> ⚪ Saisir date naissance | L36: =IF(D36="","",EDATE(D36,4)) | N36: =IF(M36<>"","✅ Administré le "&TEXT(M36,"DD/MM/YY"),IF(L36="","⚪ Saisir date naissance",IF(TODAY()>L36,"🔴 URGENT — Dû depuis "&TEXT(TODAY()-L36,"0")&" j",IF(TODAY()>=L36-30,"🟠 RAPPEL — Dans "&TEXT(L36-TODAY(),"0")&" j","⚪ Prévu le "&TEXT(L36,"DD/MM/YY"))))) -> ⚪ Saisir date naissance | O36: =IF(D36="","",EDATE(D36,12)) | Q36: =IF(P36<>"","✅ Administré le "&TEXT(P36,"DD/MM/YY"),IF(O36="","⚪ Saisir date naissance",IF(TODAY()>O36,"🔴 URGENT — Dû depuis "&TEXT(TODAY()-O36,"0")&" j",IF(TODAY()>=O36-30,"🟠 RAPPEL — Dans "&TEXT(O36-TODAY(),"0")&" j","⚪ Prévu le "&TEXT(O36,"DD/MM/YY"))))) -> ⚪ Saisir date naissance | R36: =IF(D36="","",EDATE(D36,2)) | T36: =IF(S36<>"","✅ Administré le "&TEXT(S36,"DD/MM/YY"),IF(R36="","⚪ Saisir date naissance",IF(TODAY()>R36,"🔴 URGENT — Dû depuis "&TEXT(TODAY()-R36,"0")&" j",IF(TODAY()>=R36-30,"🟠 RAPPEL — Dans "&TEXT(R36-TODAY(),"0")&" j","⚪ Prévu le "&TEXT(R36,"DD/MM/YY"))))) -> ⚪ Saisir date naissance | U36: =IF(D36="","",EDATE(D36,4)) | W36: =IF(V36<>"","✅ Administré le "&TEXT(V36,"DD/MM/YY"),IF(U36="","⚪ Saisir date naissance",IF(TODAY()>U36,"🔴 URGENT — Dû depuis "&TEXT(TODAY()-U36,"0")&" j",IF(TODAY()>=U36-30,"🟠 RAPPEL — Dans "&TEXT(U36-TODAY(),"0")&" j","⚪ Prévu le "&TEXT(U36,"DD/MM/YY"))))) -> ⚪ Saisir date naissance | X36: =IF(D36="","",EDATE(D36,12)) | Z36: =IF(Y36<>"","✅ Administré le "&TEXT(Y36,"DD/MM/YY"),IF(X36="","⚪ Saisir date naissance",IF(TODAY()>X36,"🔴 URGENT — Dû depuis "&TEXT(TODAY()-X36,"0")&" j",IF(TODAY()>=X36-30,"🟠 RAPPEL — Dans "&TEXT(X36-TODAY(),"0")&" j","⚪ Prévu le "&TEXT(X36,"DD/MM/YY"))))) -> ⚪ Saisir date naissance | AA36: =IF(D36="","",EDATE(D36,12)) | AC36: =IF(AB36<>"","✅ Administré le "&TEXT(AB36,"DD/MM/YY"),IF(AA36="","⚪ Saisir date naissance",IF(TODAY()>AA36,"🔴 URGENT — Dû depuis "&TEXT(TODAY()-AA36,"0")&" j",IF(TODAY()>=AA36-30,"🟠 RAPPEL — Dans "&TEXT(AA36-TODAY(),"0")&" j","⚪ Prévu le "&TEXT(AA36,"DD/MM/YY"))))) -> ⚪ Saisir date naissance | AD36: =IF(D36="","",EDATE(D36,12)) | AF36: =IF(AE36<>"","✅ Administré le "&TEXT(AE36,"DD/MM/YY"),IF(AD36="","⚪ Saisir date naissance",IF(TODAY()>AD36,"🔴 URGENT — Dû depuis "&TEXT(TODAY()-AD36,"0")&" j",IF(TODAY()>=AD36-30,"🟠 RAPPEL — Dans "&TEXT(AD36-TODAY(),"0")&" j","⚪ Prévu le "&TEXT(AD36,"DD/MM/YY"))))) -> ⚪ Saisir date naissance | AG36: =IF(D36="","",EDATE(D36,15)) | AI36: =IF(AH36<>"","✅ Administré le "&TEXT(AH36,"DD/MM/YY"),IF(AG36="","⚪ Saisir date naissance",IF(TODAY()>AG36,"🔴 URGENT — Dû depuis "&TEXT(TODAY()-AG36,"0")&" j",IF(TODAY()>=AG36-30,"🟠 RAPPEL — Dans "&TEXT(AG36-TODAY(),"0")&" j","⚪ Prévu le "&TEXT(AG36,"DD/MM/YY"))))) -> ⚪ Saisir date naissance | AJ36: Saison hivernale | AL36: =IF(AK36<>"","✅ Administré","📋 À planifier") -> 📋 À planifier | AM36: =IF(D36="","",EDATE(D36,2)) | AO36: =IF(AN36<>"","✅ Administré le "&TEXT(AN36,"DD/MM/YY"),IF(AM36="","⚪ Saisir date naissance",IF(TODAY()>AM36,"🔴 URGENT — Dû depuis "&TEXT(TODAY()-AM36,"0")&" j",IF(TODAY()>=AM36-30,"🟠 RAPPEL — Dans "&TEXT(AM36-TODAY(),"0")&" j","⚪ Prévu le "&TEXT(AM36,"DD/MM/YY"))))) -> ⚪ Saisir date naissance | AP36: =IF(D36="","",EDATE(D36,3)) | AR36: =IF(AQ36<>"","✅ Administré le "&TEXT(AQ36,"DD/MM/YY"),IF(AP36="","⚪ Saisir date naissance",IF(TODAY()>AP36,"🔴 URGENT — Dû depuis "&TEXT(TODAY()-AP36,"0")&" j",IF(TODAY()>=AP36-30,"🟠 RAPPEL — Dans "&TEXT(AP36-TODAY(),"0")&" j","⚪ Prévu le "&TEXT(AP36,"DD/MM/YY"))))) -> ⚪ Saisir date naissance
A38: 📌 Référence légale : Arrêté du 2 mai 2019 — Vaccinations obligatoires ONE · Calendrier FWB 2025-2026 · vaccination-info.be · Guide ONE 2023 p.13

Sheet 🏠 Tableau de Bord
A1: 🏠 OUTIL SPÉCIALISÉ VACCINATIONS CRÈCHE — EducSens · ONE FWB 2025-2026
A3: 📋 INFORMATIONS DE LA CRÈCHE
A4: Nom de la crèche
A5: Responsable / Directrice
A6: Médecin référent ONE
A7: Numéro d'agrément ONE
A8: Téléphone
A9: Email
A11: 📂 NAVIGATION
A12: 💉 Calendrier Vaccinal | D12: Suivi complet par enfant avec dates automatiques et alertes couleur
A13: 🚨 Alertes du Jour | D13: Vue consolidée des vaccins urgents et rappels à moins de 30 jours
A14: 📋 Référence Calendrier ONE | D14: Calendrier vaccinal FWB 2025-2026 complet avec notes légales
A15: 📬 Contacts Parents | D15: Modèle de message de rappel + registre des contacts effectués
A16: 🆕 NOUVEAUX ONGLETS — Antécédents médicaux : 🏥 Dossiers Médicaux Spéciaux · 💉 Vaccins & Antécédents · 📖 Guide Protocoles Médicaux
A18: ⚖️ BASE LÉGALE
A19: ✅ Arrêté du 2 mai 2019 — Vaccinations obligatoires dans les milieux d'accueil agréés ONE
A20: ✅ Guide ONE 2023 — La santé dans les milieux d'accueil de la petite enfance (Chapitre 1, p.13)
A21: ✅ Calendrier vaccinal FWB 2025-2026 — vaccination-info.be (mis à jour le 26.08.2025)
A22: ✅ Nouveauté 2025 — VRS : Beyfortus® et Abrysvo® remboursés depuis janvier 2025
A23: ✅ Coqueluche : 1 à 5 décès de nourrissons/an en Belgique depuis 2010 — Stratégie cocoon recommandée
A24: ✅ Rougeole : seuil d'immunité collective 95% — Couverture FWB actuelle 75% (insuffisante)
A26: EducSens · Outil Spécialisé Vaccinations Crèche · Conforme ONE 2023 · Créé avec Manus · Avril 2026

Sheet 🚨 Alertes du Jour
A1: 🚨 ALERTES VACCINATIONS DU JOUR — Rappels urgents et échéances proches
A3: ℹ️ Ce tableau liste automatiquement tous les enfants nécessitant une action vaccinale immédiate
A5: 📅 Date du jour : | E5: =TODAY() -> 46142
A7: 🔴 VACCINS URGENTS — Échéance dépassée (action immédiate requise)
A8: N° | B8: Nom — Prénom | C8: Section | D8: Vaccin concerné | E8: Date prévue | F8: Retard (jours) | G8: Source | H8: ✓ Action faite
A9: 1 | B9: {=IFERROR(INDEX($K$60:$K$359,IFERROR(MATCH(_xlfn.AGGREGATE(14,6,$R$60:$R$359/($P$60:$P$359="URGENT"),1),IF($P$60:$P$359="URGENT",$R$60:$R$359),0),"")),"")} | C9: {=IFERROR(INDEX($L$60:$L$359,IFERROR(MATCH(_xlfn.AGGREGATE(14,6,$R$60:$R$359/($P$60:$P$359="URGENT"),1),IF($P$60:$P$359="URGENT",$R$60:$R$359),0),"")),"")} -> 0 | D9: {=IFERROR(INDEX($M$60:$M$359,IFERROR(MATCH(_xlfn.AGGREGATE(14,6,$R$60:$R$359/($P$60:$P$359="URGENT"),1),IF($P$60:$P$359="URGENT",$R$60:$R$359),0),"")),"")} -> Hexavalent Rappel (15 mois) | E9: {=IFERROR(INDEX($N$60:$N$359,IFERROR(MATCH(_xlfn.AGGREGATE(14,6,$R$60:$R$359/($P$60:$P$359="URGENT"),1),IF($P$60:$P$359="URGENT",$R$60:$R$359),0),"")),"")} -> 0 | G9: 💉 Calendrier
A10: 2 | B10: {=IFERROR(INDEX($K$60:$K$359,IFERROR(MATCH(_xlfn.AGGREGATE(14,6,$R$60:$R$359/($P$60:$P$359="URGENT"),2),IF($P$60:$P$359="URGENT",$R$60:$R$359),0),"")),"")} | C10: {=IFERROR(INDEX($L$60:$L$359,IFERROR(MATCH(_xlfn.AGGREGATE(14,6,$R$60:$R$359/($P$60:$P$359="URGENT"),2),IF($P$60:$P$359="URGENT",$R$60:$R$359),0),"")),"")} -> 0 | D10: {=IFERROR(INDEX($M$60:$M$359,IFERROR(MATCH(_xlfn.AGGREGATE(14,6,$R$60:$R$359/($P$60:$P$359="URGENT"),2),IF($P$60:$P$359="URGENT",$R$60:$R$359),0),"")),"")} -> RRO D2 (15 mois) | E10: {=IFERROR(INDEX($N$60:$N$359,IFERROR(MATCH(_xlfn.AGGREGATE(14,6,$R$60:$R$359/($P$60:$P$359="URGENT"),2),IF($P$60:$P$359="URGENT",$R$60:$R$359),0),"")),"")} -> 0 | G10: 💉 Calendrier
A11: 3 | B11: {=IFERROR(INDEX($K$60:$K$359,IFERROR(MATCH(_xlfn.AGGREGATE(14,6,$R$60:$R$359/($P$60:$P$359="URGENT"),3),IF($P$60:$P$359="URGENT",$R$60:$R$359),0),"")),"")} | C11: {=IFERROR(INDEX($L$60:$L$359,IFERROR(MATCH(_xlfn.AGGREGATE(14,6,$R$60:$R$359/($P$60:$P$359="URGENT"),3),IF($P$60:$P$359="URGENT",$R$60:$R$359),0),"")),"")} -> 0 | D11: {=IFERROR(INDEX($M$60:$M$359,IFERROR(MATCH(_xlfn.AGGREGATE(14,6,$R$60:$R$359/($P$60:$P$359="URGENT"),3),IF($P$60:$P$359="URGENT",$R$60:$R$359),0),"")),"")} -> RRO D1 (12 mois) | E11: {=IFERROR(INDEX($N$60:$N$359,IFERROR(MATCH(_xlfn.AGGREGATE(14,6,$R$60:$R$359/($P$60:$P$359="URGENT"),3),IF($P$60:$P$359="URGENT",$R$60:$R$359),0),"")),"")} -> 0 | G11: 💉 Calendrier
A12: 4 | B12: {=IFERROR(INDEX($K$60:$K$359,IFERROR(MATCH(_xlfn.AGGREGATE(14,6,$R$60:$R$359/($P$60:$P$359="URGENT"),4),IF($P$60:$P$359="URGENT",$R$60:$R$359),0),"")),"")} | C12: {=IFERROR(INDEX($L$60:$L$359,IFERROR(MATCH(_xlfn.AGGREGATE(14,6,$R$60:$R$359/($P$60:$P$359="URGENT"),4),IF($P$60:$P$359="URGENT",$R$60:$R$359),0),"")),"")} -> 0 | D12: {=IFERROR(INDEX($M$60:$M$359,IFERROR(MATCH(_xlfn.AGGREGATE(14,6,$R$60:$R$359/($P$60:$P$359="URGENT"),4),IF($P$60:$P$359="URGENT",$R$60:$R$359),0),"")),"")} -> Méningocoque ACWY (15 mois) | E12: {=IFERROR(INDEX($N$60:$N$359,IFERROR(MATCH(_xlfn.AGGREGATE(14,6,$R$60:$R$359/($P$60:$P$359="URGENT"),4),IF($P$60:$P$359="URGENT",$R$60:$R$359),0),"")),"")} -> 0 | G12: 💉 Calendrier
A13: 5 | B13: {=IFERROR(INDEX($K$60:$K$359,IFERROR(MATCH(_xlfn.AGGREGATE(14,6,$R$60:$R$359/($P$60:$P$359="URGENT"),5),IF($P$60:$P$359="URGENT",$R$60:$R$359),0),"")),"")} | C13: {=IFERROR(INDEX($L$60:$L$359,IFERROR(MATCH(_xlfn.AGGREGATE(14,6,$R$60:$R$359/($P$60:$P$359="URGENT"),5),IF($P$60:$P$359="URGENT",$R$60:$R$359),0),"")),"")} | D13: {=IFERROR(INDEX($M$60:$M$359,IFERROR(MATCH(_xlfn.AGGREGATE(14,6,$R$60:$R$359/($P$60:$P$359="URGENT"),5),IF($P$60:$P$359="URGENT",$R$60:$R$359),0),"")),"")} | E13: {=IFERROR(INDEX($N$60:$N$359,IFERROR(MATCH(_xlfn.AGGREGATE(14,6,$R$60:$R$359/($P$60:$P$359="URGENT"),5),IF($P$60:$P$359="URGENT",$R$60:$R$359),0),"")),"")} | F13: {=IFERROR(INDEX($Q$60:$Q$359,IFERROR(MATCH(_xlfn.AGGREGATE(14,6,$R$60:$R$359/($P$60:$P$359="URGENT"),5),IF($P$60:$P$359="URGENT",$R$60:$R$359),0),"")),"")} | G13: 💉 Calendrier
A14: 6 | B14: {=IFERROR(INDEX($K$60:$K$359,IFERROR(MATCH(_xlfn.AGGREGATE(14,6,$R$60:$R$359/($P$60:$P$359="URGENT"),6),IF($P$60:$P$359="URGENT",$R$60:$R$359),0),"")),"")} | C14: {=IFERROR(INDEX($L$60:$L$359,IFERROR(MATCH(_xlfn.AGGREGATE(14,6,$R$60:$R$359/($P$60:$P$359="URGENT"),6),IF($P$60:$P$359="URGENT",$R$60:$R$359),0),"")),"")} | D14: {=IFERROR(INDEX($M$60:$M$359,IFERROR(MATCH(_xlfn.AGGREGATE(14,6,$R$60:$R$359/($P$60:$P$359="URGENT"),6),IF($P$60:$P$359="URGENT",$R$60:$R$359),0),"")),"")} | E14: {=IFERROR(INDEX($N$60:$N$359,IFERROR(MATCH(_xlfn.AGGREGATE(14,6,$R$60:$R$359/($P$60:$P$359="URGENT"),6),IF($P$60:$P$359="URGENT",$R$60:$R$359),0),"")),"")} | F14: {=IFERROR(INDEX($Q$60:$Q$359,IFERROR(MATCH(_xlfn.AGGREGATE(14,6,$R$60:$R$359/($P$60:$P$359="URGENT"),6),IF($P$60:$P$359="URGENT",$R$60:$R$359),0),"")),"")} | G14: 💉 Calendrier
A15: 7 | B15: {=IFERROR(INDEX($K$60:$K$359,IFERROR(MATCH(_xlfn.AGGREGATE(14,6,$R$60:$R$359/($P$60:$P$359="URGENT"),7),IF($P$60:$P$359="URGENT",$R$60:$R$359),0),"")),"")} | C15: {=IFERROR(INDEX($L$60:$L$359,IFERROR(MATCH(_xlfn.AGGREGATE(14,6,$R$60:$R$359/($P$60:$P$359="URGENT"),7),IF($P$60:$P$359="URGENT",$R$60:$R$359),0),"")),"")} | D15: {=IFERROR(INDEX($M$60:$M$359,IFERROR(MATCH(_xlfn.AGGREGATE(14,6,$R$60:$R$359/($P$60:$P$359="URGENT"),7),IF($P$60:$P$359="URGENT",$R$60:$R$359),0),"")),"")} | E15: {=IFERROR(INDEX($N$60:$N$359,IFERROR(MATCH(_xlfn.AGGREGATE(14,6,$R$60:$R$359/($P$60:$P$359="URGENT"),7),IF($P$60:$P$359="URGENT",$R$60:$R$359),0),"")),"")} | F15: {=IFERROR(INDEX($Q$60:$Q$359,IFERROR(MATCH(_xlfn.AGGREGATE(14,6,$R$60:$R$359/($P$60:$P$359="URGENT"),7),IF($P$60:$P$359="URGENT",$R$60:$R$359),0),"")),"")} | G15: 💉 Calendrier
A16: 8 | B16: {=IFERROR(INDEX($K$60:$K$359,IFERROR(MATCH(_xlfn.AGGREGATE(14,6,$R$60:$R$359/($P$60:$P$359="URGENT"),8),IF($P$60:$P$359="URGENT",$R$60:$R$359),0),"")),"")} | C16: {=IFERROR(INDEX($L$60:$L$359,IFERROR(MATCH(_xlfn.AGGREGATE(14,6,$R$60:$R$359/($P$60:$P$359="URGENT"),8),IF($P$60:$P$359="URGENT",$R$60:$R$359),0),"")),"")} | D16: {=IFERROR(INDEX($M$60:$M$359,IFERROR(MATCH(_xlfn.AGGREGATE(14,6,$R$60:$R$359/($P$60:$P$359="URGENT"),8),IF($P$60:$P$359="URGENT",$R$60:$R$359),0),"")),"")} | E16: {=IFERROR(INDEX($N$60:$N$359,IFERROR(MATCH(_xlfn.AGGREGATE(14,6,$R$60:$R$359/($P$60:$P$359="URGENT"),8),IF($P$60:$P$359="URGENT",$R$60:$R$359),0),"")),"")} | F16: {=IFERROR(INDEX($Q$60:$Q$359,IFERROR(MATCH(_xlfn.AGGREGATE(14,6,$R$60:$R$359/($P$60:$P$359="URGENT"),8),IF($P$60:$P$359="URGENT",$R$60:$R$359),0),"")),"")} | G16: 💉 Calendrier
A17: 9 | B17: {=IFERROR(INDEX($K$60:$K$359,IFERROR(MATCH(_xlfn.AGGREGATE(14,6,$R$60:$R$359/($P$60:$P$359="URGENT"),9),IF($P$60:$P$359="URGENT",$R$60:$R$359),0),"")),"")} | C17: {=IFERROR(INDEX($L$60:$L$359,IFERROR(MATCH(_xlfn.AGGREGATE(14,6,$R$60:$R$359/($P$60:$P$359="URGENT"),9),IF($P$60:$P$359="URGENT",$R$60:$R$359),0),"")),"")} | D17: {=IFERROR(INDEX($M$60:$M$359,IFERROR(MATCH(_xlfn.AGGREGATE(14,6,$R$60:$R$359/($P$60:$P$359="URGENT"),9),IF($P$60:$P$359="URGENT",$R$60:$R$359),0),"")),"")} | E17: {=IFERROR(INDEX($N$60:$N$359,IFERROR(MATCH(_xlfn.AGGREGATE(14,6,$R$60:$R$359/($P$60:$P$359="URGENT"),9),IF($P$60:$P$359="URGENT",$R$60:$R$359),0),"")),"")} | F17: {=IFERROR(INDEX($Q$60:$Q$359,IFERROR(MATCH(_xlfn.AGGREGATE(14,6,$R$60:$R$359/($P$60:$P$359="URGENT"),9),IF($P$60:$P$359="URGENT",$R$60:$R$359),0),"")),"")} | G17: 💉 Calendrier
A18: 10 | B18: {=IFERROR(INDEX($K$60:$K$359,IFERROR(MATCH(_xlfn.AGGREGATE(14,6,$R$60:$R$359/($P$60:$P$359="URGENT"),10),IF($P$60:$P$359="URGENT",$R$60:$R$359),0),"")),"")} | C18: {=IFERROR(INDEX($L$60:$L$359,IFERROR(MATCH(_xlfn.AGGREGATE(14,6,$R$60:$R$359/($P$60:$P$359="URGENT"),10),IF($P$60:$P$359="URGENT",$R$60:$R$359),0),"")),"")} | D18: {=IFERROR(INDEX($M$60:$M$359,IFERROR(MATCH(_xlfn.AGGREGATE(14,6,$R$60:$R$359/($P$60:$P$359="URGENT"),10),IF($P$60:$P$359="URGENT",$R$60:$R$359),0),"")),"")} | E18: {=IFERROR(INDEX($N$60:$N$359,IFERROR(MATCH(_xlfn.AGGREGATE(14,6,$R$60:$R$359/($P$60:$P$359="URGENT"),10),IF($P$60:$P$359="URGENT",$R$60:$R$359),0),"")),"")} | F18: {=IFERROR(INDEX($Q$60:$Q$359,IFERROR(MATCH(_xlfn.AGGREGATE(14,6,$R$60:$R$359/($P$60:$P$359="URGENT"),10),IF($P$60:$P$359="URGENT",$R$60:$R$359),0),"")),"")} | G18: 💉 Calendrier
A19: 11 | B19: {=IFERROR(INDEX($K$60:$K$359,IFERROR(MATCH(_xlfn.AGGREGATE(14,6,$R$60:$R$359/($P$60:$P$359="URGENT"),11),IF($P$60:$P$359="URGENT",$R$60:$R$359),0),"")),"")} | C19: {=IFERROR(INDEX($L$60:$L$359,IFERROR(MATCH(_xlfn.AGGREGATE(14,6,$R$60:$R$359/($P$60:$P$359="URGENT"),11),IF($P$60:$P$359="URGENT",$R$60:$R$359),0),"")),"")} | D19: {=IFERROR(INDEX($M$60:$M$359,IFERROR(MATCH(_xlfn.AGGREGATE(14,6,$R$60:$R$359/($P$60:$P$359="URGENT"),11),IF($P$60:$P$359="URGENT",$R$60:$R$359),0),"")),"")} | E19: {=IFERROR(INDEX($N$60:$N$359,IFERROR(MATCH(_xlfn.AGGREGATE(14,6,$R$60:$R$359/($P$60:$P$359="URGENT"),11),IF($P$60:$P$359="URGENT",$R$60:$R$359),0),"")),"")} | F19: {=IFERROR(INDEX($Q$60:$Q$359,IFERROR(MATCH(_xlfn.AGGREGATE(14,6,$R$60:$R$359/($P$60:$P$359="URGENT"),11),IF($P$60:$P$359="URGENT",$R$60:$R$359),0),"")),"")} | G19: 💉 Calendrier
A20: 12 | B20: {=IFERROR(INDEX($K$60:$K$359,IFERROR(MATCH(_xlfn.AGGREGATE(14,6,$R$60:$R$359/($P$60:$P$359="URGENT"),12),IF($P$60:$P$359="URGENT",$R$60:$R$359),0),"")),"")} | C20: {=IFERROR(INDEX($L$60:$L$359,IFERROR(MATCH(_xlfn.AGGREGATE(14,6,$R$60:$R$359/($P$60:$P$359="URGENT"),12),IF($P$60:$P$359="URGENT",$R$60:$R$359),0),"")),"")} | D20: {=IFERROR(INDEX($M$60:$M$359,IFERROR(MATCH(_xlfn.AGGREGATE(14,6,$R$60:$R$359/($P$60:$P$359="URGENT"),12),IF($P$60:$P$359="URGENT",$R$60:$R$359),0),"")),"")} | E20: {=IFERROR(INDEX($N$60:$N$359,IFERROR(MATCH(_xlfn.AGGREGATE(14,6,$R$60:$R$359/($P$60:$P$359="URGENT"),12),IF($P$60:$P$359="URGENT",$R$60:$R$359),0),"")),"")} | F20: {=IFERROR(INDEX($Q$60:$Q$359,IFERROR(MATCH(_xlfn.AGGREGATE(14,6,$R$60:$R$359/($P$60:$P$359="URGENT"),12),IF($P$60:$P$359="URGENT",$R$60:$R$359),0),"")),"")} | G20: 💉 Calendrier
A21: 13 | B21: {=IFERROR(INDEX($K$60:$K$359,IFERROR(MATCH(_xlfn.AGGREGATE(14,6,$R$60:$R$359/($P$60:$P$359="URGENT"),13),IF($P$60:$P$359="URGENT",$R$60:$R$359),0),"")),"")} | C21: {=IFERROR(INDEX($L$60:$L$359,IFERROR(MATCH(_xlfn.AGGREGATE(14,6,$R$60:$R$359/($P$60:$P$359="URGENT"),13),IF($P$60:$P$359="URGENT",$R$60:$R$359),0),"")),"")} | D21: {=IFERROR(INDEX($M$60:$M$359,IFERROR(MATCH(_xlfn.AGGREGATE(14,6,$R$60:$R$359/($P$60:$P$359="URGENT"),13),IF($P$60:$P$359="URGENT",$R$60:$R$359),0),"")),"")} | E21: {=IFERROR(INDEX($N$60:$N$359,IFERROR(MATCH(_xlfn.AGGREGATE(14,6,$R$60:$R$359/($P$60:$P$359="URGENT"),13),IF($P$60:$P$359="URGENT",$R$60:$R$359),0),"")),"")} | F21: {=IFERROR(INDEX($Q$60:$Q$359,IFERROR(MATCH(_xlfn.AGGREGATE(14,6,$R$60:$R$359/($P$60:$P$359="URGENT"),13),IF($P$60:$P$359="URGENT",$R$60:$R$359),0),"")),"")} | G21: 💉 Calendrier
A22: 14 | B22: {=IFERROR(INDEX($K$60:$K$359,IFERROR(MATCH(_xlfn.AGGREGATE(14,6,$R$60:$R$359/($P$60:$P$359="URGENT"),14),IF($P$60:$P$359="URGENT",$R$60:$R$359),0),"")),"")} | C22: {=IFERROR(INDEX($L$60:$L$359,IFERROR(MATCH(_xlfn.AGGREGATE(14,6,$R$60:$R$359/($P$60:$P$359="URGENT"),14),IF($P$60:$P$359="URGENT",$R$60:$R$359),0),"")),"")} | D22: {=IFERROR(INDEX($M$60:$M$359,IFERROR(MATCH(_xlfn.AGGREGATE(14,6,$R$60:$R$359/($P$60:$P$359="URGENT"),14),IF($P$60:$P$359="URGENT",$R$60:$R$359),0),"")),"")} | E22: {=IFERROR(INDEX($N$60:$N$359,IFERROR(MATCH(_xlfn.AGGREGATE(14,6,$R$60:$R$359/($P$60:$P$359="URGENT"),14),IF($P$60:$P$359="URGENT",$R$60:$R$359),0),"")),"")} | F22: {=IFERROR(INDEX($Q$60:$Q$359,IFERROR(MATCH(_xlfn.AGGREGATE(14,6,$R$60:$R$359/($P$60:$P$359="URGENT"),14),IF($P$60:$P$359="URGENT",$R$60:$R$359),0),"")),"")} | G22: 💉 Calendrier
A23: 15 | B23: {=IFERROR(INDEX($K$60:$K$359,IFERROR(MATCH(_xlfn.AGGREGATE(14,6,$R$60:$R$359/($P$60:$P$359="URGENT"),15),IF($P$60:$P$359="URGENT",$R$60:$R$359),0),"")),"")} | C23: {=IFERROR(INDEX($L$60:$L$359,IFERROR(MATCH(_xlfn.AGGREGATE(14,6,$R$60:$R$359/($P$60:$P$359="URGENT"),15),IF($P$60:$P$359="URGENT",$R$60:$R$359),0),"")),"")} | D23: {=IFERROR(INDEX($M$60:$M$359,IFERROR(MATCH(_xlfn.AGGREGATE(14,6,$R$60:$R$359/($P$60:$P$359="URGENT"),15),IF($P$60:$P$359="URGENT",$R$60:$R$359),0),"")),"")} | E23: {=IFERROR(INDEX($N$60:$N$359,IFERROR(MATCH(_xlfn.AGGREGATE(14,6,$R$60:$R$359/($P$60:$P$359="URGENT"),15),IF($P$60:$P$359="URGENT",$R$60:$R$359),0),"")),"")} | F23: {=IFERROR(INDEX($Q$60:$Q$359,IFERROR(MATCH(_xlfn.AGGREGATE(14,6,$R$60:$R$359/($P$60:$P$359="URGENT"),15),IF($P$60:$P$359="URGENT",$R$60:$R$359),0),"")),"")} | G23: 💉 Calendrier
A25: 🟠 RAPPELS — Échéance dans moins de 30 jours (prévenir les parents)
A26: N° | B26: Nom — Prénom | C26: Section | D26: Vaccin concerné | E26: Date prévue | F26: Dans (jours) | G26: Source | H26: ✓ Parents prévenus
A27: 1 | B27: {=IFERROR(INDEX($K$60:$K$359,IFERROR(MATCH(_xlfn.AGGREGATE(15,6,$R$60:$R$359/($P$60:$P$359="RAPPEL"),1),IF($P$60:$P$359="RAPPEL",$R$60:$R$359),0),"")),"")} | C27: {=IFERROR(INDEX($L$60:$L$359,IFERROR(MATCH(_xlfn.AGGREGATE(15,6,$R$60:$R$359/($P$60:$P$359="RAPPEL"),1),IF($P$60:$P$359="RAPPEL",$R$60:$R$359),0),"")),"")} | D27: {=IFERROR(INDEX($M$60:$M$359,IFERROR(MATCH(_xlfn.AGGREGATE(15,6,$R$60:$R$359/($P$60:$P$359="RAPPEL"),1),IF($P$60:$P$359="RAPPEL",$R$60:$R$359),0),"")),"")} | E27: {=IFERROR(INDEX($N$60:$N$359,IFERROR(MATCH(_xlfn.AGGREGATE(15,6,$R$60:$R$359/($P$60:$P$359="RAPPEL"),1),IF($P$60:$P$359="RAPPEL",$R$60:$R$359),0),"")),"")} | F27: {=IFERROR(INDEX($Q$60:$Q$359,IFERROR(MATCH(_xlfn.AGGREGATE(15,6,$R$60:$R$359/($P$60:$P$359="RAPPEL"),1),IF($P$60:$P$359="RAPPEL",$R$60:$R$359),0),"")),"")} | G27: 💉 Calendrier
A28: 2 | B28: {=IFERROR(INDEX($K$60:$K$359,IFERROR(MATCH(_xlfn.AGGREGATE(15,6,$R$60:$R$359/($P$60:$P$359="RAPPEL"),2),IF($P$60:$P$359="RAPPEL",$R$60:$R$359),0),"")),"")} | C28: {=IFERROR(INDEX($L$60:$L$359,IFERROR(MATCH(_xlfn.AGGREGATE(15,6,$R$60:$R$359/($P$60:$P$359="RAPPEL"),2),IF($P$60:$P$359="RAPPEL",$R$60:$R$359),0),"")),"")} | D28: {=IFERROR(INDEX($M$60:$M$359,IFERROR(MATCH(_xlfn.AGGREGATE(15,6,$R$60:$R$359/($P$60:$P$359="RAPPEL"),2),IF($P$60:$P$359="RAPPEL",$R$60:$R$359),0),"")),"")} | E28: {=IFERROR(INDEX($N$60:$N$359,IFERROR(MATCH(_xlfn.AGGREGATE(15,6,$R$60:$R$359/($P$60:$P$359="RAPPEL"),2),IF($P$60:$P$359="RAPPEL",$R$60:$R$359),0),"")),"")} | F28: {=IFERROR(INDEX($Q$60:$Q$359,IFERROR(MATCH(_xlfn.AGGREGATE(15,6,$R$60:$R$359/($P$60:$P$359="RAPPEL"),2),IF($P$60:$P$359="RAPPEL",$R$60:$R$359),0),"")),"")} | G28: 💉 Calendrier
A29: 3 | B29: {=IFERROR(INDEX($K$60:$K$359,IFERROR(MATCH(_xlfn.AGGREGATE(15,6,$R$60:$R$359/($P$60:$P$359="RAPPEL"),3),IF($P$60:$P$359="RAPPEL",$R$60:$R$359),0),"")),"")} | C29: {=IFERROR(INDEX($L$60:$L$359,IFERROR(MATCH(_xlfn.AGGREGATE(15,6,$R$60:$R$359/($P$60:$P$359="RAPPEL"),3),IF($P$60:$P$359="RAPPEL",$R$60:$R$359),0),"")),"")} | D29: {=IFERROR(INDEX($M$60:$M$359,IFERROR(MATCH(_xlfn.AGGREGATE(15,6,$R$60:$R$359/($P$60:$P$359="RAPPEL"),3),IF($P$60:$P$359="RAPPEL",$R$60:$R$359),0),"")),"")} | E29: {=IFERROR(INDEX($N$60:$N$359,IFERROR(MATCH(_xlfn.AGGREGATE(15,6,$R$60:$R$359/($P$60:$P$359="RAPPEL"),3),IF($P$60:$P$359="RAPPEL",$R$60:$R$359),0),"")),"")} | F29: {=IFERROR(INDEX($Q$60:$Q$359,IFERROR(MATCH(_xlfn.AGGREGATE(15,6,$R$60:$R$359/($P$60:$P$359="RAPPEL"),3),IF($P$60:$P$359="RAPPEL",$R$60:$R$359),0),"")),"")} | G29: 💉 Calendrier
A30: 4 | B30: {=IFERROR(INDEX($K$60:$K$359,IFERROR(MATCH(_xlfn.AGGREGATE(15,6,$R$60:$R$359/($P$60:$P$359="RAPPEL"),4),IF($P$60:$P$359="RAPPEL",$R$60:$R$359),0),"")),"")} | C30: {=IFERROR(INDEX($L$60:$L$359,IFERROR(MATCH(_xlfn.AGGREGATE(15,6,$R$60:$R$359/($P$60:$P$359="RAPPEL"),4),IF($P$60:$P$359="RAPPEL",$R$60:$R$359),0),"")),"")} | D30: {=IFERROR(INDEX($M$60:$M$359,IFERROR(MATCH(_xlfn.AGGREGATE(15,6,$R$60:$R$359/($P$60:$P$359="RAPPEL"),4),IF($P$60:$P$359="RAPPEL",$R$60:$R$359),0),"")),"")} | E30: {=IFERROR(INDEX($N$60:$N$359,IFERROR(MATCH(_xlfn.AGGREGATE(15,6,$R$60:$R$359/($P$60:$P$359="RAPPEL"),4),IF($P$60:$P$359="RAPPEL",$R$60:$R$359),0),"")),"")} | F30: {=IFERROR(INDEX($Q$60:$Q$359,IFERROR(MATCH(_xlfn.AGGREGATE(15,6,$R$60:$R$359/($P$60:$P$359="RAPPEL"),4),IF($P$60:$P$359="RAPPEL",$R$60:$R$359),0),"")),"")} | G30: 💉 Calendrier
A31: 5 | B31: {=IFERROR(INDEX($K$60:$K$359,IFERROR(MATCH(_xlfn.AGGREGATE(15,6,$R$60:$R$359/($P$60:$P$359="RAPPEL"),5),IF($P$60:$P$359="RAPPEL",$R$60:$R$359),0),"")),"")} | C31: {=IFERROR(INDEX($L$60:$L$359,IFERROR(MATCH(_xlfn.AGGREGATE(15,6,$R$60:$R$359/($P$60:$P$359="RAPPEL"),5),IF($P$60:$P$359="RAPPEL",$R$60:$R$359),0),"")),"")} | D31: {=IFERROR(INDEX($M$60:$M$359,IFERROR(MATCH(_xlfn.AGGREGATE(15,6,$R$60:$R$359/($P$60:$P$359="RAPPEL"),5),IF($P$60:$P$359="RAPPEL",$R$60:$R$359),0),"")),"")} | E31: {=IFERROR(INDEX($N$60:$N$359,IFERROR(MATCH(_xlfn.AGGREGATE(15,6,$R$60:$R$359/($P$60:$P$359="RAPPEL"),5),IF($P$60:$P$359="RAPPEL",$R$60:$R$359),0),"")),"")} | F31: {=IFERROR(INDEX($Q$60:$Q$359,IFERROR(MATCH(_xlfn.AGGREGATE(15,6,$R$60:$R$359/($P$60:$P$359="RAPPEL"),5),IF($P$60:$P$359="RAPPEL",$R$60:$R$359),0),"")),"")} | G31: 💉 Calendrier
A32: 6 | B32: {=IFERROR(INDEX($K$60:$K$359,IFERROR(MATCH(_xlfn.AGGREGATE(15,6,$R$60:$R$359/($P$60:$P$359="RAPPEL"),6),IF($P$60:$P$359="RAPPEL",$R$60:$R$359),0),"")),"")} | C32: {=IFERROR(INDEX($L$60:$L$359,IFERROR(MATCH(_xlfn.AGGREGATE(15,6,$R$60:$R$359/($P$60:$P$359="RAPPEL"),6),IF($P$60:$P$359="RAPPEL",$R$60:$R$359),0),"")),"")} | D32: {=IFERROR(INDEX($M$60:$M$359,IFERROR(MATCH(_xlfn.AGGREGATE(15,6,$R$60:$R$359/($P$60:$P$359="RAPPEL"),6),IF($P$60:$P$359="RAPPEL",$R$60:$R$359),0),"")),"")} | E32: {=IFERROR(INDEX($N$60:$N$359,IFERROR(MATCH(_xlfn.AGGREGATE(15,6,$R$60:$R$359/($P$60:$P$359="RAPPEL"),6),IF($P$60:$P$359="RAPPEL",$R$60:$R$359),0),"")),"")} | F32: {=IFERROR(INDEX($Q$60:$Q$359,IFERROR(MATCH(_xlfn.AGGREGATE(15,6,$R$60:$R$359/($P$60:$P$359="RAPPEL"),6),IF($P$60:$P$359="RAPPEL",$R$60:$R$359),0),"")),"")} | G32: 💉 Calendrier
A33: 7 | B33: {=IFERROR(INDEX($K$60:$K$359,IFERROR(MATCH(_xlfn.AGGREGATE(15,6,$R$60:$R$359/($P$60:$P$359="RAPPEL"),7),IF($P$60:$P$359="RAPPEL",$R$60:$R$359),0),"")),"")} | C33: {=IFERROR(INDEX($L$60:$L$359,IFERROR(MATCH(_xlfn.AGGREGATE(15,6,$R$60:$R$359/($P$60:$P$359="RAPPEL"),7),IF($P$60:$P$359="RAPPEL",$R$60:$R$359),0),"")),"")} | D33: {=IFERROR(INDEX($M$60:$M$359,IFERROR(MATCH(_xlfn.AGGREGATE(15,6,$R$60:$R$359/($P$60:$P$359="RAPPEL"),7),IF($P$60:$P$359="RAPPEL",$R$60:$R$359),0),"")),"")} | E33: {=IFERROR(INDEX($N$60:$N$359,IFERROR(MATCH(_xlfn.AGGREGATE(15,6,$R$60:$R$359/($P$60:$P$359="RAPPEL"),7),IF($P$60:$P$359="RAPPEL",$R$60:$R$359),0),"")),"")} | F33: {=IFERROR(INDEX($Q$60:$Q$359,IFERROR(MATCH(_xlfn.AGGREGATE(15,6,$R$60:$R$359/($P$60:$P$359="RAPPEL"),7),IF($P$60:$P$359="RAPPEL",$R$60:$R$359),0),"")),"")} | G33: 💉 Calendrier
A34: 8 | B34: {=IFERROR(INDEX($K$60:$K$359,IFERROR(MATCH(_xlfn.AGGREGATE(15,6,$R$60:$R$359/($P$60:$P$359="RAPPEL"),8),IF($P$60:$P$359="RAPPEL",$R$60:$R$359),0),"")),"")} | C34: {=IFERROR(INDEX($L$60:$L$359,IFERROR(MATCH(_xlfn.AGGREGATE(15,6,$R$60:$R$359/($P$60:$P$359="RAPPEL"),8),IF($P$60:$P$359="RAPPEL",$R$60:$R$359),0),"")),"")} | D34: {=IFERROR(INDEX($M$60:$M$359,IFERROR(MATCH(_xlfn.AGGREGATE(15,6,$R$60:$R$359/($P$60:$P$359="RAPPEL"),8),IF($P$60:$P$359="RAPPEL",$R$60:$R$359),0),"")),"")} | E34: {=IFERROR(INDEX($N$60:$N$359,IFERROR(MATCH(_xlfn.AGGREGATE(15,6,$R$60:$R$359/($P$60:$P$359="RAPPEL"),8),IF($P$60:$P$359="RAPPEL",$R$60:$R$359),0),"")),"")} | F34: {=IFERROR(INDEX($Q$60:$Q$359,IFERROR(MATCH(_xlfn.AGGREGATE(15,6,$R$60:$R$359/($P$60:$P$359="RAPPEL"),8),IF($P$60:$P$359="RAPPEL",$R$60:$R$359),0),"")),"")} | G34: 💉 Calendrier
A35: 9 | B35: {=IFERROR(INDEX($K$60:$K$359,IFERROR(MATCH(_xlfn.AGGREGATE(15,6,$R$60:$R$359/($P$60:$P$359="RAPPEL"),9),IF($P$60:$P$359="RAPPEL",$R$60:$R$359),0),"")),"")} | C35: {=IFERROR(INDEX($L$60:$L$359,IFERROR(MATCH(_xlfn.AGGREGATE(15,6,$R$60:$R$359/($P$60:$P$359="RAPPEL"),9),IF($P$60:$P$359="RAPPEL",$R$60:$R$359),0),"")),"")} | D35: {=IFERROR(INDEX($M$60:$M$359,IFERROR(MATCH(_xlfn.AGGREGATE(15,6,$R$60:$R$359/($P$60:$P$359="RAPPEL"),9),IF($P$60:$P$359="RAPPEL",$R$60:$R$359),0),"")),"")} | E35: {=IFERROR(INDEX($N$60:$N$359,IFERROR(MATCH(_xlfn.AGGREGATE(15,6,$R$60:$R$359/($P$60:$P$359="RAPPEL"),9),IF($P$60:$P$359="RAPPEL",$R$60:$R$359),0),"")),"")} | F35: {=IFERROR(INDEX($Q$60:$Q$359,IFERROR(MATCH(_xlfn.AGGREGATE(15,6,$R$60:$R$359/($P$60:$P$359="RAPPEL"),9),IF($P$60:$P$359="RAPPEL",$R$60:$R$359),0),"")),"")} | G35: 💉 Calendrier
A36: 10 | B36: {=IFERROR(INDEX($K$60:$K$359,IFERROR(MATCH(_xlfn.AGGREGATE(15,6,$R$60:$R$359/($P$60:$P$359="RAPPEL"),10),IF($P$60:$P$359="RAPPEL",$R$60:$R$359),0),"")),"")} | C36: {=IFERROR(INDEX($L$60:$L$359,IFERROR(MATCH(_xlfn.AGGREGATE(15,6,$R$60:$R$359/($P$60:$P$359="RAPPEL"),10),IF($P$60:$P$359="RAPPEL",$R$60:$R$359),0),"")),"")} | D36: {=IFERROR(INDEX($M$60:$M$359,IFERROR(MATCH(_xlfn.AGGREGATE(15,6,$R$60:$R$359/($P$60:$P$359="RAPPEL"),10),IF($P$60:$P$359="RAPPEL",$R$60:$R$359),0),"")),"")} | E36: {=IFERROR(INDEX($N$60:$N$359,IFERROR(MATCH(_xlfn.AGGREGATE(15,6,$R$60:$R$359/($P$60:$P$359="RAPPEL"),10),IF($P$60:$P$359="RAPPEL",$R$60:$R$359),0),"")),"")} | F36: {=IFERROR(INDEX($Q$60:$Q$359,IFERROR(MATCH(_xlfn.AGGREGATE(15,6,$R$60:$R$359/($P$60:$P$359="RAPPEL"),10),IF($P$60:$P$359="RAPPEL",$R$60:$R$359),0),"")),"")} | G36: 💉 Calendrier
A37: 11 | B37: {=IFERROR(INDEX($K$60:$K$359,IFERROR(MATCH(_xlfn.AGGREGATE(15,6,$R$60:$R$359/($P$60:$P$359="RAPPEL"),11),IF($P$60:$P$359="RAPPEL",$R$60:$R$359),0),"")),"")} | C37: {=IFERROR(INDEX($L$60:$L$359,IFERROR(MATCH(_xlfn.AGGREGATE(15,6,$R$60:$R$359/($P$60:$P$359="RAPPEL"),11),IF($P$60:$P$359="RAPPEL",$R$60:$R$359),0),"")),"")} | D37: {=IFERROR(INDEX($M$60:$M$359,IFERROR(MATCH(_xlfn.AGGREGATE(15,6,$R$60:$R$359/($P$60:$P$359="RAPPEL"),11),IF($P$60:$P$359="RAPPEL",$R$60:$R$359),0),"")),"")} | E37: {=IFERROR(INDEX($N$60:$N$359,IFERROR(MATCH(_xlfn.AGGREGATE(15,6,$R$60:$R$359/($P$60:$P$359="RAPPEL"),11),IF($P$60:$P$359="RAPPEL",$R$60:$R$359),0),"")),"")} | F37: {=IFERROR(INDEX($Q$60:$Q$359,IFERROR(MATCH(_xlfn.AGGREGATE(15,6,$R$60:$R$359/($P$60:$P$359="RAPPEL"),11),IF($P$60:$P$359="RAPPEL",$R$60:$R$359),0),"")),"")} | G37: 💉 Calendrier
A38: 12 | B38: {=IFERROR(INDEX($K$60:$K$359,IFERROR(MATCH(_xlfn.AGGREGATE(15,6,$R$60:$R$359/($P$60:$P$359="RAPPEL"),12),IF($P$60:$P$359="RAPPEL",$R$60:$R$359),0),"")),"")} | C38: {=IFERROR(INDEX($L$60:$L$359,IFERROR(MATCH(_xlfn.AGGREGATE(15,6,$R$60:$R$359/($P$60:$P$359="RAPPEL"),12),IF($P$60:$P$359="RAPPEL",$R$60:$R$359),0),"")),"")} | D38: {=IFERROR(INDEX($M$60:$M$359,IFERROR(MATCH(_xlfn.AGGREGATE(15,6,$R$60:$R$359/($P$60:$P$359="RAPPEL"),12),IF($P$60:$P$359="RAPPEL",$R$60:$R$359),0),"")),"")} | E38: {=IFERROR(INDEX($N$60:$N$359,IFERROR(MATCH(_xlfn.AGGREGATE(15,6,$R$60:$R$359/($P$60:$P$359="RAPPEL"),12),IF($P$60:$P$359="RAPPEL",$R$60:$R$359),0),"")),"")} | F38: {=IFERROR(INDEX($Q$60:$Q$359,IFERROR(MATCH(_xlfn.AGGREGATE(15,6,$R$60:$R$359/($P$60:$P$359="RAPPEL"),12),IF($P$60:$P$359="RAPPEL",$R$60:$R$359),0),"")),"")} | G38: 💉 Calendrier
A39: 13 | B39: {=IFERROR(INDEX($K$60:$K$359,IFERROR(MATCH(_xlfn.AGGREGATE(15,6,$R$60:$R$359/($P$60:$P$359="RAPPEL"),13),IF($P$60:$P$359="RAPPEL",$R$60:$R$359),0),"")),"")} | C39: {=IFERROR(INDEX($L$60:$L$359,IFERROR(MATCH(_xlfn.AGGREGATE(15,6,$R$60:$R$359/($P$60:$P$359="RAPPEL"),13),IF($P$60:$P$359="RAPPEL",$R$60:$R$359),0),"")),"")} | D39: {=IFERROR(INDEX($M$60:$M$359,IFERROR(MATCH(_xlfn.AGGREGATE(15,6,$R$60:$R$359/($P$60:$P$359="RAPPEL"),13),IF($P$60:$P$359="RAPPEL",$R$60:$R$359),0),"")),"")} | E39: {=IFERROR(INDEX($N$60:$N$359,IFERROR(MATCH(_xlfn.AGGREGATE(15,6,$R$60:$R$359/($P$60:$P$359="RAPPEL"),13),IF($P$60:$P$359="RAPPEL",$R$60:$R$359),0),"")),"")} | F39: {=IFERROR(INDEX($Q$60:$Q$359,IFERROR(MATCH(_xlfn.AGGREGATE(15,6,$R$60:$R$359/($P$60:$P$359="RAPPEL"),13),IF($P$60:$P$359="RAPPEL",$R$60:$R$359),0),"")),"")} | G39: 💉 Calendrier
A40: 14 | B40: {=IFERROR(INDEX($K$60:$K$359,IFERROR(MATCH(_xlfn.AGGREGATE(15,6,$R$60:$R$359/($P$60:$P$359="RAPPEL"),14),IF($P$60:$P$359="RAPPEL",$R$60:$R$359),0),"")),"")} | C40: {=IFERROR(INDEX($L$60:$L$359,IFERROR(MATCH(_xlfn.AGGREGATE(15,6,$R$60:$R$359/($P$60:$P$359="RAPPEL"),14),IF($P$60:$P$359="RAPPEL",$R$60:$R$359),0),"")),"")} | D40: {=IFERROR(INDEX($M$60:$M$359,IFERROR(MATCH(_xlfn.AGGREGATE(15,6,$R$60:$R$359/($P$60:$P$359="RAPPEL"),14),IF($P$60:$P$359="RAPPEL",$R$60:$R$359),0),"")),"")} | E40: {=IFERROR(INDEX($N$60:$N$359,IFERROR(MATCH(_xlfn.AGGREGATE(15,6,$R$60:$R$359/($P$60:$P$359="RAPPEL"),14),IF($P$60:$P$359="RAPPEL",$R$60:$R$359),0),"")),"")} | F40: {=IFERROR(INDEX($Q$60:$Q$359,IFERROR(MATCH(_xlfn.AGGREGATE(15,6,$R$60:$R$359/($P$60:$P$359="RAPPEL"),14),IF($P$60:$P$359="RAPPEL",$R$60:$R$359),0),"")),"")} | G40: 💉 Calendrier
A41: 15 | B41: {=IFERROR(INDEX($K$60:$K$359,IFERROR(MATCH(_xlfn.AGGREGATE(15,6,$R$60:$R$359/($P$60:$P$359="RAPPEL"),15),IF($P$60:$P$359="RAPPEL",$R$60:$R$359),0),"")),"")} | C41: {=IFERROR(INDEX($L$60:$L$359,IFERROR(MATCH(_xlfn.AGGREGATE(15,6,$R$60:$R$359/($P$60:$P$359="RAPPEL"),15),IF($P$60:$P$359="RAPPEL",$R$60:$R$359),0),"")),"")} | D41: {=IFERROR(INDEX($M$60:$M$359,IFERROR(MATCH(_xlfn.AGGREGATE(15,6,$R$60:$R$359/($P$60:$P$359="RAPPEL"),15),IF($P$60:$P$359="RAPPEL",$R$60:$R$359),0),"")),"")} | E41: {=IFERROR(INDEX($N$60:$N$359,IFERROR(MATCH(_xlfn.AGGREGATE(15,6,$R$60:$R$359/($P$60:$P$359="RAPPEL"),15),IF($P$60:$P$359="RAPPEL",$R$60:$R$359),0),"")),"")} | F41: {=IFERROR(INDEX($Q$60:$Q$359,IFERROR(MATCH(_xlfn.AGGREGATE(15,6,$R$60:$R$359/($P$60:$P$359="RAPPEL"),15),IF($P$60:$P$359="RAPPEL",$R$60:$R$359),0),"")),"")} | G41: 💉 Calendrier
A43: 📋 À PLANIFIER — Vaccinations dans les 3 prochains mois
A44: N° | B44: Nom — Prénom | C44: Section | D44: Vaccin concerné | E44: Date prévue | F44: Dans (jours) | G44: Source | H44: Notes
A45: 1 | B45: {=IFERROR(INDEX($K$60:$K$359,IFERROR(MATCH(_xlfn.AGGREGATE(15,6,$R$60:$R$359/($P$60:$P$359="PLANIFIE"),1),IF($P$60:$P$359="PLANIFIE",$R$60:$R$359),0),"")),"")} | C45: {=IFERROR(INDEX($L$60:$L$359,IFERROR(MATCH(_xlfn.AGGREGATE(15,6,$R$60:$R$359/($P$60:$P$359="PLANIFIE"),1),IF($P$60:$P$359="PLANIFIE",$R$60:$R$359),0),"")),"")} | D45: {=IFERROR(INDEX($M$60:$M$359,IFERROR(MATCH(_xlfn.AGGREGATE(15,6,$R$60:$R$359/($P$60:$P$359="PLANIFIE"),1),IF($P$60:$P$359="PLANIFIE",$R$60:$R$359),0),"")),"")} | E45: {=IFERROR(INDEX($N$60:$N$359,IFERROR(MATCH(_xlfn.AGGREGATE(15,6,$R$60:$R$359/($P$60:$P$359="PLANIFIE"),1),IF($P$60:$P$359="PLANIFIE",$R$60:$R$359),0),"")),"")} | F45: {=IFERROR(INDEX($Q$60:$Q$359,IFERROR(MATCH(_xlfn.AGGREGATE(15,6,$R$60:$R$359/($P$60:$P$359="PLANIFIE"),1),IF($P$60:$P$359="PLANIFIE",$R$60:$R$359),0),"")),"")} | G45: 💉 Calendrier
A46: 2 | B46: {=IFERROR(INDEX($K$60:$K$359,IFERROR(MATCH(_xlfn.AGGREGATE(15,6,$R$60:$R$359/($P$60:$P$359="PLANIFIE"),2),IF($P$60:$P$359="PLANIFIE",$R$60:$R$359),0),"")),"")} | C46: {=IFERROR(INDEX($L$60:$L$359,IFERROR(MATCH(_xlfn.AGGREGATE(15,6,$R$60:$R$359/($P$60:$P$359="PLANIFIE"),2),IF($P$60:$P$359="PLANIFIE",$R$60:$R$359),0),"")),"")} | D46: {=IFERROR(INDEX($M$60:$M$359,IFERROR(MATCH(_xlfn.AGGREGATE(15,6,$R$60:$R$359/($P$60:$P$359="PLANIFIE"),2),IF($P$60:$P$359="PLANIFIE",$R$60:$R$359),0),"")),"")} | E46: {=IFERROR(INDEX($N$60:$N$359,IFERROR(MATCH(_xlfn.AGGREGATE(15,6,$R$60:$R$359/($P$60:$P$359="PLANIFIE"),2),IF($P$60:$P$359="PLANIFIE",$R$60:$R$359),0),"")),"")} | F46: {=IFERROR(INDEX($Q$60:$Q$359,IFERROR(MATCH(_xlfn.AGGREGATE(15,6,$R$60:$R$359/($P$60:$P$359="PLANIFIE"),2),IF($P$60:$P$359="PLANIFIE",$R$60:$R$359),0),"")),"")} | G46: 💉 Calendrier
A47: 3 | B47: {=IFERROR(INDEX($K$60:$K$359,IFERROR(MATCH(_xlfn.AGGREGATE(15,6,$R$60:$R$359/($P$60:$P$359="PLANIFIE"),3),IF($P$60:$P$359="PLANIFIE",$R$60:$R$359),0),"")),"")} | C47: {=IFERROR(INDEX($L$60:$L$359,IFERROR(MATCH(_xlfn.AGGREGATE(15,6,$R$60:$R$359/($P$60:$P$359="PLANIFIE"),3),IF($P$60:$P$359="PLANIFIE",$R$60:$R$359),0),"")),"")} | D47: {=IFERROR(INDEX($M$60:$M$359,IFERROR(MATCH(_xlfn.AGGREGATE(15,6,$R$60:$R$359/($P$60:$P$359="PLANIFIE"),3),IF($P$60:$P$359="PLANIFIE",$R$60:$R$359),0),"")),"")} | E47: {=IFERROR(INDEX($N$60:$N$359,IFERROR(MATCH(_xlfn.AGGREGATE(15,6,$R$60:$R$359/($P$60:$P$359="PLANIFIE"),3),IF($P$60:$P$359="PLANIFIE",$R$60:$R$359),0),"")),"")} | F47: {=IFERROR(INDEX($Q$60:$Q$359,IFERROR(MATCH(_xlfn.AGGREGATE(15,6,$R$60:$R$359/($P$60:$P$359="PLANIFIE"),3),IF($P$60:$P$359="PLANIFIE",$R$60:$R$359),0),"")),"")} | G47: 💉 Calendrier
A48: 4 | B48: {=IFERROR(INDEX($K$60:$K$359,IFERROR(MATCH(_xlfn.AGGREGATE(15,6,$R$60:$R$359/($P$60:$P$359="PLANIFIE"),4),IF($P$60:$P$359="PLANIFIE",$R$60:$R$359),0),"")),"")} | C48: {=IFERROR(INDEX($L$60:$L$359,IFERROR(MATCH(_xlfn.AGGREGATE(15,6,$R$60:$R$359/($P$60:$P$359="PLANIFIE"),4),IF($P$60:$P$359="PLANIFIE",$R$60:$R$359),0),"")),"")} | D48: {=IFERROR(INDEX($M$60:$M$359,IFERROR(MATCH(_xlfn.AGGREGATE(15,6,$R$60:$R$359/($P$60:$P$359="PLANIFIE"),4),IF($P$60:$P$359="PLANIFIE",$R$60:$R$359),0),"")),"")} | E48: {=IFERROR(INDEX($N$60:$N$359,IFERROR(MATCH(_xlfn.AGGREGATE(15,6,$R$60:$R$359/($P$60:$P$359="PLANIFIE"),4),IF($P$60:$P$359="PLANIFIE",$R$60:$R$359),0),"")),"")} | F48: {=IFERROR(INDEX($Q$60:$Q$359,IFERROR(MATCH(_xlfn.AGGREGATE(15,6,$R$60:$R$359/($P$60:$P$359="PLANIFIE"),4),IF($P$60:$P$359="PLANIFIE",$R$60:$R$359),0),"")),"")} | G48: 💉 Calendrier
A49: 5 | B49: {=IFERROR(INDEX($K$60:$K$359,IFERROR(MATCH(_xlfn.AGGREGATE(15,6,$R$60:$R$359/($P$60:$P$359="PLANIFIE"),5),IF($P$60:$P$359="PLANIFIE",$R$60:$R$359),0),"")),"")} | C49: {=IFERROR(INDEX($L$60:$L$359,IFERROR(MATCH(_xlfn.AGGREGATE(15,6,$R$60:$R$359/($P$60:$P$359="PLANIFIE"),5),IF($P$60:$P$359="PLANIFIE",$R$60:$R$359),0),"")),"")} | D49: {=IFERROR(INDEX($M$60:$M$359,IFERROR(MATCH(_xlfn.AGGREGATE(15,6,$R$60:$R$359/($P$60:$P$359="PLANIFIE"),5),IF($P$60:$P$359="PLANIFIE",$R$60:$R$359),0),"")),"")} | E49: {=IFERROR(INDEX($N$60:$N$359,IFERROR(MATCH(_xlfn.AGGREGATE(15,6,$R$60:$R$359/($P$60:$P$359="PLANIFIE"),5),IF($P$60:$P$359="PLANIFIE",$R$60:$R$359),0),"")),"")} | F49: {=IFERROR(INDEX($Q$60:$Q$359,IFERROR(MATCH(_xlfn.AGGREGATE(15,6,$R$60:$R$359/($P$60:$P$359="PLANIFIE"),5),IF($P$60:$P$359="PLANIFIE",$R$60:$R$359),0),"")),"")} | G49: 💉 Calendrier
A50: 6 | B50: {=IFERROR(INDEX($K$60:$K$359,IFERROR(MATCH(_xlfn.AGGREGATE(15,6,$R$60:$R$359/($P$60:$P$359="PLANIFIE"),6),IF($P$60:$P$359="PLANIFIE",$R$60:$R$359),0),"")),"")} | C50: {=IFERROR(INDEX($L$60:$L$359,IFERROR(MATCH(_xlfn.AGGREGATE(15,6,$R$60:$R$359/($P$60:$P$359="PLANIFIE"),6),IF($P$60:$P$359="PLANIFIE",$R$60:$R$359),0),"")),"")} | D50: {=IFERROR(INDEX($M$60:$M$359,IFERROR(MATCH(_xlfn.AGGREGATE(15,6,$R$60:$R$359/($P$60:$P$359="PLANIFIE"),6),IF($P$60:$P$359="PLANIFIE",$R$60:$R$359),0),"")),"")} | E50: {=IFERROR(INDEX($N$60:$N$359,IFERROR(MATCH(_xlfn.AGGREGATE(15,6,$R$60:$R$359/($P$60:$P$359="PLANIFIE"),6),IF($P$60:$P$359="PLANIFIE",$R$60:$R$359),0),"")),"")} | F50: {=IFERROR(INDEX($Q$60:$Q$359,IFERROR(MATCH(_xlfn.AGGREGATE(15,6,$R$60:$R$359/($P$60:$P$359="PLANIFIE"),6),IF($P$60:$P$359="PLANIFIE",$R$60:$R$359),0),"")),"")} | G50: 💉 Calendrier
A51: 7 | B51: {=IFERROR(INDEX($K$60:$K$359,IFERROR(MATCH(_xlfn.AGGREGATE(15,6,$R$60:$R$359/($P$60:$P$359="PLANIFIE"),7),IF($P$60:$P$359="PLANIFIE",$R$60:$R$359),0),"")),"")} | C51: {=IFERROR(INDEX($L$60:$L$359,IFERROR(MATCH(_xlfn.AGGREGATE(15,6,$R$60:$R$359/($P$60:$P$359="PLANIFIE"),7),IF($P$60:$P$359="PLANIFIE",$R$60:$R$359),0),"")),"")} | D51: {=IFERROR(INDEX($M$60:$M$359,IFERROR(MATCH(_xlfn.AGGREGATE(15,6,$R$60:$R$359/($P$60:$P$359="PLANIFIE"),7),IF($P$60:$P$359="PLANIFIE",$R$60:$R$359),0),"")),"")} | E51: {=IFERROR(INDEX($N$60:$N$359,IFERROR(MATCH(_xlfn.AGGREGATE(15,6,$R$60:$R$359/($P$60:$P$359="PLANIFIE"),7),IF($P$60:$P$359="PLANIFIE",$R$60:$R$359),0),"")),"")} | F51: {=IFERROR(INDEX($Q$60:$Q$359,IFERROR(MATCH(_xlfn.AGGREGATE(15,6,$R$60:$R$359/($P$60:$P$359="PLANIFIE"),7),IF($P$60:$P$359="PLANIFIE",$R$60:$R$359),0),"")),"")} | G51: 💉 Calendrier
A52: 8 | B52: {=IFERROR(INDEX($K$60:$K$359,IFERROR(MATCH(_xlfn.AGGREGATE(15,6,$R$60:$R$359/($P$60:$P$359="PLANIFIE"),8),IF($P$60:$P$359="PLANIFIE",$R$60:$R$359),0),"")),"")} | C52: {=IFERROR(INDEX($L$60:$L$359,IFERROR(MATCH(_xlfn.AGGREGATE(15,6,$R$60:$R$359/($P$60:$P$359="PLANIFIE"),8),IF($P$60:$P$359="PLANIFIE",$R$60:$R$359),0),"")),"")} | D52: {=IFERROR(INDEX($M$60:$M$359,IFERROR(MATCH(_xlfn.AGGREGATE(15,6,$R$60:$R$359/($P$60:$P$359="PLANIFIE"),8),IF($P$60:$P$359="PLANIFIE",$R$60:$R$359),0),"")),"")} | E52: {=IFERROR(INDEX($N$60:$N$359,IFERROR(MATCH(_xlfn.AGGREGATE(15,6,$R$60:$R$359/($P$60:$P$359="PLANIFIE"),8),IF($P$60:$P$359="PLANIFIE",$R$60:$R$359),0),"")),"")} | F52: {=IFERROR(INDEX($Q$60:$Q$359,IFERROR(MATCH(_xlfn.AGGREGATE(15,6,$R$60:$R$359/($P$60:$P$359="PLANIFIE"),8),IF($P$60:$P$359="PLANIFIE",$R$60:$R$359),0),"")),"")} | G52: 💉 Calendrier
A53: 9 | B53: {=IFERROR(INDEX($K$60:$K$359,IFERROR(MATCH(_xlfn.AGGREGATE(15,6,$R$60:$R$359/($P$60:$P$359="PLANIFIE"),9),IF($P$60:$P$359="PLANIFIE",$R$60:$R$359),0),"")),"")} | C53: {=IFERROR(INDEX($L$60:$L$359,IFERROR(MATCH(_xlfn.AGGREGATE(15,6,$R$60:$R$359/($P$60:$P$359="PLANIFIE"),9),IF($P$60:$P$359="PLANIFIE",$R$60:$R$359),0),"")),"")} | D53: {=IFERROR(INDEX($M$60:$M$359,IFERROR(MATCH(_xlfn.AGGREGATE(15,6,$R$60:$R$359/($P$60:$P$359="PLANIFIE"),9),IF($P$60:$P$359="PLANIFIE",$R$60:$R$359),0),"")),"")} | E53: {=IFERROR(INDEX($N$60:$N$359,IFERROR(MATCH(_xlfn.AGGREGATE(15,6,$R$60:$R$359/($P$60:$P$359="PLANIFIE"),9),IF($P$60:$P$359="PLANIFIE",$R$60:$R$359),0),"")),"")} | F53: {=IFERROR(INDEX($Q$60:$Q$359,IFERROR(MATCH(_xlfn.AGGREGATE(15,6,$R$60:$R$359/($P$60:$P$359="PLANIFIE"),9),IF($P$60:$P$359="PLANIFIE",$R$60:$R$359),0),"")),"")} | G53: 💉 Calendrier
A54: 10 | B54: {=IFERROR(INDEX($K$60:$K$359,IFERROR(MATCH(_xlfn.AGGREGATE(15,6,$R$60:$R$359/($P$60:$P$359="PLANIFIE"),10),IF($P$60:$P$359="PLANIFIE",$R$60:$R$359),0),"")),"")} | C54: {=IFERROR(INDEX($L$60:$L$359,IFERROR(MATCH(_xlfn.AGGREGATE(15,6,$R$60:$R$359/($P$60:$P$359="PLANIFIE"),10),IF($P$60:$P$359="PLANIFIE",$R$60:$R$359),0),"")),"")} | D54: {=IFERROR(INDEX($M$60:$M$359,IFERROR(MATCH(_xlfn.AGGREGATE(15,6,$R$60:$R$359/($P$60:$P$359="PLANIFIE"),10),IF($P$60:$P$359="PLANIFIE",$R$60:$R$359),0),"")),"")} | E54: {=IFERROR(INDEX($N$60:$N$359,IFERROR(MATCH(_xlfn.AGGREGATE(15,6,$R$60:$R$359/($P$60:$P$359="PLANIFIE"),10),IF($P$60:$P$359="PLANIFIE",$R$60:$R$359),0),"")),"")} | F54: {=IFERROR(INDEX($Q$60:$Q$359,IFERROR(MATCH(_xlfn.AGGREGATE(15,6,$R$60:$R$359/($P$60:$P$359="PLANIFIE"),10),IF($P$60:$P$359="PLANIFIE",$R$60:$R$359),0),"")),"")} | G54: 💉 Calendrier
A55: 11 | B55: {=IFERROR(INDEX($K$60:$K$359,IFERROR(MATCH(_xlfn.AGGREGATE(15,6,$R$60:$R$359/($P$60:$P$359="PLANIFIE"),11),IF($P$60:$P$359="PLANIFIE",$R$60:$R$359),0),"")),"")} | C55: {=IFERROR(INDEX($L$60:$L$359,IFERROR(MATCH(_xlfn.AGGREGATE(15,6,$R$60:$R$359/($P$60:$P$359="PLANIFIE"),11),IF($P$60:$P$359="PLANIFIE",$R$60:$R$359),0),"")),"")} | D55: {=IFERROR(INDEX($M$60:$M$359,IFERROR(MATCH(_xlfn.AGGREGATE(15,6,$R$60:$R$359/($P$60:$P$359="PLANIFIE"),11),IF($P$60:$P$359="PLANIFIE",$R$60:$R$359),0),"")),"")} | E55: {=IFERROR(INDEX($N$60:$N$359,IFERROR(MATCH(_xlfn.AGGREGATE(15,6,$R$60:$R$359/($P$60:$P$359="PLANIFIE"),11),IF($P$60:$P$359="PLANIFIE",$R$60:$R$359),0),"")),"")} | F55: {=IFERROR(INDEX($Q$60:$Q$359,IFERROR(MATCH(_xlfn.AGGREGATE(15,6,$R$60:$R$359/($P$60:$P$359="PLANIFIE"),11),IF($P$60:$P$359="PLANIFIE",$R$60:$R$359),0),"")),"")} | G55: 💉 Calendrier
A56: 12 | B56: {=IFERROR(INDEX($K$60:$K$359,IFERROR(MATCH(_xlfn.AGGREGATE(15,6,$R$60:$R$359/($P$60:$P$359="PLANIFIE"),12),IF($P$60:$P$359="PLANIFIE",$R$60:$R$359),0),"")),"")} | C56: {=IFERROR(INDEX($L$60:$L$359,IFERROR(MATCH(_xlfn.AGGREGATE(15,6,$R$60:$R$359/($P$60:$P$359="PLANIFIE"),12),IF($P$60:$P$359="PLANIFIE",$R$60:$R$359),0),"")),"")} | D56: {=IFERROR(INDEX($M$60:$M$359,IFERROR(MATCH(_xlfn.AGGREGATE(15,6,$R$60:$R$359/($P$60:$P$359="PLANIFIE"),12),IF($P$60:$P$359="PLANIFIE",$R$60:$R$359),0),"")),"")} | E56: {=IFERROR(INDEX($N$60:$N$359,IFERROR(MATCH(_xlfn.AGGREGATE(15,6,$R$60:$R$359/($P$60:$P$359="PLANIFIE"),12),IF($P$60:$P$359="PLANIFIE",$R$60:$R$359),0),"")),"")} | F56: {=IFERROR(INDEX($Q$60:$Q$359,IFERROR(MATCH(_xlfn.AGGREGATE(15,6,$R$60:$R$359/($P$60:$P$359="PLANIFIE"),12),IF($P$60:$P$359="PLANIFIE",$R$60:$R$359),0),"")),"")} | G56: 💉 Calendrier
A58: 💡 Tableau 100% automatique — alimenté par le 💉 Calendrier Vaccinal. Mettez à jour les dates de naissance et dates d'administration là-bas, les alertes ici se rafraîchissent seules.
I59: ▼ Zone de calcul (ne pas modifier) ▼ | J59: Idx | K59: Nom Prénom | L59: Section | M59: Vaccin | N59: Date prévue | O59: Date réelle | P59: Statut | Q59: Retard j | R59: TieBreak
J60: 1 | K60: =IFERROR('💉 Calendrier Vaccinal'!B7&" "&'💉 Calendrier Vaccinal'!C7,"") | L60: =IFERROR('💉 Calendrier Vaccinal'!E7,"") -> 0 | M60: Hexavalent D1 (2 mois) | N60: =IFERROR('💉 Calendrier Vaccinal'!F7,"") | O60: =IFERROR('💉 Calendrier Vaccinal'!G7,"") -> 0 | P60: =IF(K60="","VIDE",IF(AND(ISNUMBER(O60),O60>0),"ADMIN",IF(NOT(ISNUMBER(N60)),"VIDE",IF(TODAY()>N60,"URGENT",IF(TODAY()>=N60-30,"RAPPEL",IF(TODAY()>=N60-90,"PLANIFIE","FUTUR")))))) -> VIDE | Q60: =IF(P60="URGENT",TODAY()-N60,IF(OR(P60="RAPPEL",P60="PLANIFIE"),N60-TODAY(),"")) | R60: =IF(ISNUMBER(Q60),Q60+(ROW()-59)/100000,"")
J61: 2 | K61: =IFERROR('💉 Calendrier Vaccinal'!B7&" "&'💉 Calendrier Vaccinal'!C7,"") | L61: =IFERROR('💉 Calendrier Vaccinal'!E7,"") -> 0 | M61: Hexavalent D2 (3 mois) | N61: =IFERROR('💉 Calendrier Vaccinal'!I7,"") | O61: =IFERROR('💉 Calendrier Vaccinal'!J7,"") -> 0 | P61: =IF(K61="","VIDE",IF(AND(ISNUMBER(O61),O61>0),"ADMIN",IF(NOT(ISNUMBER(N61)),"VIDE",IF(TODAY()>N61,"URGENT",IF(TODAY()>=N61-30,"RAPPEL",IF(TODAY()>=N61-90,"PLANIFIE","FUTUR")))))) -> VIDE | Q61: =IF(P61="URGENT",TODAY()-N61,IF(OR(P61="RAPPEL",P61="PLANIFIE"),N61-TODAY(),"")) | R61: =IF(ISNUMBER(Q61),Q61+(ROW()-59)/100000,"")
J62: 3 | K62: =IFERROR('💉 Calendrier Vaccinal'!B7&" "&'💉 Calendrier Vaccinal'!C7,"") | L62: =IFERROR('💉 Calendrier Vaccinal'!E7,"") -> 0 | M62: Hexavalent D3 (4 mois) | N62: =IFERROR('💉 Calendrier Vaccinal'!L7,"") | O62: =IFERROR('💉 Calendrier Vaccinal'!M7,"") -> 0 | P62: =IF(K62="","VIDE",IF(AND(ISNUMBER(O62),O62>0),"ADMIN",IF(NOT(ISNUMBER(N62)),"VIDE",IF(TODAY()>N62,"URGENT",IF(TODAY()>=N62-30,"RAPPEL",IF(TODAY()>=N62-90,"PLANIFIE","FUTUR")))))) -> VIDE | Q62: =IF(P62="URGENT",TODAY()-N62,IF(OR(P62="RAPPEL",P62="PLANIFIE"),N62-TODAY(),"")) | R62: =IF(ISNUMBER(Q62),Q62+(ROW()-59)/100000,"")
J63: 4 | K63: =IFERROR('💉 Calendrier Vaccinal'!B7&" "&'💉 Calendrier Vaccinal'!C7,"") | L63: =IFERROR('💉 Calendrier Vaccinal'!E7,"") -> 0 | M63: Pneumocoque D1 (2 mois) | N63: =IFERROR('💉 Calendrier Vaccinal'!O7,"") | O63: =IFERROR('💉 Calendrier Vaccinal'!P7,"") -> 0 | P63: =IF(K63="","VIDE",IF(AND(ISNUMBER(O63),O63>0),"ADMIN",IF(NOT(ISNUMBER(N63)),"VIDE",IF(TODAY()>N63,"URGENT",IF(TODAY()>=N63-30,"RAPPEL",IF(TODAY()>=N63-90,"PLANIFIE","FUTUR")))))) -> VIDE | Q63: =IF(P63="URGENT",TODAY()-N63,IF(OR(P63="RAPPEL",P63="PLANIFIE"),N63-TODAY(),"")) | R63: =IF(ISNUMBER(Q63),Q63+(ROW()-59)/100000,"")
J64: 5 | K64: =IFERROR('💉 Calendrier Vaccinal'!B7&" "&'💉 Calendrier Vaccinal'!C7,"") | L64: =IFERROR('💉 Calendrier Vaccinal'!E7,"") -> 0 | M64: Pneumocoque D2 (4 mois) | N64: =IFERROR('💉 Calendrier Vaccinal'!R7,"") | O64: =IFERROR('💉 Calendrier Vaccinal'!S7,"") -> 0 | P64: =IF(K64="","VIDE",IF(AND(ISNUMBER(O64),O64>0),"ADMIN",IF(NOT(ISNUMBER(N64)),"VIDE",IF(TODAY()>N64,"URGENT",IF(TODAY()>=N64-30,"RAPPEL",IF(TODAY()>=N64-90,"PLANIFIE","FUTUR")))))) -> VIDE | Q64: =IF(P64="URGENT",TODAY()-N64,IF(OR(P64="RAPPEL",P64="PLANIFIE"),N64-TODAY(),"")) | R64: =IF(ISNUMBER(Q64),Q64+(ROW()-59)/100000,"")
J65: 6 | K65: =IFERROR('💉 Calendrier Vaccinal'!B7&" "&'💉 Calendrier Vaccinal'!C7,"") | L65: =IFERROR('💉 Calendrier Vaccinal'!E7,"") -> 0 | M65: Pneumocoque Rappel (12 mois) | N65: =IFERROR('💉 Calendrier Vaccinal'!U7,"") | O65: =IFERROR('💉 Calendrier Vaccinal'!V7,"") -> 46011 | P65: =IF(K65="","VIDE",IF(AND(ISNUMBER(O65),O65>0),"ADMIN",IF(NOT(ISNUMBER(N65)),"VIDE",IF(TODAY()>N65,"URGENT",IF(TODAY()>=N65-30,"RAPPEL",IF(TODAY()>=N65-90,"PLANIFIE","FUTUR")))))) -> ADMIN | Q65: =IF(P65="URGENT",TODAY()-N65,IF(OR(P65="RAPPEL",P65="PLANIFIE"),N65-TODAY(),"")) | R65: =IF(ISNUMBER(Q65),Q65+(ROW()-59)/100000,"")
J66: 7 | K66: =IFERROR('💉 Calendrier Vaccinal'!B7&" "&'💉 Calendrier Vaccinal'!C7,"") | L66: =IFERROR('💉 Calendrier Vaccinal'!E7,"") -> 0 | M66: Méningocoque ACWY (15 mois) | N66: =IFERROR('💉 Calendrier Vaccinal'!X7,"") -> 0 | O66: =IFERROR('💉 Calendrier Vaccinal'!Y7,"") -> 0 | P66: =IF(K66="","VIDE",IF(AND(ISNUMBER(O66),O66>0),"ADMIN",IF(NOT(ISNUMBER(N66)),"VIDE",IF(TODAY()>N66,"URGENT",IF(TODAY()>=N66-30,"RAPPEL",IF(TODAY()>=N66-90,"PLANIFIE","FUTUR")))))) -> URGENT | Q66: =IF(P66="URGENT",TODAY()-N66,IF(OR(P66="RAPPEL",P66="PLANIFIE"),N66-TODAY(),"")) -> 46142 | R66: =IF(ISNUMBER(Q66),Q66+(ROW()-59)/100000,"") -> 46142
J67: 8 | K67: =IFERROR('💉 Calendrier Vaccinal'!B7&" "&'💉 Calendrier Vaccinal'!C7,"") | L67: =IFERROR('💉 Calendrier Vaccinal'!E7,"") -> 0 | M67: RRO D1 (12 mois) | N67: =IFERROR('💉 Calendrier Vaccinal'!AA7,"") -> 0 | O67: =IFERROR('💉 Calendrier Vaccinal'!AB7,"") -> 0 | P67: =IF(K67="","VIDE",IF(AND(ISNUMBER(O67),O67>0),"ADMIN",IF(NOT(ISNUMBER(N67)),"VIDE",IF(TODAY()>N67,"URGENT",IF(TODAY()>=N67-30,"RAPPEL",IF(TODAY()>=N67-90,"PLANIFIE","FUTUR")))))) -> URGENT | Q67: =IF(P67="URGENT",TODAY()-N67,IF(OR(P67="RAPPEL",P67="PLANIFIE"),N67-TODAY(),"")) -> 46142 | R67: =IF(ISNUMBER(Q67),Q67+(ROW()-59)/100000,"") -> 46142
J68: 9 | K68: =IFERROR('💉 Calendrier Vaccinal'!B7&" "&'💉 Calendrier Vaccinal'!C7,"") | L68: =IFERROR('💉 Calendrier Vaccinal'!E7,"") -> 0 | M68: RRO D2 (15 mois) | N68: =IFERROR('💉 Calendrier Vaccinal'!AD7,"") -> 0 | O68: =IFERROR('💉 Calendrier Vaccinal'!AE7,"") -> 0 | P68: =IF(K68="","VIDE",IF(AND(ISNUMBER(O68),O68>0),"ADMIN",IF(NOT(ISNUMBER(N68)),"VIDE",IF(TODAY()>N68,"URGENT",IF(TODAY()>=N68-30,"RAPPEL",IF(TODAY()>=N68-90,"PLANIFIE","FUTUR")))))) -> URGENT | Q68: =IF(P68="URGENT",TODAY()-N68,IF(OR(P68="RAPPEL",P68="PLANIFIE"),N68-TODAY(),"")) -> 46142 | R68: =IF(ISNUMBER(Q68),Q68+(ROW()-59)/100000,"") -> 46142
J69: 10 | K69: =IFERROR('💉 Calendrier Vaccinal'!B7&" "&'💉 Calendrier Vaccinal'!C7,"") | L69: =IFERROR('💉 Calendrier Vaccinal'!E7,"") -> 0 | M69: Hexavalent Rappel (15 mois) | N69: =IFERROR('💉 Calendrier Vaccinal'!AG7,"") -> 0 | O69: =IFERROR('💉 Calendrier Vaccinal'!AH7,"") -> 0 | P69: =IF(K69="","VIDE",IF(AND(ISNUMBER(O69),O69>0),"ADMIN",IF(NOT(ISNUMBER(N69)),"VIDE",IF(TODAY()>N69,"URGENT",IF(TODAY()>=N69-30,"RAPPEL",IF(TODAY()>=N69-90,"PLANIFIE","FUTUR")))))) -> URGENT | Q69: =IF(P69="URGENT",TODAY()-N69,IF(OR(P69="RAPPEL",P69="PLANIFIE"),N69-TODAY(),"")) -> 46142 | R69: =IF(ISNUMBER(Q69),Q69+(ROW()-59)/100000,"") -> 46142
J70: 11 | K70: =IFERROR('💉 Calendrier Vaccinal'!B8&" "&'💉 Calendrier Vaccinal'!C8,"") | L70: =IFERROR('💉 Calendrier Vaccinal'!E8,"") -> 0 | M70: Hexavalent D1 (2 mois) | N70: =IFERROR('💉 Calendrier Vaccinal'!F8,"") | O70: =IFERROR('💉 Calendrier Vaccinal'!G8,"") -> 0 | P70: =IF(K70="","VIDE",IF(AND(ISNUMBER(O70),O70>0),"ADMIN",IF(NOT(ISNUMBER(N70)),"VIDE",IF(TODAY()>N70,"URGENT",IF(TODAY()>=N70-30,"RAPPEL",IF(TODAY()>=N70-90,"PLANIFIE","FUTUR")))))) -> VIDE | Q70: =IF(P70="URGENT",TODAY()-N70,IF(OR(P70="RAPPEL",P70="PLANIFIE"),N70-TODAY(),"")) | R70: =IF(ISNUMBER(Q70),Q70+(ROW()-59)/100000,"")
J71: 12 | K71: =IFERROR('💉 Calendrier Vaccinal'!B8&" "&'💉 Calendrier Vaccinal'!C8,"") | L71: =IFERROR('💉 Calendrier Vaccinal'!E8,"") -> 0 | M71: Hexavalent D2 (3 mois) | N71: =IFERROR('💉 Calendrier Vaccinal'!I8,"") | O71: =IFERROR('💉 Calendrier Vaccinal'!J8,"") -> 0 | P71: =IF(K71="","VIDE",IF(AND(ISNUMBER(O71),O71>0),"ADMIN",IF(NOT(ISNUMBER(N71)),"VIDE",IF(TODAY()>N71,"URGENT",IF(TODAY()>=N71-30,"RAPPEL",IF(TODAY()>=N71-90,"PLANIFIE","FUTUR")))))) -> VIDE | Q71: =IF(P71="URGENT",TODAY()-N71,IF(OR(P71="RAPPEL",P71="PLANIFIE"),N71-TODAY(),"")) | R71: =IF(ISNUMBER(Q71),Q71+(ROW()-59)/100000,"")
J72: 13 | K72: =IFERROR('💉 Calendrier Vaccinal'!B8&" "&'💉 Calendrier Vaccinal'!C8,"") | L72: =IFERROR('💉 Calendrier Vaccinal'!E8,"") -> 0 | M72: Hexavalent D3 (4 mois) | N72: =IFERROR('💉 Calendrier Vaccinal'!L8,"") | O72: =IFERROR('💉 Calendrier Vaccinal'!M8,"") -> 0 | P72: =IF(K72="","VIDE",IF(AND(ISNUMBER(O72),O72>0),"ADMIN",IF(NOT(ISNUMBER(N72)),"VIDE",IF(TODAY()>N72,"URGENT",IF(TODAY()>=N72-30,"RAPPEL",IF(TODAY()>=N72-90,"PLANIFIE","FUTUR")))))) -> VIDE | Q72: =IF(P72="URGENT",TODAY()-N72,IF(OR(P72="RAPPEL",P72="PLANIFIE"),N72-TODAY(),"")) | R72: =IF(ISNUMBER(Q72),Q72+(ROW()-59)/100000,"")
J73: 14 | K73: =IFERROR('💉 Calendrier Vaccinal'!B8&" "&'💉 Calendrier Vaccinal'!C8,"") | L73: =IFERROR('💉 Calendrier Vaccinal'!E8,"") -> 0 | M73: Pneumocoque D1 (2 mois) | N73: =IFERROR('💉 Calendrier Vaccinal'!O8,"") | O73: =IFERROR('💉 Calendrier Vaccinal'!P8,"") -> 0 | P73: =IF(K73="","VIDE",IF(AND(ISNUMBER(O73),O73>0),"ADMIN",IF(NOT(ISNUMBER(N73)),"VIDE",IF(TODAY()>N73,"URGENT",IF(TODAY()>=N73-30,"RAPPEL",IF(TODAY()>=N73-90,"PLANIFIE","FUTUR")))))) -> VIDE | Q73: =IF(P73="URGENT",TODAY()-N73,IF(OR(P73="RAPPEL",P73="PLANIFIE"),N73-TODAY(),"")) | R73: =IF(ISNUMBER(Q73),Q73+(ROW()-59)/100000,"")
J74: 15 | K74: =IFERROR('💉 Calendrier Vaccinal'!B8&" "&'💉 Calendrier Vaccinal'!C8,"") | L74: =IFERROR('💉 Calendrier Vaccinal'!E8,"") -> 0 | M74: Pneumocoque D2 (4 mois) | N74: =IFERROR('💉 Calendrier Vaccinal'!R8,"") | O74: =IFERROR('💉 Calendrier Vaccinal'!S8,"") -> 0 | P74: =IF(K74="","VIDE",IF(AND(ISNUMBER(O74),O74>0),"ADMIN",IF(NOT(ISNUMBER(N74)),"VIDE",IF(TODAY()>N74,"URGENT",IF(TODAY()>=N74-30,"RAPPEL",IF(TODAY()>=N74-90,"PLANIFIE","FUTUR")))))) -> VIDE | Q74: =IF(P74="URGENT",TODAY()-N74,IF(OR(P74="RAPPEL",P74="PLANIFIE"),N74-TODAY(),"")) | R74: =IF(ISNUMBER(Q74),Q74+(ROW()-59)/100000,"")
J75: 16 | K75: =IFERROR('💉 Calendrier Vaccinal'!B8&" "&'💉 Calendrier Vaccinal'!C8,"") | L75: =IFERROR('💉 Calendrier Vaccinal'!E8,"") -> 0 | M75: Pneumocoque Rappel (12 mois) | N75: =IFERROR('💉 Calendrier Vaccinal'!U8,"") | O75: =IFERROR('💉 Calendrier Vaccinal'!V8,"") -> 0 | P75: =IF(K75="","VIDE",IF(AND(ISNUMBER(O75),O75>0),"ADMIN",IF(NOT(ISNUMBER(N75)),"VIDE",IF(TODAY()>N75,"URGENT",IF(TODAY()>=N75-30,"RAPPEL",IF(TODAY()>=N75-90,"PLANIFIE","FUTUR")))))) -> VIDE | Q75: =IF(P75="URGENT",TODAY()-N75,IF(OR(P75="RAPPEL",P75="PLANIFIE"),N75-TODAY(),"")) | R75: =IF(ISNUMBER(Q75),Q75+(ROW()-59)/100000,"")
J76: 17 | K76: =IFERROR('💉 Calendrier Vaccinal'!B8&" "&'💉 Calendrier Vaccinal'!C8,"") | L76: =IFERROR('💉 Calendrier Vaccinal'!E8,"") -> 0 | M76: Méningocoque ACWY (15 mois) | N76: =IFERROR('💉 Calendrier Vaccinal'!X8,"") | O76: =IFERROR('💉 Calendrier Vaccinal'!Y8,"") -> 0 | P76: =IF(K76="","VIDE",IF(AND(ISNUMBER(O76),O76>0),"ADMIN",IF(NOT(ISNUMBER(N76)),"VIDE",IF(TODAY()>N76,"URGENT",IF(TODAY()>=N76-30,"RAPPEL",IF(TODAY()>=N76-90,"PLANIFIE","FUTUR")))))) -> VIDE | Q76: =IF(P76="URGENT",TODAY()-N76,IF(OR(P76="RAPPEL",P76="PLANIFIE"),N76-TODAY(),"")) | R76: =IF(ISNUMBER(Q76),Q76+(ROW()-59)/100000,"")
J77: 18 | K77: =IFERROR('💉 Calendrier Vaccinal'!B8&" "&'💉 Calendrier Vaccinal'!C8,"") | L77: =IFERROR('💉 Calendrier Vaccinal'!E8,"") -> 0 | M77: RRO D1 (12 mois) | N77: =IFERROR('💉 Calendrier Vaccinal'!AA8,"") | O77: =IFERROR('💉 Calendrier Vaccinal'!AB8,"") -> 0 | P77: =IF(K77="","VIDE",IF(AND(ISNUMBER(O77),O77>0),"ADMIN",IF(NOT(ISNUMBER(N77)),"VIDE",IF(TODAY()>N77,"URGENT",IF(TODAY()>=N77-30,"RAPPEL",IF(TODAY()>=N77-90,"PLANIFIE","FUTUR")))))) -> VIDE | Q77: =IF(P77="URGENT",TODAY()-N77,IF(OR(P77="RAPPEL",P77="PLANIFIE"),N77-TODAY(),"")) | R77: =IF(ISNUMBER(Q77),Q77+(ROW()-59)/100000,"")
J78: 19 | K78: =IFERROR('💉 Calendrier Vaccinal'!B8&" "&'💉 Calendrier Vaccinal'!C8,"") | L78: =IFERROR('💉 Calendrier Vaccinal'!E8,"") -> 0 | M78: RRO D2 (15 mois) | N78: =IFERROR('💉 Calendrier Vaccinal'!AD8,"") | O78: =IFERROR('💉 Calendrier Vaccinal'!AE8,"") -> 0 | P78: =IF(K78="","VIDE",IF(AND(ISNUMBER(O78),O78>0),"ADMIN",IF(NOT(ISNUMBER(N78)),"VIDE",IF(TODAY()>N78,"URGENT",IF(TODAY()>=N78-30,"RAPPEL",IF(TODAY()>=N78-90,"PLANIFIE","FUTUR")))))) -> VIDE | Q78: =IF(P78="URGENT",TODAY()-N78,IF(OR(P78="RAPPEL",P78="PLANIFIE"),N78-TODAY(),"")) | R78: =IF(ISNUMBER(Q78),Q78+(ROW()-59)/100000,"")
J79: 20 | K79: =IFERROR('💉 Calendrier Vaccinal'!B8&" "&'💉 Calendrier Vaccinal'!C8,"") | L79: =IFERROR('💉 Calendrier Vaccinal'!E8,"") -> 0 | M79: Hexavalent Rappel (15 mois) | N79: =IFERROR('💉 Calendrier Vaccinal'!AG8,"") | O79: =IFERROR('💉 Calendrier Vaccinal'!AH8,"") -> 0 | P79: =IF(K79="","VIDE",IF(AND(ISNUMBER(O79),O79>0),"ADMIN",IF(NOT(ISNUMBER(N79)),"VIDE",IF(TODAY()>N79,"URGENT",IF(TODAY()>=N79-30,"RAPPEL",IF(TODAY()>=N79-90,"PLANIFIE","FUTUR")))))) -> VIDE | Q79: =IF(P79="URGENT",TODAY()-N79,IF(OR(P79="RAPPEL",P79="PLANIFIE"),N79-TODAY(),"")) | R79: =IF(ISNUMBER(Q79),Q79+(ROW()-59)/100000,"")
J80: 21 | K80: =IFERROR('💉 Calendrier Vaccinal'!B9&" "&'💉 Calendrier Vaccinal'!C9,"") | L80: =IFERROR('💉 Calendrier Vaccinal'!E9,"") -> 0 | M80: Hexavalent D1 (2 mois) | N80: =IFERROR('💉 Calendrier Vaccinal'!F9,"") | O80: =IFERROR('💉 Calendrier Vaccinal'!G9,"") -> 0 | P80: =IF(K80="","VIDE",IF(AND(ISNUMBER(O80),O80>0),"ADMIN",IF(NOT(ISNUMBER(N80)),"VIDE",IF(TODAY()>N80,"URGENT",IF(TODAY()>=N80-30,"RAPPEL",IF(TODAY()>=N80-90,"PLANIFIE","FUTUR")))))) -> VIDE | Q80: =IF(P80="URGENT",TODAY()-N80,IF(OR(P80="RAPPEL",P80="PLANIFIE"),N80-TODAY(),"")) | R80: =IF(ISNUMBER(Q80),Q80+(ROW()-59)/100000,"")
J81: 22 | K81: =IFERROR('💉 Calendrier Vaccinal'!B9&" "&'💉 Calendrier Vaccinal'!C9,"") | L81: =IFERROR('💉 Calendrier Vaccinal'!E9,"") -> 0 | M81: Hexavalent D2 (3 mois) | N81: =IFERROR('💉 Calendrier Vaccinal'!I9,"") | O81: =IFERROR('💉 Calendrier Vaccinal'!J9,"") -> 0 | P81: =IF(K81="","VIDE",IF(AND(ISNUMBER(O81),O81>0),"ADMIN",IF(NOT(ISNUMBER(N81)),"VIDE",IF(TODAY()>N81,"URGENT",IF(TODAY()>=N81-30,"RAPPEL",IF(TODAY()>=N81-90,"PLANIFIE","FUTUR")))))) -> VIDE | Q81: =IF(P81="URGENT",TODAY()-N81,IF(OR(P81="RAPPEL",P81="PLANIFIE"),N81-TODAY(),"")) | R81: =IF(ISNUMBER(Q81),Q81+(ROW()-59)/100000,"")
J82: 23 | K82: =IFERROR('💉 Calendrier Vaccinal'!B9&" "&'💉 Calendrier Vaccinal'!C9,"") | L82: =IFERROR('💉 Calendrier Vaccinal'!E9,"") -> 0 | M82: Hexavalent D3 (4 mois) | N82: =IFERROR('💉 Calendrier Vaccinal'!L9,"") | O82: =IFERROR('💉 Calendrier Vaccinal'!M9,"") -> 0 | P82: =IF(K82="","VIDE",IF(AND(ISNUMBER(O82),O82>0),"ADMIN",IF(NOT(ISNUMBER(N82)),"VIDE",IF(TODAY()>N82,"URGENT",IF(TODAY()>=N82-30,"RAPPEL",IF(TODAY()>=N82-90,"PLANIFIE","FUTUR")))))) -> VIDE | Q82: =IF(P82="URGENT",TODAY()-N82,IF(OR(P82="RAPPEL",P82="PLANIFIE"),N82-TODAY(),"")) | R82: =IF(ISNUMBER(Q82),Q82+(ROW()-59)/100000,"")
J83: 24 | K83: =IFERROR('💉 Calendrier Vaccinal'!B9&" "&'💉 Calendrier Vaccinal'!C9,"") | L83: =IFERROR('💉 Calendrier Vaccinal'!E9,"") -> 0 | M83: Pneumocoque D1 (2 mois) | N83: =IFERROR('💉 Calendrier Vaccinal'!O9,"") | O83: =IFERROR('💉 Calendrier Vaccinal'!P9,"") -> 0 | P83: =IF(K83="","VIDE",IF(AND(ISNUMBER(O83),O83>0),"ADMIN",IF(NOT(ISNUMBER(N83)),"VIDE",IF(TODAY()>N83,"URGENT",IF(TODAY()>=N83-30,"RAPPEL",IF(TODAY()>=N83-90,"PLANIFIE","FUTUR")))))) -> VIDE | Q83: =IF(P83="URGENT",TODAY()-N83,IF(OR(P83="RAPPEL",P83="PLANIFIE"),N83-TODAY(),"")) | R83: =IF(ISNUMBER(Q83),Q83+(ROW()-59)/100000,"")
J84: 25 | K84: =IFERROR('💉 Calendrier Vaccinal'!B9&" "&'💉 Calendrier Vaccinal'!C9,"") | L84: =IFERROR('💉 Calendrier Vaccinal'!E9,"") -> 0 | M84: Pneumocoque D2 (4 mois) | N84: =IFERROR('💉 Calendrier Vaccinal'!R9,"") | O84: =IFERROR('💉 Calendrier Vaccinal'!S9,"") -> 0 | P84: =IF(K84="","VIDE",IF(AND(ISNUMBER(O84),O84>0),"ADMIN",IF(NOT(ISNUMBER(N84)),"VIDE",IF(TODAY()>N84,"URGENT",IF(TODAY()>=N84-30,"RAPPEL",IF(TODAY()>=N84-90,"PLANIFIE","FUTUR")))))) -> VIDE | Q84: =IF(P84="URGENT",TODAY()-N84,IF(OR(P84="RAPPEL",P84="PLANIFIE"),N84-TODAY(),"")) | R84: =IF(ISNUMBER(Q84),Q84+(ROW()-59)/100000,"")
J85: 26 | K85: =IFERROR('💉 Calendrier Vaccinal'!B9&" "&'💉 Calendrier Vaccinal'!C9,"") | L85: =IFERROR('💉 Calendrier Vaccinal'!E9,"") -> 0 | M85: Pneumocoque Rappel (12 mois) | N85: =IFERROR('💉 Calendrier Vaccinal'!U9,"") | O85: =IFERROR('💉 Calendrier Vaccinal'!V9,"") -> 0 | P85: =IF(K85="","VIDE",IF(AND(ISNUMBER(O85),O85>0),"ADMIN",IF(NOT(ISNUMBER(N85)),"VIDE",IF(TODAY()>N85,"URGENT",IF(TODAY()>=N85-30,"RAPPEL",IF(TODAY()>=N85-90,"PLANIFIE","FUTUR")))))) -> VIDE | Q85: =IF(P85="URGENT",TODAY()-N85,IF(OR(P85="RAPPEL",P85="PLANIFIE"),N85-TODAY(),"")) | R85: =IF(ISNUMBER(Q85),Q85+(ROW()-59)/100000,"")
J86: 27 | K86: =IFERROR('💉 Calendrier Vaccinal'!B9&" "&'💉 Calendrier Vaccinal'!C9,"") | L86: =IFERROR('💉 Calendrier Vaccinal'!E9,"") -> 0 | M86: Méningocoque ACWY (15 mois) | N86: =IFERROR('💉 Calendrier Vaccinal'!X9,"") | O86: =IFERROR('💉 Calendrier Vaccinal'!Y9,"") -> 0 | P86: =IF(K86="","VIDE",IF(AND(ISNUMBER(O86),O86>0),"ADMIN",IF(NOT(ISNUMBER(N86)),"VIDE",IF(TODAY()>N86,"URGENT",IF(TODAY()>=N86-30,"RAPPEL",IF(TODAY()>=N86-90,"PLANIFIE","FUTUR")))))) -> VIDE | Q86: =IF(P86="URGENT",TODAY()-N86,IF(OR(P86="RAPPEL",P86="PLANIFIE"),N86-TODAY(),"")) | R86: =IF(ISNUMBER(Q86),Q86+(ROW()-59)/100000,"")
J87: 28 | K87: =IFERROR('💉 Calendrier Vaccinal'!B9&" "&'💉 Calendrier Vaccinal'!C9,"") | L87: =IFERROR('💉 Calendrier Vaccinal'!E9,"") -> 0 | M87: RRO D1 (12 mois) | N87: =IFERROR('💉 Calendrier Vaccinal'!AA9,"") | O87: =IFERROR('💉 Calendrier Vaccinal'!AB9,"") -> 0 | P87: =IF(K87="","VIDE",IF(AND(ISNUMBER(O87),O87>0),"ADMIN",IF(NOT(ISNUMBER(N87)),"VIDE",IF(TODAY()>N87,"URGENT",IF(TODAY()>=N87-30,"RAPPEL",IF(TODAY()>=N87-90,"PLANIFIE","FUTUR")))))) -> VIDE | Q87: =IF(P87="URGENT",TODAY()-N87,IF(OR(P87="RAPPEL",P87="PLANIFIE"),N87-TODAY(),"")) | R87: =IF(ISNUMBER(Q87),Q87+(ROW()-59)/100000,"")
J88: 29 | K88: =IFERROR('💉 Calendrier Vaccinal'!B9&" "&'💉 Calendrier Vaccinal'!C9,"") | L88: =IFERROR('💉 Calendrier Vaccinal'!E9,"") -> 0 | M88: RRO D2 (15 mois) | N88: =IFERROR('💉 Calendrier Vaccinal'!AD9,"") | O88: =IFERROR('💉 Calendrier Vaccinal'!AE9,"") -> 0 | P88: =IF(K88="","VIDE",IF(AND(ISNUMBER(O88),O88>0),"ADMIN",IF(NOT(ISNUMBER(N88)),"VIDE",IF(TODAY()>N88,"URGENT",IF(TODAY()>=N88-30,"RAPPEL",IF(TODAY()>=N88-90,"PLANIFIE","FUTUR")))))) -> VIDE | Q88: =IF(P88="URGENT",TODAY()-N88,IF(OR(P88="RAPPEL",P88="PLANIFIE"),N88-TODAY(),"")) | R88: =IF(ISNUMBER(Q88),Q88+(ROW()-59)/100000,"")
J89: 30 | K89: =IFERROR('💉 Calendrier Vaccinal'!B9&" "&'💉 Calendrier Vaccinal'!C9,"") | L89: =IFERROR('💉 Calendrier Vaccinal'!E9,"") -> 0 | M89: Hexavalent Rappel (15 mois) | N89: =IFERROR('💉 Calendrier Vaccinal'!AG9,"") | O89: =IFERROR('💉 Calendrier Vaccinal'!AH9,"") -> 0 | P89: =IF(K89="","VIDE",IF(AND(ISNUMBER(O89),O89>0),"ADMIN",IF(NOT(ISNUMBER(N89)),"VIDE",IF(TODAY()>N89,"URGENT",IF(TODAY()>=N89-30,"RAPPEL",IF(TODAY()>=N89-90,"PLANIFIE","FUTUR")))))) -> VIDE | Q89: =IF(P89="URGENT",TODAY()-N89,IF(OR(P89="RAPPEL",P89="PLANIFIE"),N89-TODAY(),"")) | R89: =IF(ISNUMBER(Q89),Q89+(ROW()-59)/100000,"")
J90: 31 | K90: =IFERROR('💉 Calendrier Vaccinal'!B10&" "&'💉 Calendrier Vaccinal'!C10,"") | L90: =IFERROR('💉 Calendrier Vaccinal'!E10,"") -> 0 | M90: Hexavalent D1 (2 mois) | N90: =IFERROR('💉 Calendrier Vaccinal'!F10,"") | O90: =IFERROR('💉 Calendrier Vaccinal'!G10,"") -> 0 | P90: =IF(K90="","VIDE",IF(AND(ISNUMBER(O90),O90>0),"ADMIN",IF(NOT(ISNUMBER(N90)),"VIDE",IF(TODAY()>N90,"URGENT",IF(TODAY()>=N90-30,"RAPPEL",IF(TODAY()>=N90-90,"PLANIFIE","FUTUR")))))) -> VIDE | Q90: =IF(P90="URGENT",TODAY()-N90,IF(OR(P90="RAPPEL",P90="PLANIFIE"),N90-TODAY(),"")) | R90: =IF(ISNUMBER(Q90),Q90+(ROW()-59)/100000,"")
J91: 32 | K91: =IFERROR('💉 Calendrier Vaccinal'!B10&" "&'💉 Calendrier Vaccinal'!C10,"") | L91: =IFERROR('💉 Calendrier Vaccinal'!E10,"") -> 0 | M91: Hexavalent D2 (3 mois) | N91: =IFERROR('💉 Calendrier Vaccinal'!I10,"") | O91: =IFERROR('💉 Calendrier Vaccinal'!J10,"") -> 0 | P91: =IF(K91="","VIDE",IF(AND(ISNUMBER(O91),O91>0),"ADMIN",IF(NOT(ISNUMBER(N91)),"VIDE",IF(TODAY()>N91,"URGENT",IF(TODAY()>=N91-30,"RAPPEL",IF(TODAY()>=N91-90,"PLANIFIE","FUTUR")))))) -> VIDE | Q91: =IF(P91="URGENT",TODAY()-N91,IF(OR(P91="RAPPEL",P91="PLANIFIE"),N91-TODAY(),"")) | R91: =IF(ISNUMBER(Q91),Q91+(ROW()-59)/100000,"")
J92: 33 | K92: =IFERROR('💉 Calendrier Vaccinal'!B10&" "&'💉 Calendrier Vaccinal'!C10,"") | L92: =IFERROR('💉 Calendrier Vaccinal'!E10,"") -> 0 | M92: Hexavalent D3 (4 mois) | N92: =IFERROR('💉 Calendrier Vaccinal'!L10,"") | O92: =IFERROR('💉 Calendrier Vaccinal'!M10,"") -> 0 | P92: =IF(K92="","VIDE",IF(AND(ISNUMBER(O92),O92>0),"ADMIN",IF(NOT(ISNUMBER(N92)),"VIDE",IF(TODAY()>N92,"URGENT",IF(TODAY()>=N92-30,"RAPPEL",IF(TODAY()>=N92-90,"PLANIFIE","FUTUR")))))) -> VIDE | Q92: =IF(P92="URGENT",TODAY()-N92,IF(OR(P92="RAPPEL",P92="PLANIFIE"),N92-TODAY(),"")) | R92: =IF(ISNUMBER(Q92),Q92+(ROW()-59)/100000,"")
J93: 34 | K93: =IFERROR('💉 Calendrier Vaccinal'!B10&" "&'💉 Calendrier Vaccinal'!C10,"") | L93: =IFERROR('💉 Calendrier Vaccinal'!E10,"") -> 0 | M93: Pneumocoque D1 (2 mois) | N93: =IFERROR('💉 Calendrier Vaccinal'!O10,"") | O93: =IFERROR('💉 Calendrier Vaccinal'!P10,"") -> 0 | P93: =IF(K93="","VIDE",IF(AND(ISNUMBER(O93),O93>0),"ADMIN",IF(NOT(ISNUMBER(N93)),"VIDE",IF(TODAY()>N93,"URGENT",IF(TODAY()>=N93-30,"RAPPEL",IF(TODAY()>=N93-90,"PLANIFIE","FUTUR")))))) -> VIDE | Q93: =IF(P93="URGENT",TODAY()-N93,IF(OR(P93="RAPPEL",P93="PLANIFIE"),N93-TODAY(),"")) | R93: =IF(ISNUMBER(Q93),Q93+(ROW()-59)/100000,"")
J94: 35 | K94: =IFERROR('💉 Calendrier Vaccinal'!B10&" "&'💉 Calendrier Vaccinal'!C10,"") | L94: =IFERROR('💉 Calendrier Vaccinal'!E10,"") -> 0 | M94: Pneumocoque D2 (4 mois) | N94: =IFERROR('💉 Calendrier Vaccinal'!R10,"") | O94: =IFERROR('💉 Calendrier Vaccinal'!S10,"") -> 0 | P94: =IF(K94="","VIDE",IF(AND(ISNUMBER(O94),O94>0),"ADMIN",IF(NOT(ISNUMBER(N94)),"VIDE",IF(TODAY()>N94,"URGENT",IF(TODAY()>=N94-30,"RAPPEL",IF(TODAY()>=N94-90,"PLANIFIE","FUTUR")))))) -> VIDE | Q94: =IF(P94="URGENT",TODAY()-N94,IF(OR(P94="RAPPEL",P94="PLANIFIE"),N94-TODAY(),"")) | R94: =IF(ISNUMBER(Q94),Q94+(ROW()-59)/100000,"")
J95: 36 | K95: =IFERROR('💉 Calendrier Vaccinal'!B10&" "&'💉 Calendrier Vaccinal'!C10,"") | L95: =IFERROR('💉 Calendrier Vaccinal'!E10,"") -> 0 | M95: Pneumocoque Rappel (12 mois) | N95: =IFERROR('💉 Calendrier Vaccinal'!U10,"") | O95: =IFERROR('💉 Calendrier Vaccinal'!V10,"") -> 0 | P95: =IF(K95="","VIDE",IF(AND(ISNUMBER(O95),O95>0),"ADMIN",IF(NOT(ISNUMBER(N95)),"VIDE",IF(TODAY()>N95,"URGENT",IF(TODAY()>=N95-30,"RAPPEL",IF(TODAY()>=N95-90,"PLANIFIE","FUTUR")))))) -> VIDE | Q95: =IF(P95="URGENT",TODAY()-N95,IF(OR(P95="RAPPEL",P95="PLANIFIE"),N95-TODAY(),"")) | R95: =IF(ISNUMBER(Q95),Q95+(ROW()-59)/100000,"")
J96: 37 | K96: =IFERROR('💉 Calendrier Vaccinal'!B10&" "&'💉 Calendrier Vaccinal'!C10,"") | L96: =IFERROR('💉 Calendrier Vaccinal'!E10,"") -> 0 | M96: Méningocoque ACWY (15 mois) | N96: =IFERROR('💉 Calendrier Vaccinal'!X10,"") | O96: =IFERROR('💉 Calendrier Vaccinal'!Y10,"") -> 0 | P96: =IF(K96="","VIDE",IF(AND(ISNUMBER(O96),O96>0),"ADMIN",IF(NOT(ISNUMBER(N96)),"VIDE",IF(TODAY()>N96,"URGENT",IF(TODAY()>=N96-30,"RAPPEL",IF(TODAY()>=N96-90,"PLANIFIE","FUTUR")))))) -> VIDE | Q96: =IF(P96="URGENT",TODAY()-N96,IF(OR(P96="RAPPEL",P96="PLANIFIE"),N96-TODAY(),"")) | R96: =IF(ISNUMBER(Q96),Q96+(ROW()-59)/100000,"")
J97: 38 | K97: =IFERROR('💉 Calendrier Vaccinal'!B10&" "&'💉 Calendrier Vaccinal'!C10,"") | L97: =IFERROR('💉 Calendrier Vaccinal'!E10,"") -> 0 | M97: RRO D1 (12 mois) | N97: =IFERROR('💉 Calendrier Vaccinal'!AA10,"") | O97: =IFERROR('💉 Calendrier Vaccinal'!AB10,"") -> 0 | P97: =IF(K97="","VIDE",IF(AND(ISNUMBER(O97),O97>0),"ADMIN",IF(NOT(ISNUMBER(N97)),"VIDE",IF(TODAY()>N97,"URGENT",IF(TODAY()>=N97-30,"RAPPEL",IF(TODAY()>=N97-90,"PLANIFIE","FUTUR")))))) -> VIDE | Q97: =IF(P97="URGENT",TODAY()-N97,IF(OR(P97="RAPPEL",P97="PLANIFIE"),N97-TODAY(),"")) | R97: =IF(ISNUMBER(Q97),Q97+(ROW()-59)/100000,"")
J98: 39 | K98: =IFERROR('💉 Calendrier Vaccinal'!B10&" "&'💉 Calendrier Vaccinal'!C10,"") | L98: =IFERROR('💉 Calendrier Vaccinal'!E10,"") -> 0 | M98: RRO D2 (15 mois) | N98: =IFERROR('💉 Calendrier Vaccinal'!AD10,"") | O98: =IFERROR('💉 Calendrier Vaccinal'!AE10,"") -> 0 | P98: =IF(K98="","VIDE",IF(AND(ISNUMBER(O98),O98>0),"ADMIN",IF(NOT(ISNUMBER(N98)),"VIDE",IF(TODAY()>N98,"URGENT",IF(TODAY()>=N98-30,"RAPPEL",IF(TODAY()>=N98-90,"PLANIFIE","FUTUR")))))) -> VIDE | Q98: =IF(P98="URGENT",TODAY()-N98,IF(OR(P98="RAPPEL",P98="PLANIFIE"),N98-TODAY(),"")) | R98: =IF(ISNUMBER(Q98),Q98+(ROW()-59)/100000,"")
J99: 40 | K99: =IFERROR('💉 Calendrier Vaccinal'!B10&" "&'💉 Calendrier Vaccinal'!C10,"") | L99: =IFERROR('💉 Calendrier Vaccinal'!E10,"") -> 0 | M99: Hexavalent Rappel (15 mois) | N99: =IFERROR('💉 Calendrier Vaccinal'!AG10,"") | O99: =IFERROR('💉 Calendrier Vaccinal'!AH10,"") -> 0 | P99: =IF(K99="","VIDE",IF(AND(ISNUMBER(O99),O99>0),"ADMIN",IF(NOT(ISNUMBER(N99)),"VIDE",IF(TODAY()>N99,"URGENT",IF(TODAY()>=N99-30,"RAPPEL",IF(TODAY()>=N99-90,"PLANIFIE","FUTUR")))))) -> VIDE | Q99: =IF(P99="URGENT",TODAY()-N99,IF(OR(P99="RAPPEL",P99="PLANIFIE"),N99-TODAY(),"")) | R99: =IF(ISNUMBER(Q99),Q99+(ROW()-59)/100000,"")
J100: 41 | K100: =IFERROR('💉 Calendrier Vaccinal'!B11&" "&'💉 Calendrier Vaccinal'!C11,"") | L100: =IFERROR('💉 Calendrier Vaccinal'!E11,"") -> 0 | M100: Hexavalent D1 (2 mois) | N100: =IFERROR('💉 Calendrier Vaccinal'!F11,"") | O100: =IFERROR('💉 Calendrier Vaccinal'!G11,"") -> 0 | P100: =IF(K100="","VIDE",IF(AND(ISNUMBER(O100),O100>0),"ADMIN",IF(NOT(ISNUMBER(N100)),"VIDE",IF(TODAY()>N100,"URGENT",IF(TODAY()>=N100-30,"RAPPEL",IF(TODAY()>=N100-90,"PLANIFIE","FUTUR")))))) -> VIDE | Q100: =IF(P100="URGENT",TODAY()-N100,IF(OR(P100="RAPPEL",P100="PLANIFIE"),N100-TODAY(),"")) | R100: =IF(ISNUMBER(Q100),Q100+(ROW()-59)/100000,"")
J101: 42 | K101: =IFERROR('💉 Calendrier Vaccinal'!B11&" "&'💉 Calendrier Vaccinal'!C11,"") | L101: =IFERROR('💉 Calendrier Vaccinal'!E11,"") -> 0 | M101: Hexavalent D2 (3 mois) | N101: =IFERROR('💉 Calendrier Vaccinal'!I11,"") | O101: =IFERROR('💉 Calendrier Vaccinal'!J11,"") -> 0 | P101: =IF(K101="","VIDE",IF(AND(ISNUMBER(O101),O101>0),"ADMIN",IF(NOT(ISNUMBER(N101)),"VIDE",IF(TODAY()>N101,"URGENT",IF(TODAY()>=N101-30,"RAPPEL",IF(TODAY()>=N101-90,"PLANIFIE","FUTUR")))))) -> VIDE | Q101: =IF(P101="URGENT",TODAY()-N101,IF(OR(P101="RAPPEL",P101="PLANIFIE"),N101-TODAY(),"")) | R101: =IF(ISNUMBER(Q101),Q101+(ROW()-59)/100000,"")
J102: 43 | K102: =IFERROR('💉 Calendrier Vaccinal'!B11&" "&'💉 Calendrier Vaccinal'!C11,"") | L102: =IFERROR('💉 Calendrier Vaccinal'!E11,"") -> 0 | M102: Hexavalent D3 (4 mois) | N102: =IFERROR('💉 Calendrier Vaccinal'!L11,"") | O102: =IFERROR('💉 Calendrier Vaccinal'!M11,"") -> 0 | P102: =IF(K102="","VIDE",IF(AND(ISNUMBER(O102),O102>0),"ADMIN",IF(NOT(ISNUMBER(N102)),"VIDE",IF(TODAY()>N102,"URGENT",IF(TODAY()>=N102-30,"RAPPEL",IF(TODAY()>=N102-90,"PLANIFIE","FUTUR")))))) -> VIDE | Q102: =IF(P102="URGENT",TODAY()-N102,IF(OR(P102="RAPPEL",P102="PLANIFIE"),N102-TODAY(),"")) | R102: =IF(ISNUMBER(Q102),Q102+(ROW()-59)/100000,"")
J103: 44 | K103: =IFERROR('💉 Calendrier Vaccinal'!B11&" "&'💉 Calendrier Vaccinal'!C11,"") | L103: =IFERROR('💉 Calendrier Vaccinal'!E11,"") -> 0 | M103: Pneumocoque D1 (2 mois) | N103: =IFERROR('💉 Calendrier Vaccinal'!O11,"") | O103: =IFERROR('💉 Calendrier Vaccinal'!P11,"") -> 0 | P103: =IF(K103="","VIDE",IF(AND(ISNUMBER(O103),O103>0),"ADMIN",IF(NOT(ISNUMBER(N103)),"VIDE",IF(TODAY()>N103,"URGENT",IF(TODAY()>=N103-30,"RAPPEL",IF(TODAY()>=N103-90,"PLANIFIE","FUTUR")))))) -> VIDE | Q103: =IF(P103="URGENT",TODAY()-N103,IF(OR(P103="RAPPEL",P103="PLANIFIE"),N103-TODAY(),"")) | R103: =IF(ISNUMBER(Q103),Q103+(ROW()-59)/100000,"")
J104: 45 | K104: =IFERROR('💉 Calendrier Vaccinal'!B11&" "&'💉 Calendrier Vaccinal'!C11,"") | L104: =IFERROR('💉 Calendrier Vaccinal'!E11,"") -> 0 | M104: Pneumocoque D2 (4 mois) | N104: =IFERROR('💉 Calendrier Vaccinal'!R11,"") | O104: =IFERROR('💉 Calendrier Vaccinal'!S11,"") -> 0 | P104: =IF(K104="","VIDE",IF(AND(ISNUMBER(O104),O104>0),"ADMIN",IF(NOT(ISNUMBER(N104)),"VIDE",IF(TODAY()>N104,"URGENT",IF(TODAY()>=N104-30,"RAPPEL",IF(TODAY()>=N104-90,"PLANIFIE","FUTUR")))))) -> VIDE | Q104: =IF(P104="URGENT",TODAY()-N104,IF(OR(P104="RAPPEL",P104="PLANIFIE"),N104-TODAY(),"")) | R104: =IF(ISNUMBER(Q104),Q104+(ROW()-59)/100000,"")
J105: 46 | K105: =IFERROR('💉 Calendrier Vaccinal'!B11&" "&'💉 Calendrier Vaccinal'!C11,"") | L105: =IFERROR('💉 Calendrier Vaccinal'!E11,"") -> 0 | M105: Pneumocoque Rappel (12 mois) | N105: =IFERROR('💉 Calendrier Vaccinal'!U11,"") | O105: =IFERROR('💉 Calendrier Vaccinal'!V11,"") -> 0 | P105: =IF(K105="","VIDE",IF(AND(ISNUMBER(O105),O105>0),"ADMIN",IF(NOT(ISNUMBER(N105)),"VIDE",IF(TODAY()>N105,"URGENT",IF(TODAY()>=N105-30,"RAPPEL",IF(TODAY()>=N105-90,"PLANIFIE","FUTUR")))))) -> VIDE | Q105: =IF(P105="URGENT",TODAY()-N105,IF(OR(P105="RAPPEL",P105="PLANIFIE"),N105-TODAY(),"")) | R105: =IF(ISNUMBER(Q105),Q105+(ROW()-59)/100000,"")
J106: 47 | K106: =IFERROR('💉 Calendrier Vaccinal'!B11&" "&'💉 Calendrier Vaccinal'!C11,"") | L106: =IFERROR('💉 Calendrier Vaccinal'!E11,"") -> 0 | M106: Méningocoque ACWY (15 mois) | N106: =IFERROR('💉 Calendrier Vaccinal'!X11,"") | O106: =IFERROR('💉 Calendrier Vaccinal'!Y11,"") -> 0 | P106: =IF(K106="","VIDE",IF(AND(ISNUMBER(O106),O106>0),"ADMIN",IF(NOT(ISNUMBER(N106)),"VIDE",IF(TODAY()>N106,"URGENT",IF(TODAY()>=N106-30,"RAPPEL",IF(TODAY()>=N106-90,"PLANIFIE","FUTUR")))))) -> VIDE | Q106: =IF(P106="URGENT",TODAY()-N106,IF(OR(P106="RAPPEL",P106="PLANIFIE"),N106-TODAY(),"")) | R106: =IF(ISNUMBER(Q106),Q106+(ROW()-59)/100000,"")
...

Sheet 📋 Référence Calendrier ONE
A1: 📋 CALENDRIER VACCINAL FWB 2025-2026 — Référence ONE officielle
A3: ⚠️ VACCINS OBLIGATOIRES POUR L'ENTRÉE EN CRÈCHE — Arrêté du 2 mai 2019
A4: Âge | B4: Vaccin | C4: Maladies protégées | D4: Obligatoire en crèche | E4: Gratuit (FWB) | F4: Lieu disponible | G4: Notes importantes
A5: 2 mois | B5: Hexavalent (1ère dose) | C5: Diphtérie · Tétanos · Polio · Coqueluche · Hib · Hépatite B | D5: ✅ OUI | E5: ✅ OUI | F5: ONE · Médecin · Pharmacie | G5: Peut être combiné avec Pneumocoque D1
A6: 2 mois | B6: Pneumocoque (1ère dose) | C6: Méningites et pneumonies à pneumocoques | D6: ✅ OUI | E6: ✅ OUI | F6: ONE · Médecin · Pharmacie
A7: 2 mois | B7: Rotavirus (1ère dose) | C7: Gastro-entérites sévères à rotavirus | D7: ❌ NON | E7: ❌ NON | F7: Médecin · Pharmacie | G7: Recommandé · Non remboursé
A8: 3 mois | B8: Hexavalent (2ème dose) | C8: Diphtérie · Tétanos · Polio · Coqueluche · Hib · Hépatite B | D8: ✅ OUI | E8: ✅ OUI | F8: ONE · Médecin · Pharmacie
A9: 3 mois | B9: Rotavirus (2ème dose) | C9: Gastro-entérites sévères à rotavirus | D9: ❌ NON | E9: ❌ NON | F9: Médecin · Pharmacie | G9: Recommandé · Non remboursé
A10: 4 mois | B10: Hexavalent (3ème dose) | C10: Diphtérie · Tétanos · Polio · Coqueluche · Hib · Hépatite B | D10: ✅ OUI | E10: ✅ OUI | F10: ONE · Médecin · Pharmacie
A11: 4 mois | B11: Pneumocoque (2ème dose) | C11: Méningites et pneumonies à pneumocoques | D11: ✅ OUI | E11: ✅ OUI | F11: ONE · Médecin · Pharmacie
A12: 12 mois | B12: Hexavalent (rappel) | C12: Diphtérie · Tétanos · Polio · Coqueluche · Hib · Hépatite B | D12: ✅ OUI | E12: ✅ OUI | F12: ONE · Médecin · Pharmacie
A13: 12 mois | B13: Pneumocoque (rappel) | C13: Méningites et pneumonies à pneumocoques | D13: ✅ OUI | E13: ✅ OUI | F13: ONE · Médecin · Pharmacie
A14: 12 mois | B14: Méningocoque ACWY | C14: Méningites et septicémies à méningocoques A, C, W, Y | D14: ✅ OUI | E14: ✅ OUI | F14: ONE · Médecin · Pharmacie
A15: 12 mois | B15: RRO (1ère dose) | C15: Rougeole · Rubéole · Oreillons | D15: ✅ OUI | E15: ✅ OUI | F15: ONE · Médecin · Pharmacie | G15: Couverture 95% nécessaire pour immunité collective
A16: 15 mois | B16: RRO (2ème dose) | C16: Rougeole · Rubéole · Oreillons | D16: ✅ OUI | E16: ✅ OUI | F16: ONE · Médecin · Pharmacie | G16: Couverture FWB actuelle : 75% — insuffisante
A17: Automne-Hiver | B17: VRS — Beyfortus® (nourrissons) | C17: Bronchiolite à VRS — 1ère cause hospit. < 1 an | D17: ❌ NON | E17: ✅ OUI | F17: Médecin · Maternité | G17: 🆕 Remboursé depuis janvier 2025 · 1 dose unique
A18: 28-36 sem. grossesse | B18: VRS — Abrysvo® (maternel) | C18: Protection du nourrisson via anticorps maternels | D18: ❌ NON | E18: ✅ OUI | F18: Gynécologue · Maternité | G18: 🆕 Remboursé depuis janvier 2025 · Écart 2 sem. avec vaccin coqueluche
A20: 🛡️ STRATÉGIE COCOON — Coqueluche : protéger les nourrissons non encore vaccinés
A21: Bénéficiaire | B21: Vaccin | C21: Quand ? | D21: Statut | E21: Remboursement
A22: Femme enceinte | B22: Vaccin Tdap (coqueluche) | C22: Entre 24 et 32 semaines · Chaque grossesse | D22: ✅ Recommandé | E22: ✅ OUI
A23: Papa / Entourage | B23: Vaccin Tdap (coqueluche) | C23: Avant la naissance du bébé si non vacciné depuis 10 ans | D23: ✅ Recommandé | E23: Partiel
A24: Professionnels crèche | B24: Vaccin Tdap (coqueluche) | C24: Rappel tous les 10 ans | D24: ✅ Fortement recommandé | E24: Partiel
A26: 📚 Sources : vaccination-info.be (2025) · Guide ONE 2023 · Arrêté du 2 mai 2019 · Calendrier FWB 2025-2026 (26.08.2025)

Sheet 📬 Contacts Parents
A1: 📬 SUIVI DES CONTACTS PARENTS — Rappels et communications vaccinales
A3: 📝 MODÈLE DE MESSAGE DE RAPPEL VACCINAL
A5: Madame, Monsieur,
A7: Nous vous contactons au sujet du suivi vaccinal de votre enfant [NOM PRÉNOM], actuellement accueilli(e) dans notre crèche.
A9: Conformément à l'Arrêté du 2 mai 2019 relatif aux vaccinations obligatoires dans les milieux d'accueil agréés par l'ONE,
A10: nous vous informons que la prochaine vaccination de votre enfant est prévue pour le [DATE PRÉVUE].
A12: Vaccin concerné : [NOM DU VACCIN]
A14: Nous vous remercions de bien vouloir nous transmettre le carnet de vaccination de votre enfant
A15: après l'administration de ce vaccin, afin que nous puissions mettre à jour son dossier.
A17: Pour toute question, n'hésitez pas à contacter notre équipe ou le médecin référent de la crèche.
A19: Cordialement,
A20: L'équipe de la crèche
A22: 📋 REGISTRE DES CONTACTS EFFECTUÉS
A23: Date contact | B23: Nom enfant | C23: Vaccin concerné | D23: Type contact | E23: Réponse parent | F23: Date RDV vaccin prévu | G23: Vaccin reçu (O/N) | H23: Date carnet vérifié | I23: Responsable

Sheet 🏥 Dossiers Médicaux Spéciaux
A1: 🏥 DOSSIERS MÉDICAUX SPÉCIAUX — Enfants à antécédents particuliers · Suivi renforcé
A3: 🏷️ PROFILS MÉDICAUX RECONNUS — Codes de couleur
A4: 🟣 Prématuré | C4: 🔴 Immunodéprimé | E4: 🟠 Maladie chronique | G4: 🟡 Allergie sévère | I4: 🔵 Cardiopathie | K4: 🟢 Autre / Mixte | M4: 🩷 Prématuré + Allergie
A6: N° | B6: Nom — Prénom | C6: Date naissance | D6: Profil médical | E6: Diagnostic principal | F6: Médecin spécialiste | G6: Tél. spécialiste | H6: Hôpital référent | I6: Allergies médicamenteuses | J6: Contre-ind. vaccinales | K6: Protocole spécifique | L6: Dernier bilan | M6: Prochain bilan | N6: Observations urgentes
A7: 1
A8: 2
A9: 3
A10: 4
A11: 5
A12: 6
A13: 7
A14: 8
A15: 9
A16: 10
A17: 11
A18: 12
... A26: 20
A27: ⚠️ Ce dossier est confidentiel. Toute information médicale doit être transmise avec l'accord écrit des parents et conservée conformément au RGPD. Seuls les professionnels habilités y ont accès.

Sheet 💉 Vaccins & Antécédents
A1: 💉 VACCINATIONS ADAPTÉES AUX ANTÉCÉDENTS MÉDICAUX — Protocoles spéciaux ONE & Médecin référent
A3: ⚡ ALERTES SPÉCIALES ANTÉCÉDENTS MÉDICAUX
A4: 🔴 URGENT — Vaccin dû ou dépassé | C4: 🟠 RAPPEL — < 30 jours | E4: 🟣 ADAPTÉ — Schéma modifié | G4: ⛔ CONTRE-INDIQUÉ — Avis médecin | I4: ✅ Administré | K4: 🔵 Vaccin supplémentaire recommandé
A6: N° | B6: Nom — Prénom | C6: Profil médical | D6: Hexavalent D1 2 mois (2 mois) | G6: Hexavalent D2 3 mois (3 mois) | J6: Hexavalent D3 4 mois (4 mois) | M6: Hexavalent Rappel 12 mois (12 mois) | P6: Pneumocoque D1 2 mois (2 mois) | S6: Pneumocoque D2 4 mois (4 mois) | V6: Pneumo Rappel 12 mois (12 mois) | Y6: Méningo ACWY 12 mois (12 mois) | AB6: RRO D1 12 mois (12 mois) | AE6: RRO D2 15 mois (15 mois) | AH6: Grippe (annuel) (Annuel/Saisonnier) | AK6: Varicelle (recommandé) (12 mois) | AN6: VRS Beyfortus® (hiver) (Annuel/Saisonnier) | AQ6: Observations Médecin référent
D7: 📅 Date prévue | E7: ✅ Date réelle | F7: ⚡ Alerte spéciale | G7: 📅 Date prévue | H7: ✅ Date réelle | I7: ⚡ Alerte spéciale | J7: 📅 Date prévue | K7: ✅ Date réelle | L7: ⚡ Alerte spéciale | M7: 📅 Date prévue | N7: ✅ Date réelle | O7: ⚡ Alerte spéciale | P7: 📅 Date prévue | Q7: ✅ Date réelle | R7: ⚡ Alerte spéciale | S7: 📅 Date prévue | T7: ✅ Date réelle | U7: ⚡ Alerte spéciale | V7: 📅 Date prévue | W7: ✅ Date réelle | X7: ⚡ Alerte spéciale | Y7: 📅 Date prévue | Z7: ✅ Date réelle | AA7: ⚡ Alerte spéciale | AB7: 📅 Date prévue | AC7: ✅ Date réelle | AD7: ⚡ Alerte spéciale | AE7: 📅 Date prévue | AF7: ✅ Date réelle | AG7: ⚡ Alerte spéciale | AH7: 📅 Date prévue | AI7: ✅ Date réelle | AJ7: ⚡ Alerte spéciale | AK7: 📅 Date prévue | AL7: ✅ Date réelle | AM7: ⚡ Alerte spéciale | AN7: 📅 Date prévue | AO7: ✅ Date réelle | AP7: ⚡ Alerte spéciale | AQ7: Notes / Prescriptions
A8: 1 | F8: =IF(E8<>"","✅ Administré le "&TEXT(E8,"DD/MM/YY"),IF(D8="","⚪ Saisir date prévue",IF(TODAY()>D8,"🔴 URGENT — Dû depuis "&TEXT(TODAY()-D8,"0")&" j",IF(TODAY()>=D8-30,"🟠 RAPPEL — Dans "&TEXT(D8-TODAY(),"0")&" j",IF(OR(C8="🟣 Prématuré",C8="🔴 Immunodéprimé"),"🟣 ADAPTÉ — Vérifier schéma médecin","⚪ Prévu le "&TEXT(D8,"DD/MM/YY")))))) -> ⚪ Saisir date prévue | I8: =IF(H8<>"","✅ Administré le "&TEXT(H8,"DD/MM/YY"),IF(G8="","⚪ Saisir date prévue",IF(TODAY()>G8,"🔴 URGENT — Dû depuis "&TEXT(TODAY()-G8,"0")&" j",IF(TODAY()>=G8-30,"🟠 RAPPEL — Dans "&TEXT(G8-TODAY(),"0")&" j",IF(OR(C8="🟣 Prématuré",C8="🔴 Immunodéprimé"),"🟣 ADAPTÉ — Vérifier schéma médecin","⚪ Prévu le "&TEXT(G8,"DD/MM/YY")))))) -> ⚪ Saisir date prévue | L8: =IF(K8<>"","✅ Administré le "&TEXT(K8,"DD/MM/YY"),IF(J8="","⚪ Saisir date prévue",IF(TODAY()>J8,"🔴 URGENT — Dû depuis "&TEXT(TODAY()-J8,"0")&" j",IF(TODAY()>=J8-30,"🟠 RAPPEL — Dans "&TEXT(J8-TODAY(),"0")&" j",IF(OR(C8="🟣 Prématuré",C8="🔴 Immunodéprimé"),"🟣 ADAPTÉ — Vérifier schéma médecin","⚪ Prévu le "&TEXT(J8,"DD/MM/YY")))))) -> ⚪ Saisir date prévue | O8: =IF(N8<>"","✅ Administré le "&TEXT(N8,"DD/MM/YY"),IF(M8="","⚪ Saisir date prévue",IF(TODAY()>M8,"🔴 URGENT — Dû depuis "&TEXT(TODAY()-M8,"0")&" j",IF(TODAY()>=M8-30,"🟠 RAPPEL — Dans "&TEXT(M8-TODAY(),"0")&" j",IF(OR(C8="🟣 Prématuré",C8="🔴 Immunodéprimé"),"🟣 ADAPTÉ — Vérifier schéma médecin","⚪ Prévu le "&TEXT(M8,"DD/MM/YY")))))) -> ⚪ Saisir date prévue | R8: =IF(Q8<>"","✅ Administré le "&TEXT(Q8,"DD/MM/YY"),IF(P8="","⚪ Saisir date prévue",IF(TODAY()>P8,"🔴 URGENT — Dû depuis "&TEXT(TODAY()-P8,"0")&" j",IF(TODAY()>=P8-30,"🟠 RAPPEL — Dans "&TEXT(P8-TODAY(),"0")&" j",IF(OR(C8="🟣 Prématuré",C8="🔴 Immunodéprimé"),"🟣 ADAPTÉ — Vérifier schéma médecin","⚪ Prévu le "&TEXT(P8,"DD/MM/YY")))))) -> ⚪ Saisir date prévue | U8: =IF(T8<>"","✅ Administré le "&TEXT(T8,"DD/MM/YY"),IF(S8="","⚪ Saisir date prévue",IF(TODAY()>S8,"🔴 URGENT — Dû depuis "&TEXT(TODAY()-S8,"0")&" j",IF(TODAY()>=S8-30,"🟠 RAPPEL — Dans "&TEXT(S8-TODAY(),"0")&" j",IF(OR(C8="🟣 Prématuré",C8="🔴 Immunodéprimé"),"🟣 ADAPTÉ — Vérifier schéma médecin","⚪ Prévu le "&TEXT(S8,"DD/MM/YY")))))) -> ⚪ Saisir date prévue | X8: =IF(W8<>"","✅ Administré le "&TEXT(W8,"DD/MM/YY"),IF(V8="","⚪ Saisir date prévue",IF(TODAY()>V8,"🔴 URGENT — Dû depuis "&TEXT(TODAY()-V8,"0")&" j",IF(TODAY()>=V8-30,"🟠 RAPPEL — Dans "&TEXT(V8-TODAY(),"0")&" j",IF(OR(C8="🟣 Prématuré",C8="🔴 Immunodéprimé"),"🟣 ADAPTÉ — Vérifier schéma médecin","⚪ Prévu le "&TEXT(V8,"DD/MM/YY")))))) -> ⚪ Saisir date prévue | AA8: =IF(Z8<>"","✅ Administré le "&TEXT(Z8,"DD/MM/YY"),IF(Y8="","⚪ Saisir date prévue",IF(TODAY()>Y8,"🔴 URGENT — Dû depuis "&TEXT(TODAY()-Y8,"0")&" j",IF(TODAY()>=Y8-30,"🟠 RAPPEL — Dans "&TEXT(Y8-TODAY(),"0")&" j",IF(OR(C8="🟣 Prématuré",C8="🔴 Immunodéprimé"),"🟣 ADAPTÉ — Vérifier schéma médecin","⚪ Prévu le "&TEXT(Y8,"DD/MM/YY")))))) -> ⚪ Saisir date prévue | AD8: =IF(AC8<>"","✅ Administré le "&TEXT(AC8,"DD/MM/YY"),IF(OR(C8="🔴 Immunodéprimé"),"⛔ CONTRE-INDIQUÉ — Avis médecin obligatoire",IF(AB8="","⚪ Saisir date prévue",IF(TODAY()>AB8,"🔴 URGENT — Dû depuis "&TEXT(TODAY()-AB8,"0")&" j",IF(TODAY()>=AB8-30,"🟠 RAPPEL — Dans "&TEXT(AB8-TODAY(),"0")&" j","⚪ Prévu le "&TEXT(AB8,"DD/MM/YY")))))) -> ⚪ Saisir date prévue | AG8: =IF(AF8<>"","✅ Administré le "&TEXT(AF8,"DD/MM/YY"),IF(OR(C8="🔴 Immunodéprimé"),"⛔ CONTRE-INDIQUÉ — Avis médecin obligatoire",IF(AE8="","⚪ Saisir date prévue",IF(TODAY()>AE8,"🔴 URGENT — Dû depuis "&TEXT(TODAY()-AE8,"0")&" j",IF(TODAY()>=AE8-30,"🟠 RAPPEL — Dans "&TEXT(AE8-TODAY(),"0")&" j","⚪ Prévu le "&TEXT(AE8,"DD/MM/YY")))))) -> ⚪ Saisir date prévue | AJ8: =IF(AI8<>"","✅ Administré le "&TEXT(AI8,"DD/MM/YY"),IF(OR(C8="🔵 Cardiopathie",C8="🔴 Immunodéprimé",C8="🟣 Prématuré"),"🔵 RECOMMANDÉ — Contacter médecin référent","⚪ Non prioritaire pour ce profil")) -> ⚪ Non prioritaire pour ce profil | AM8: =IF(AL8<>"","✅ Administré le "&TEXT(AL8,"DD/MM/YY"),IF(OR(C8="🔴 Immunodéprimé"),"⛔ CONTRE-INDIQUÉ — Avis médecin obligatoire",IF(AK8="","⚪ Saisir date prévue",IF(TODAY()>AK8,"🔴 URGENT — Dû depuis "&TEXT(TODAY()-AK8,"0")&" j",IF(TODAY()>=AK8-30,"🟠 RAPPEL — Dans "&TEXT(AK8-TODAY(),"0")&" j","⚪ Prévu le "&TEXT(AK8,"DD/MM/YY")))))) -> ⚪ Saisir date prévue | AP8: =IF(AO8<>"","✅ Administré le "&TEXT(AO8,"DD/MM/YY"),IF(OR(C8="🔵 Cardiopathie",C8="🔴 Immunodéprimé",C8="🟣 Prématuré"),"🔵 RECOMMANDÉ — Contacter médecin référent","⚪ Non prioritaire pour ce profil")) -> ⚪ Non prioritaire pour ce profil
A9: 2 | F9: =IF(E9<>"","✅ Administré le "&TEXT(E9,"DD/MM/YY"),IF(D9="","⚪ Saisir date prévue",IF(TODAY()>D9,"🔴 URGENT — Dû depuis "&TEXT(TODAY()-D9,"0")&" j",IF(TODAY()>=D9-30,"🟠 RAPPEL — Dans "&TEXT(D9-TODAY(),"0")&" j",IF(OR(C9="🟣 Prématuré",C9="🔴 Immunodéprimé"),"🟣 ADAPTÉ — Vérifier schéma médecin","⚪ Prévu le "&TEXT(D9,"DD/MM/YY")))))) -> ⚪ Saisir date prévue | I9: =IF(H9<>"","✅ Administré le "&TEXT(H9,"DD/MM/YY"),IF(G9="","⚪ Saisir date prévue",IF(TODAY()>G9,"🔴 URGENT — Dû depuis "&TEXT(TODAY()-G9,"0")&" j",IF(TODAY()>=G9-30,"🟠 RAPPEL — Dans "&TEXT(G9-TODAY(),"0")&" j",IF(OR(C9="🟣 Prématuré",C9="🔴 Immunodéprimé"),"🟣 ADAPTÉ — Vérifier schéma médecin","⚪ Prévu le "&TEXT(G9,"DD/MM/YY")))))) -> ⚪ Saisir date prévue | L9: =IF(K9<>"","✅ Administré le "&TEXT(K9,"DD/MM/YY"),IF(J9="","⚪ Saisir date prévue",IF(TODAY()>J9,"🔴 URGENT — Dû depuis "&TEXT(TODAY()-J9,"0")&" j",IF(TODAY()>=J9-30,"🟠 RAPPEL — Dans "&TEXT(J9-TODAY(),"0")&" j",IF(OR(C9="🟣 Prématuré",C9="🔴 Immunodéprimé"),"🟣 ADAPTÉ — Vérifier schéma médecin","⚪ Prévu le "&TEXT(J9,"DD/MM/YY")))))) -> ⚪ Saisir date prévue | O9: =IF(N9<>"","✅ Administré le "&TEXT(N9,"DD/MM/YY"),IF(M9="","⚪ Saisir date prévue",IF(TODAY()>M9,"🔴 URGENT — Dû depuis "&TEXT(TODAY()-M9,"0")&" j",IF(TODAY()>=M9-30,"🟠 RAPPEL — Dans "&TEXT(M9-TODAY(),"0")&" j",IF(OR(C9="🟣 Prématuré",C9="🔴 Immunodéprimé"),"🟣 ADAPTÉ — Vérifier schéma médecin","⚪ Prévu le "&TEXT(M9,"DD/MM/YY")))))) -> ⚪ Saisir date prévue | R9: =IF(Q9<>"","✅ Administré le "&TEXT(Q9,"DD/MM/YY"),IF(P9="","⚪ Saisir date prévue",IF(TODAY()>P9,"🔴 URGENT — Dû depuis "&TEXT(TODAY()-P9,"0")&" j",IF(TODAY()>=P9-30,"🟠 RAPPEL — Dans "&TEXT(P9-TODAY(),"0")&" j",IF(OR(C9="🟣 Prématuré",C9="🔴 Immunodéprimé"),"🟣 ADAPTÉ — Vérifier schéma médecin","⚪ Prévu le "&TEXT(P9,"DD/MM/YY")))))) -> ⚪ Saisir date prévue | U9: =IF(T9<>"","✅ Administré le "&TEXT(T9,"DD/MM/YY"),IF(S9="","⚪ Saisir date prévue",IF(TODAY()>S9,"🔴 URGENT — Dû depuis "&TEXT(TODAY()-S9,"0")&" j",IF(TODAY()>=S9-30,"🟠 RAPPEL — Dans "&TEXT(S9-TODAY(),"0")&" j",IF(OR(C9="🟣 Prématuré",C9="🔴 Immunodéprimé"),"🟣 ADAPTÉ — Vérifier schéma médecin","⚪ Prévu le "&TEXT(S9,"DD/MM/YY")))))) -> ⚪ Saisir date prévue | X9: =IF(W9<>"","✅ Administré le "&TEXT(W9,"DD/MM/YY"),IF(V9="","⚪ Saisir date prévue",IF(TODAY()>V9,"🔴 URGENT — Dû depuis "&TEXT(TODAY()-V9,"0")&" j",IF(TODAY()>=V9-30,"🟠 RAPPEL — Dans "&TEXT(V9-TODAY(),"0")&" j",IF(OR(C9="🟣 Prématuré",C9="🔴 Immunodéprimé"),"🟣 ADAPTÉ — Vérifier schéma médecin","⚪ Prévu le "&TEXT(V9,"DD/MM/YY")))))) -> ⚪ Saisir date prévue | AA9: =IF(Z9<>"","✅ Administré le "&TEXT(Z9,"DD/MM/YY"),IF(Y9="","⚪ Saisir date prévue",IF(TODAY()>Y9,"🔴 URGENT — Dû depuis "&TEXT(TODAY()-Y9,"0")&" j",IF(TODAY()>=Y9-30,"🟠 RAPPEL — Dans "&TEXT(Y9-TODAY(),"0")&" j",IF(OR(C9="🟣 Prématuré",C9="🔴 Immunodéprimé"),"🟣 ADAPTÉ — Vérifier schéma médecin","⚪ Prévu le "&TEXT(Y9,"DD/MM/YY")))))) -> ⚪ Saisir date prévue | AD9: =IF(AC9<>"","✅ Administré le "&TEXT(AC9,"DD/MM/YY"),IF(OR(C9="🔴 Immunodéprimé"),"⛔ CONTRE-INDIQUÉ — Avis médecin obligatoire",IF(AB9="","⚪ Saisir date prévue",IF(TODAY()>AB9,"🔴 URGENT — Dû depuis "&TEXT(TODAY()-AB9,"0")&" j",IF(TODAY()>=AB9-30,"🟠 RAPPEL — Dans "&TEXT(AB9-TODAY(),"0")&" j","⚪ Prévu le "&TEXT(AB9,"DD/MM/YY")))))) -> ⚪ Saisir date prévue | AG9: =IF(AF9<>"","✅ Administré le "&TEXT(AF9,"DD/MM/YY"),IF(OR(C9="🔴 Immunodéprimé"),"⛔ CONTRE-INDIQUÉ — Avis médecin obligatoire",IF(AE9="","⚪ Saisir date prévue",IF(TODAY()>AE9,"🔴 URGENT — Dû depuis "&TEXT(TODAY()-AE9,"0")&" j",IF(TODAY()>=AE9-30,"🟠 RAPPEL — Dans "&TEXT(AE9-TODAY(),"0")&" j","⚪ Prévu le "&TEXT(AE9,"DD/MM/YY")))))) -> ⚪ Saisir date prévue | AJ9: =IF(AI9<>"","✅ Administré le "&TEXT(AI9,"DD/MM/YY"),IF(OR(C9="🔵 Cardiopathie",C9="🔴 Immunodéprimé",C9="🟣 Prématuré"),"🔵 RECOMMANDÉ — Contacter médecin référent","⚪ Non prioritaire pour ce profil")) -> ⚪ Non prioritaire pour ce profil | AM9: =IF(AL9<>"","✅ Administré le "&TEXT(AL9,"DD/MM/YY"),IF(OR(C9="🔴 Immunodéprimé"),"⛔ CONTRE-INDIQUÉ — Avis médecin obligatoire",IF(AK9="","⚪ Saisir date prévue",IF(TODAY()>AK9,"🔴 URGENT — Dû depuis "&TEXT(TODAY()-AK9,"0")&" j",IF(TODAY()>=AK9-30,"🟠 RAPPEL — Dans "&TEXT(AK9-TODAY(),"0")&" j","⚪ Prévu le "&TEXT(AK9,"DD/MM/YY")))))) -> ⚪ Saisir date prévue | AP9: =IF(AO9<>"","✅ Administré le "&TEXT(AO9,"DD/MM/YY"),IF(OR(C9="🔵 Cardiopathie",C9="🔴 Immunodéprimé",C9="🟣 Prématuré"),"🔵 RECOMMANDÉ — Contacter médecin référent","⚪ Non prioritaire pour ce profil")) -> ⚪ Non prioritaire pour ce profil
A10: 3 | F10: =IF(E10<>"","✅ Administré le "&TEXT(E10,"DD/MM/YY"),IF(D10="","⚪ Saisir date prévue",IF(TODAY()>D10,"🔴 URGENT — Dû depuis "&TEXT(TODAY()-D10,"0")&" j",IF(TODAY()>=D10-30,"🟠 RAPPEL — Dans "&TEXT(D10-TODAY(),"0")&" j",IF(OR(C10="🟣 Prématuré",C10="🔴 Immunodéprimé"),"🟣 ADAPTÉ — Vérifier schéma médecin","⚪ Prévu le "&TEXT(D10,"DD/MM/YY")))))) -> ⚪ Saisir date prévue | I10: =IF(H10<>"","✅ Administré le "&TEXT(H10,"DD/MM/YY"),IF(G10="","⚪ Saisir date prévue",IF(TODAY()>G10,"🔴 URGENT — Dû depuis "&TEXT(TODAY()-G10,"0")&" j",IF(TODAY()>=G10-30,"🟠 RAPPEL — Dans "&TEXT(G10-TODAY(),"0")&" j",IF(OR(C10="🟣 Prématuré",C10="🔴 Immunodéprimé"),"🟣 ADAPTÉ — Vérifier schéma médecin","⚪ Prévu le "&TEXT(G10,"DD/MM/YY")))))) -> ⚪ Saisir date prévue | L10: =IF(K10<>"","✅ Administré le "&TEXT(K10,"DD/MM/YY"),IF(J10="","⚪ Saisir date prévue",IF(TODAY()>J10,"🔴 URGENT — Dû depuis "&TEXT(TODAY()-J10,"0")&" j",IF(TODAY()>=J10-30,"🟠 RAPPEL — Dans "&TEXT(J10-TODAY(),"0")&" j",IF(OR(C10="🟣 Prématuré",C10="🔴 Immunodéprimé"),"🟣 ADAPTÉ — Vérifier schéma médecin","⚪ Prévu le "&TEXT(J10,"DD/MM/YY")))))) -> ⚪ Saisir date prévue | O10: =IF(N10<>"","✅ Administré le "&TEXT(N10,"DD/MM/YY"),IF(M10="","⚪ Saisir date prévue",IF(TODAY()>M10,"🔴 URGENT — Dû depuis "&TEXT(TODAY()-M10,"0")&" j",IF(TODAY()>=M10-30,"🟠 RAPPEL — Dans "&TEXT(M10-TODAY(),"0")&" j",IF(OR(C10="🟣 Prématuré",C10="🔴 Immunodéprimé"),"🟣 ADAPTÉ — Vérifier schéma médecin","⚪ Prévu le "&TEXT(M10,"DD/MM/YY")))))) -> ⚪ Saisir date prévue | R10: =IF(Q10<>"","✅ Administré le "&TEXT(Q10,"DD/MM/YY"),IF(P10="","⚪ Saisir date prévue",IF(TODAY()>P10,"🔴 URGENT — Dû depuis "&TEXT(TODAY()-P10,"0")&" j",IF(TODAY()>=P10-30,"🟠 RAPPEL — Dans "&TEXT(P10-TODAY(),"0")&" j",IF(OR(C10="🟣 Prématuré",C10="🔴 Immunodéprimé"),"🟣 ADAPTÉ — Vérifier schéma médecin","⚪ Prévu le "&TEXT(P10,"DD/MM/YY")))))) -> ⚪ Saisir date prévue | U10: =IF(T10<>"","✅ Administré le "&TEXT(T10,"DD/MM/YY"),IF(S10="","⚪ Saisir date prévue",IF(TODAY()>S10,"🔴 URGENT — Dû depuis "&TEXT(TODAY()-S10,"0")&" j",IF(TODAY()>=S10-30,"🟠 RAPPEL — Dans "&TEXT(S10-TODAY(),"0")&" j",IF(OR(C10="🟣 Prématuré",C10="🔴 Immunodéprimé"),"🟣 ADAPTÉ — Vérifier schéma médecin","⚪ Prévu le "&TEXT(S10,"DD/MM/YY")))))) -> ⚪ Saisir date prévue | X10: =IF(W10<>"","✅ Administré le "&TEXT(W10,"DD/MM/YY"),IF(V10="","⚪ Saisir date prévue",IF(TODAY()>V10,"🔴 URGENT — Dû depuis "&TEXT(TODAY()-V10,"0")&" j",IF(TODAY()>=V10-30,"🟠 RAPPEL — Dans "&TEXT(V10-TODAY(),"0")&" j",IF(OR(C10="🟣 Prématuré",C10="🔴 Immunodéprimé"),"🟣 ADAPTÉ — Vérifier schéma médecin","⚪ Prévu le "&TEXT(V10,"DD/MM/YY")))))) -> ⚪ Saisir date prévue | AA10: =IF(Z10<>"","✅ Administré le "&TEXT(Z10,"DD/MM/YY"),IF(Y10="","⚪ Saisir date prévue",IF(TODAY()>Y10,"🔴 URGENT — Dû depuis "&TEXT(TODAY()-Y10,"0")&" j",IF(TODAY()>=Y10-30,"🟠 RAPPEL — Dans "&TEXT(Y10-TODAY(),"0")&" j",IF(OR(C10="🟣 Prématuré",C10="🔴 Immunodéprimé"),"🟣 ADAPTÉ — Vérifier schéma médecin","⚪ Prévu le "&TEXT(Y10,"DD/MM/YY")))))) -> ⚪ Saisir date prévue | AD10: =IF(AC10<>"","✅ Administré le "&TEXT(AC10,"DD/MM/YY"),IF(OR(C10="🔴 Immunodéprimé"),"⛔ CONTRE-INDIQUÉ — Avis médecin obligatoire",IF(AB10="","⚪ Saisir date prévue",IF(TODAY()>AB10,"🔴 URGENT — Dû depuis "&TEXT(TODAY()-AB10,"0")&" j",IF(TODAY()>=AB10-30,"🟠 RAPPEL — Dans "&TEXT(AB10-TODAY(),"0")&" j","⚪ Prévu le "&TEXT(AB10,"DD/MM/YY")))))) -> ⚪ Saisir date prévue | AG10: =IF(AF10<>"","✅ Administré le "&TEXT(AF10,"DD/MM/YY"),IF(OR(C10="🔴 Immunodéprimé"),"⛔ CONTRE-INDIQUÉ — Avis médecin obligatoire",IF(AE10="","⚪ Saisir date prévue",IF(TODAY()>AE10,"🔴 URGENT — Dû depuis "&TEXT(TODAY()-AE10,"0")&" j",IF(TODAY()>=AE10-30,"🟠 RAPPEL — Dans "&TEXT(AE10-TODAY(),"0")&" j","⚪ Prévu le "&TEXT(AE10,"DD/MM/YY")))))) -> ⚪ Saisir date prévue | AJ10: =IF(AI10<>"","✅ Administré le "&TEXT(AI10,"DD/MM/YY"),IF(OR(C10="🔵 Cardiopathie",C10="🔴 Immunodéprimé",C10="🟣 Prématuré"),"🔵 RECOMMANDÉ — Contacter médecin référent","⚪ Non prioritaire pour ce profil")) -> ⚪ Non prioritaire pour ce profil | AM10: =IF(AL10<>"","✅ Administré le "&TEXT(AL10,"DD/MM/YY"),IF(OR(C10="🔴 Immunodéprimé"),"⛔ CONTRE-INDIQUÉ — Avis médecin obligatoire",IF(AK10="","⚪ Saisir date prévue",IF(TODAY()>AK10,"🔴 URGENT — Dû depuis "&TEXT(TODAY()-AK10,"0")&" j",IF(TODAY()>=AK10-30,"🟠 RAPPEL — Dans "&TEXT(AK10-TODAY(),"0")&" j","⚪ Prévu le "&TEXT(AK10,"DD/MM/YY")))))) -> ⚪ Saisir date prévue | AP10: =IF(AO10<>"","✅ Administré le "&TEXT(AO10,"DD/MM/YY"),IF(OR(C10="🔵 Cardiopathie",C10="🔴 Immunodéprimé",C10="🟣 Prématuré"),"🔵 RECOMMANDÉ — Contacter médecin référent","⚪ Non prioritaire pour ce profil")) -> ⚪ Non prioritaire pour ce profil
